BEGIN:VCALENDAR
VERSION:2.0
PRODID:-//ちひろ Official Website ～金子みすゞの心を歌う～  CHIHIRO Official Website - MISUZU KANEKO- - ECPv6.15.11//NONSGML v1.0//EN
CALSCALE:GREGORIAN
METHOD:PUBLISH
X-WR-CALNAME:ちひろ Official Website ～金子みすゞの心を歌う～  CHIHIRO Official Website - MISUZU KANEKO-
X-ORIGINAL-URL:https://chihirosound.com
X-WR-CALDESC:ちひろ Official Website ～金子みすゞの心を歌う～  CHIHIRO Official Website - MISUZU KANEKO- のイベント
REFRESH-INTERVAL;VALUE=DURATION:PT1H
X-Robots-Tag:noindex
X-PUBLISHED-TTL:PT1H
BEGIN:VTIMEZONE
TZID:Asia/Tokyo
BEGIN:STANDARD
TZOFFSETFROM:+0900
TZOFFSETTO:+0900
TZNAME:JST
DTSTART:20230101T000000
END:STANDARD
END:VTIMEZONE
BEGIN:VEVENT
DTSTART;TZID=Asia/Tokyo:20240927T104500
DTEND;TZID=Asia/Tokyo:20240927T134000
DTSTAMP:20260420T075546
CREATED:20240321T022257Z
LAST-MODIFIED:20240903T060229Z
UID:19054-1727433900-1727444400@chihirosound.com
SUMMARY:Concert〔島根県〕
DESCRIPTION:【Title】「第63回 中・四国地区仏教婦人会大会」ちひろステージ\n●と　き：　9月27日（金） \n●ところ：　島根県民会館 大ホール（島根県松江市） \n●時　間：　前席／10：45～　　後席／12：50～　 \n●対　象：　関係者のみ \n●主　催：　浄土真宗本願寺派　山陰教区仏教婦人会連盟
URL:https://chihirosound.com/event/19054
LOCATION:三重県
CATEGORIES:オススメ,コンサート
END:VEVENT
END:VCALENDAR