BEGIN:VCALENDAR
VERSION:2.0
PRODID:-//ちひろ Official Website ～金子みすゞの心を歌う～  CHIHIRO Official Website - MISUZU KANEKO- - ECPv6.15.11//NONSGML v1.0//EN
CALSCALE:GREGORIAN
METHOD:PUBLISH
X-ORIGINAL-URL:https://chihirosound.com
X-WR-CALDESC:ちひろ Official Website ～金子みすゞの心を歌う～  CHIHIRO Official Website - MISUZU KANEKO- のイベント
REFRESH-INTERVAL;VALUE=DURATION:PT1H
X-Robots-Tag:noindex
X-PUBLISHED-TTL:PT1H
BEGIN:VTIMEZONE
TZID:Asia/Tokyo
BEGIN:STANDARD
TZOFFSETFROM:+0900
TZOFFSETTO:+0900
TZNAME:JST
DTSTART:20230101T000000
END:STANDARD
END:VTIMEZONE
BEGIN:VEVENT
DTSTART;TZID=Asia/Tokyo:20240925T110000
DTEND;TZID=Asia/Tokyo:20240925T113000
DTSTAMP:20260420T075534
CREATED:20240321T015706Z
LAST-MODIFIED:20240424T141927Z
UID:18990-1727262000-1727263800@chihirosound.com
SUMMARY:Radio「みすゞさんと明るいほうへ」
DESCRIPTION:💐Radio・ちひろレギュラー全国放送番組💐\n金子みすゞの詩の朗読・みすゞヒストリー・放送各地のおススメの〇〇・リスナーメッセージ等 \nちひろがお届けする ❤ 30分番組です♪ \n  \n●番組名：　『みすゞさんと明るいほうへ』　　番組ホームページはこちら \n●パーソナリティ：　ちひろ \n  \n●レギュラー放送時間：　 \n☆毎週水曜日 11：00～／FM-NANAKO、FM AQUA、COME ON！FM、しゅうなんFM \n　　　　　　 11：30～／FMはつかいち　　13：00～／FMスマイルウエ～ブ \n☆毎週土曜日 朝9：00～／FMわっしょい \n★毎週日曜日 朝5：25～／全国放送（全国のコミュニティFM） \n☆毎週月曜日 20：30～／ULTRA FM \n　　　　　　 21：30～／KOCOラジ＜郡山コミュニティ放送＞　 \n  \n●再放送：　FM-NANAKO／毎週土曜日 15：00～　　FM AQUA／毎週日曜日 11：00～ \n  \n●周波数：　JCBA（全国のコミュニティFM） \n●インターネットで聴く：　※全国どこでもインターネットでラジオが聴けるページです。 \n■JCBAインターネットサイマルラジオで聴く \n  \n中国地区の「COME ON! FM」  or  「しゅうなんFM」　の　「LISTEN♪」　をクリックしてください♪ \n■COME ON! FMをインターネットで聴く \n■FMはつかいちをインターネットで聴く \n■FMスマイルウエ～ブをインターネットで聴く \n■FMわっしょいをインターネットで聴く \n■ULTRA FMをインターネットで聴く \n  \n■サイマルラジオで聴く \n東北地区の「郡山コミュニティ放送」　の　「放送を聴く」　をクリックしてください♪ \n■KOCOラジ＜郡山コミュニティ放送＞をインターネットで聴く \n  \n●リクエスト＆メッセージ🎵：　番組フォーマット　or　misuzufm.0407@gmail.com \n 
URL:https://chihirosound.com/event/18990
LOCATION:三重県
CATEGORIES:オススメ,ラジオ
END:VEVENT
BEGIN:VEVENT
DTSTART;TZID=Asia/Tokyo:20240925T140000
DTEND;TZID=Asia/Tokyo:20240925T153000
DTSTAMP:20260420T075534
CREATED:20240409T150138Z
LAST-MODIFIED:20240514T045547Z
UID:19048-1727272800-1727278200@chihirosound.com
SUMMARY:Concert〔山口県〕
DESCRIPTION:【Title】「下関市暮らしと人権セミナー」＜第2回＞\n『金子みすゞ全集』発行40周年　金子みすゞを語り、歌う \n  \n●と　き：　9月25日（水） \n●ところ：　滝部公民館（滝部活動拠点施設・太陽館）＜山口県下関市豊北町大字滝部3397番地12＞ \n※会場の地図はこちら \n※第1回の会場とは日にち・会場が異なりますのでご注意くださいませ♪ \n●時　間：　午後2：00～3：30 \n  \n●入　場：　無料 \n●定　員：　100名　　事前申込制　　申込〆切 5月31日（金） \n●対　象：　下関市内在住・在学・在勤の方 \n  \n●お問合せ・お申込先：　下関市 市民部 人権・男女共同参画課 \n電話、FAX（裏面）、ホームページのお申込みフォーム（QRコード）のいずれかでお申込みください \n電話／083-222-0827　　FAX／083-231-1437　　HP お申込みフォームはこちら \n●主　催：　下関市 市民部 人権・男女共同参画課 \n  \nPDFはこちら（表） \nPDFはこちら（裏）
URL:https://chihirosound.com/event/19048
LOCATION:滝部公民館（滝部活動拠点施設・太陽館）\, 山口県下関市豊北町大字滝部3397番地12\, 下関市\, 山口県\, 759-5511\, 日本
CATEGORIES:オススメ,コンサート
ATTACH;FMTTYPE=image/jpeg:https://chihirosound.com/wp-content/uploads/2024/04/185c050f151a90e8978099b61aa2cd0f-scaled.jpg
END:VEVENT
END:VCALENDAR