BEGIN:VCALENDAR
VERSION:2.0
PRODID:-//ちひろ Official Website ～金子みすゞの心を歌う～  CHIHIRO Official Website - MISUZU KANEKO- - ECPv6.15.11//NONSGML v1.0//EN
CALSCALE:GREGORIAN
METHOD:PUBLISH
X-ORIGINAL-URL:https://chihirosound.com
X-WR-CALDESC:ちひろ Official Website ～金子みすゞの心を歌う～  CHIHIRO Official Website - MISUZU KANEKO- のイベント
REFRESH-INTERVAL;VALUE=DURATION:PT1H
X-Robots-Tag:noindex
X-PUBLISHED-TTL:PT1H
BEGIN:VTIMEZONE
TZID:Asia/Tokyo
BEGIN:STANDARD
TZOFFSETFROM:+0900
TZOFFSETTO:+0900
TZNAME:JST
DTSTART:20230101T000000
END:STANDARD
END:VTIMEZONE
BEGIN:VEVENT
DTSTART;TZID=Asia/Tokyo:20240920T133000
DTEND;TZID=Asia/Tokyo:20240920T150000
DTSTAMP:20260420T075534
CREATED:20240425T022035Z
LAST-MODIFIED:20240803T071913Z
UID:19542-1726839000-1726844400@chihirosound.com
SUMMARY:Concert〔大分県〕
DESCRIPTION:【Title】令和6年度　学びのまちづくり市民大学講座　金子みすゞを語り、歌う。ちひろコンサート\n●と　き：　9月20日（金）　 \n●ところ：　大分県臼杵市野津中央公民館大ホール（ 大分県臼杵市野津町大字野津市184） \n※会場の地図はこちら \n●時　間：　13:30～15:00 \n●対　象：　関係者、どなたでもOK \n●主　催：　臼杵市 \nPDFはこちら
URL:https://chihirosound.com/event/19542
LOCATION:大分県臼杵市野津中央公民館\, 大分県臼杵市野津町大字野津市１８４\, 臼杵市\, 大分県\, 875-0201\, 日本
CATEGORIES:オススメ,コンサート
ATTACH;FMTTYPE=image/jpeg:https://chihirosound.com/wp-content/uploads/2024/04/3494439a9a71fbfa63bc8940dfc2eb56.jpg
END:VEVENT
END:VCALENDAR