BEGIN:VCALENDAR
VERSION:2.0
PRODID:-//ちひろ Official Website ～金子みすゞの心を歌う～  CHIHIRO Official Website - MISUZU KANEKO- - ECPv6.15.11//NONSGML v1.0//EN
CALSCALE:GREGORIAN
METHOD:PUBLISH
X-ORIGINAL-URL:https://chihirosound.com
X-WR-CALDESC:ちひろ Official Website ～金子みすゞの心を歌う～  CHIHIRO Official Website - MISUZU KANEKO- のイベント
REFRESH-INTERVAL;VALUE=DURATION:PT1H
X-Robots-Tag:noindex
X-PUBLISHED-TTL:PT1H
BEGIN:VTIMEZONE
TZID:Asia/Tokyo
BEGIN:STANDARD
TZOFFSETFROM:+0900
TZOFFSETTO:+0900
TZNAME:JST
DTSTART:20230101T000000
END:STANDARD
END:VTIMEZONE
BEGIN:VEVENT
DTSTART;TZID=Asia/Tokyo:20240918T110000
DTEND;TZID=Asia/Tokyo:20240918T113000
DTSTAMP:20260420T075534
CREATED:20240321T020328Z
LAST-MODIFIED:20240424T141841Z
UID:19006-1726657200-1726659000@chihirosound.com
SUMMARY:Radio「みすゞさんと明るいほうへ」
DESCRIPTION:💐Radio・ちひろレギュラー全国放送番組💐\n金子みすゞの詩の朗読・みすゞヒストリー・放送各地のおススメの〇〇・リスナーメッセージ等 \nちひろがお届けする ❤ 30分番組です♪ \n  \n●番組名：　『みすゞさんと明るいほうへ』　　番組ホームページはこちら \n●パーソナリティ：　ちひろ \n  \n●レギュラー放送時間：　 \n☆毎週水曜日 11：00～／FM-NANAKO、FM AQUA、COME ON！FM、しゅうなんFM \n　　　　　　 11：30～／FMはつかいち　　13：00～／FMスマイルウエ～ブ \n☆毎週土曜日 朝9：00～／FMわっしょい \n★毎週日曜日 朝5：25～／全国放送（全国のコミュニティFM） \n☆毎週月曜日 20：30～／ULTRA FM \n　　　　　　 21：30～／KOCOラジ＜郡山コミュニティ放送＞　 \n  \n●再放送：　FM-NANAKO／毎週土曜日 15：00～　　FM AQUA／毎週日曜日 11：00～ \n  \n●周波数：　JCBA（全国のコミュニティFM） \n●インターネットで聴く：　※全国どこでもインターネットでラジオが聴けるページです。 \n■JCBAインターネットサイマルラジオで聴く \n  \n中国地区の「COME ON! FM」  or  「しゅうなんFM」　の　「LISTEN♪」　をクリックしてください♪ \n■COME ON! FMをインターネットで聴く \n■FMはつかいちをインターネットで聴く \n■FMスマイルウエ～ブをインターネットで聴く \n■FMわっしょいをインターネットで聴く \n■ULTRA FMをインターネットで聴く \n  \n■サイマルラジオで聴く \n東北地区の「郡山コミュニティ放送」　の　「放送を聴く」　をクリックしてください♪ \n■KOCOラジ＜郡山コミュニティ放送＞をインターネットで聴く \n  \n●リクエスト＆メッセージ🎵：　番組フォーマット　or　misuzufm.0407@gmail.com \n 
URL:https://chihirosound.com/event/19006
LOCATION:三重県
CATEGORIES:オススメ,ラジオ
END:VEVENT
BEGIN:VEVENT
DTSTART;TZID=Asia/Tokyo:20240918T140000
DTEND;TZID=Asia/Tokyo:20240918T153000
DTSTAMP:20260420T075534
CREATED:20240814T150032Z
LAST-MODIFIED:20240820T053224Z
UID:18184-1726668000-1726673400@chihirosound.com
SUMMARY:Concert〔福岡市早良区〕
DESCRIPTION:【Title】「令和6年度 第2回早良区人権講座」人権コンサート　みんなちがって、みんないい生き方を　～金子みすゞの心とともに～\n●と　き：　9月18日（水） \n●ところ：　福岡市立早良市民センター 4階 ホール（福岡県福岡市早良区百道2丁目2-1）  \n※会場の地図はこちら \n●時　間：　開場／13：30　　開演／14：00～15：30 \n●入場料：　無料 \n●定　員：　会場先着 500名 \n●お申込方法：　不要 \n●対　象：　どなたでもOK \n  \n●託　児：　あり（当日、講演中、未就学児の無料託児あります。１週間前までに早良市民センターへ電話でお申込みください） \n●手話通訳・要約筆記：　あり \n  \n●主　催：　早良市民センター・早良区役所 \n●お問合せ：　早良市民センター（092-831-2321 ）　sawaracivic@hotmail.co.jp \n  \nPDFはこちら
URL:https://chihirosound.com/event/18184
LOCATION:福岡市早良市民センター\, 〒814-0006 福岡県福岡市早良区百道2丁目2-1\, 福岡市\, 福岡県\, 814-0006\, 日本
CATEGORIES:オススメ,コンサート
ATTACH;FMTTYPE=image/jpeg:https://chihirosound.com/wp-content/uploads/2024/08/321aba5e06260b60aaf80eee63e69f5d-scaled.jpg
ORGANIZER;CN="%E6%97%A9%E8%89%AF%E5%B8%82%E6%B0%91%E3%82%BB%E3%83%B3%E3%82%BF%E3%83%BC%E3%83%BB%E6%97%A9%E8%89%AF%E5%8C%BA%E5%BD%B9%E6%89%80%E5%85%B1%E5%82%AC":MAILTO:sawaracivic@hotmail.co.jp
END:VEVENT
END:VCALENDAR