BEGIN:VCALENDAR
VERSION:2.0
PRODID:-//ちひろ Official Website ～金子みすゞの心を歌う～  CHIHIRO Official Website - MISUZU KANEKO- - ECPv6.15.11//NONSGML v1.0//EN
CALSCALE:GREGORIAN
METHOD:PUBLISH
X-ORIGINAL-URL:https://chihirosound.com
X-WR-CALDESC:ちひろ Official Website ～金子みすゞの心を歌う～  CHIHIRO Official Website - MISUZU KANEKO- のイベント
REFRESH-INTERVAL;VALUE=DURATION:PT1H
X-Robots-Tag:noindex
X-PUBLISHED-TTL:PT1H
BEGIN:VTIMEZONE
TZID:Asia/Tokyo
BEGIN:STANDARD
TZOFFSETFROM:+0900
TZOFFSETTO:+0900
TZNAME:JST
DTSTART:20230101T000000
END:STANDARD
END:VTIMEZONE
BEGIN:VEVENT
DTSTART;TZID=Asia/Tokyo:20240914T180000
DTEND;TZID=Asia/Tokyo:20240914T201500
DTSTAMP:20260420T075534
CREATED:20240124T062454Z
LAST-MODIFIED:20240507T135021Z
UID:18476-1726336800-1726344900@chihirosound.com
SUMMARY:20th Anniversary Concert〔山口県〕
DESCRIPTION:【Title】ちひろ 20th Anniversary Dinner Concert ～金子みすゞを歌って20周年～\n●と　き：　9月14日（土） \n●ところ：　山口グランドホテル 2F レディアンスホール（山口県山口市小郡黄金町1-1） \n※会場の地図はこちら \n●時　間：　17：30／受付　18：00／食事　19：00／開演 \n  \n●チケット発売日：　一般発売  5月21日（火）午前10：00～ \n●チケット：　12\,000円（税込）　※コンサート・ディナー・ドリンク・サービス料込 \n（お申込は9月9日まで。当日券はございません。） \n●席　種：　当日指定 \n  \n●プレイガイド：　 \n＜　山口井筒屋 総合サービスサロン　＞　★電話お問合せ／083-902-1216 \n  \n全国のローソン・ミニストップ・セブンイレブンにてご購入いただけます \n＜  ローソンチケット（Lコード： 84565）※webへアクセス（ご購入ページ）5月21日～　＞ \n＜　チケットぴあ（Pコード： 269403） ※webへアクセス（ご購入ページ）5月21日～　＞ \n  \n＜　信光寺（山口市小郡下郷938-1）＞　★電話お問合せ／083-972-0599 \n＜　株式会社ベルミューズ　＞　★電話予約／083-920-4277 \n  \n●注意事項：　未就学児の入場はお控えください。お酒を飲まれる方はお車の運転はお控えください \n●お問合せ：　株式会社ベルミューズ（電話／083-920-4277） \n  \n●主　催：　株式会社ベルミューズ \n●後　援：　公益財団法人 防長倶楽部、山口新聞社、中国新聞防長本社、宇部日報社、KRY山口放送、tysテレビ山口、yab山口朝日放送、山口ケーブルビジョン、エフエム山口、信光寺 \n●協　力：　金子みすゞ記念館・NPO法人金子みすゞ顕彰会・JULA出版局 \nPDFはこちら（表） \nPDFはこちら（裏） \n \n 
URL:https://chihirosound.com/event/18476
LOCATION:山口グランドホテル\, 山口県山口市小郡黄金町1-1\, 山口市\, 山口県\, 754-0021\, Japan
CATEGORIES:オススメ,コンサート
ATTACH;FMTTYPE=image/jpeg:https://chihirosound.com/wp-content/uploads/2024/01/f2f9d572e108e0a57570ea7514af77a2-scaled.jpg
END:VEVENT
END:VCALENDAR