BEGIN:VCALENDAR
VERSION:2.0
PRODID:-//ちひろ Official Website ～金子みすゞの心を歌う～  CHIHIRO Official Website - MISUZU KANEKO- - ECPv6.15.11//NONSGML v1.0//EN
CALSCALE:GREGORIAN
METHOD:PUBLISH
X-ORIGINAL-URL:https://chihirosound.com
X-WR-CALDESC:ちひろ Official Website ～金子みすゞの心を歌う～  CHIHIRO Official Website - MISUZU KANEKO- のイベント
REFRESH-INTERVAL;VALUE=DURATION:PT1H
X-Robots-Tag:noindex
X-PUBLISHED-TTL:PT1H
BEGIN:VTIMEZONE
TZID:Asia/Tokyo
BEGIN:STANDARD
TZOFFSETFROM:+0900
TZOFFSETTO:+0900
TZNAME:JST
DTSTART:20230101T000000
END:STANDARD
END:VTIMEZONE
BEGIN:VEVENT
DTSTART;TZID=Asia/Tokyo:20240615T110000
DTEND;TZID=Asia/Tokyo:20240621T170000
DTSTAMP:20260420T132042
CREATED:20240610T143456Z
LAST-MODIFIED:20240610T143456Z
UID:19766-1718449200-1718989200@chihirosound.com
SUMMARY:Cable TV【山口県】
DESCRIPTION:【Title】J:COM チャンネル下関「ジモトトピックス」で放送！\n  \n●と　き：　 \n■6月15日（土）11：00／初回放送　①11：00～　②17：00～　③20：30～　④翌7：00～ \n※ 21日（金）17：00までの再放送 \n詳しい番組表はこちら \n  \n●放送局：　J:COM チャンネル下関 \n●番　組：　「ジモトトピックス」 \n●概　要：　6月8日に開催された「令和6年度 暮らしと人権セミナー」ちひろコンサートの様子がニュースとして放送されます！ \n●ご視聴方法：　対象エリアの加入者（下関市  ※菊川町／豊浦町は一部） \n地域情報アプリ「ど・ろーかる」でどなたでもご覧いただけます
URL:https://chihirosound.com/event/19766
LOCATION:三重県
CATEGORIES:オススメ,テレビ
END:VEVENT
BEGIN:VEVENT
DTSTART;TZID=Asia/Tokyo:20240621T140000
DTEND;TZID=Asia/Tokyo:20240621T201500
DTSTAMP:20260420T132042
CREATED:20240220T055539Z
LAST-MODIFIED:20240403T053853Z
UID:18717-1718978400-1719000900@chihirosound.com
SUMMARY:20th Anniversary〔北九州市門司区〕
DESCRIPTION:【Title】ちひろ 20th Anniversary ～金子みすゞを歌って20周年～ \n＜昼公演＞ \n◆ 矢崎 節夫 講演会「みすゞさんの宇宙」 \n◆ ちひろコンサート ～金子みすゞの心とともに～ \n  \n＜夜公演＞ \n◆ ちひろコンサート ～金子みすゞとCover Songs～ \n  \n●と　き：　6月21日（金） \n●ところ：　門司市民会館（北九州市門司区老松町3-2） \n※会場の地図はこちら \n●時　間：　＜①昼・②夜 入替制 2回公演＞ \n①14：00／開演（13：30開場）　　②18：30／開演（18：00開場） \n  \n●チケット発売日：　一般発売 　4月11日（木）午前10：00～ \n●チケット：　 \n①昼公演　前売4\,000円　当日4\,500円（税込） \n②夜公演　前売3\,000円　当日3\,500円（税込） \n③昼夜セットチケット　前売6\,000円　当日7\,000円（税込） \n  \n●席　種：　全席自由 \n●プレイガイド：　 \n＜　門司市民会館　＞　★お問合せ／093-321-2907 \n＜　喫茶こがねむし　＞　★お問合せ／093-332-2585 \n＜　株式会社ベルミューズ　＞　★電話予約・注文／083-920-4277 \n  \n全国のローソン・ミニストップ・セブンイレブンにてご購入いただけます \n＜  ローソンチケット（Lコード： 84564）※webへアクセス（ご購入ページ）4月11日～　＞ \n＜　チケットぴあ（Pコード： 267262） ※webへアクセス（ご購入ページ）4月11日～　＞ \n  \n  \n●注意事項：　未就学児の入場はお控えください \n●主催・お問合せ：　株式会社ベルミューズ（電話／083-920-4277） \n●後　援：　西日本新聞社・TNCテレビ西日本、FBS福岡放送 \n●協　力：　金子みすゞ記念館・NPO法人金子みすゞ顕彰会・JULA出版局 \n  \nPDFはこちら＜表＞ \nPDFはこちら＜裏＞ \n \n 
URL:https://chihirosound.com/event/18717
LOCATION:門司市民会館\, 福岡県北九州市門司区老松町３−２\, 北九州市\, 福岡県\, 801-0864\, 日本
CATEGORIES:オススメ,コンサート
ATTACH;FMTTYPE=image/jpeg:https://chihirosound.com/wp-content/uploads/2024/04/45bcc6d8e029bd11cb1982bfb2c282af-scaled.jpg
END:VEVENT
END:VCALENDAR