BEGIN:VCALENDAR
VERSION:2.0
PRODID:-//ちひろ Official Website ～金子みすゞの心を歌う～  CHIHIRO Official Website - MISUZU KANEKO- - ECPv6.15.11//NONSGML v1.0//EN
CALSCALE:GREGORIAN
METHOD:PUBLISH
X-ORIGINAL-URL:https://chihirosound.com
X-WR-CALDESC:ちひろ Official Website ～金子みすゞの心を歌う～  CHIHIRO Official Website - MISUZU KANEKO- のイベント
REFRESH-INTERVAL;VALUE=DURATION:PT1H
X-Robots-Tag:noindex
X-PUBLISHED-TTL:PT1H
BEGIN:VTIMEZONE
TZID:Asia/Tokyo
BEGIN:STANDARD
TZOFFSETFROM:+0900
TZOFFSETTO:+0900
TZNAME:JST
DTSTART:20230101T000000
END:STANDARD
END:VTIMEZONE
BEGIN:VEVENT
DTSTART;VALUE=DATE:20240518
DTEND;VALUE=DATE:20240519
DTSTAMP:20260420T150409
CREATED:20240220T055352Z
LAST-MODIFIED:20240507T133007Z
UID:18713-1715990400-1716076799@chihirosound.com
SUMMARY:20th Anniversary Concert〔東京都世田谷区〕
DESCRIPTION:【Title】ちひろ 20th Anniversary CONCERT\n●と　き：　5月18日（土） \n●ところ：　二子玉川エクセルホテル東急（東京都世田谷区玉川1丁目14-1　二子玉川ライズ30F） \n会場の地図はこちら \n●時　間：　OPEN／17：30　START／18：00 \n●会　費：　15\,000円（税込）洋食ディナーフルコース料理+フリードリンク+コンサート\n　　　　　　（内、2\,000円を能登半島地震被災者支援とがん啓発活動関係に寄付いたします） \n  \n●お問合せ・お申込み：　実行委員長　小林 和明（090-2490-4328） \n●お申込み締切：　5月10日（金）までにお申し込みください \n●主　催：　ちひろ20周年記念コンサート実行委員会 \nPDFはこちら（表） \nPDFはこちら（裏）
URL:https://chihirosound.com/event/18713
LOCATION:二子玉川ライズ　エクセルホテル東急\, 東京都世田谷区玉川1丁目14-1　二子玉川ライズ30F\, 東京都\, 東京都\, 158-0094\, 日本
CATEGORIES:オススメ,コンサート
ATTACH;FMTTYPE=image/jpeg:https://chihirosound.com/wp-content/uploads/2024/03/1-scaled.jpg
END:VEVENT
END:VCALENDAR