BEGIN:VCALENDAR
VERSION:2.0
PRODID:-//ちひろ Official Website ～金子みすゞの心を歌う～  CHIHIRO Official Website - MISUZU KANEKO- - ECPv6.15.11//NONSGML v1.0//EN
CALSCALE:GREGORIAN
METHOD:PUBLISH
X-ORIGINAL-URL:https://chihirosound.com
X-WR-CALDESC:ちひろ Official Website ～金子みすゞの心を歌う～  CHIHIRO Official Website - MISUZU KANEKO- のイベント
REFRESH-INTERVAL;VALUE=DURATION:PT1H
X-Robots-Tag:noindex
X-PUBLISHED-TTL:PT1H
BEGIN:VTIMEZONE
TZID:Asia/Tokyo
BEGIN:STANDARD
TZOFFSETFROM:+0900
TZOFFSETTO:+0900
TZNAME:JST
DTSTART:20230101T000000
END:STANDARD
END:VTIMEZONE
BEGIN:VEVENT
DTSTART;TZID=Asia/Tokyo:20240406T133000
DTEND;TZID=Asia/Tokyo:20240406T150000
DTSTAMP:20260420T163246
CREATED:20240124T061250Z
LAST-MODIFIED:20240313T150822Z
UID:18464-1712410200-1712415600@chihirosound.com
SUMMARY:Concert〔山口県〕
DESCRIPTION:【Title】「花まつり」ちひろコンサート \nひとときを咲く～金子みすゞの心とともに～\n●と　き：　4月6日（土） \n●ところ：　西福寺 本堂（山口県岩国市岩国2丁目6-32） \n※会場の地図はこちら \n●時　間：　13：30～ \n●対　象：　門信徒、関係者、どなたでもご参加OK \n●入場料：　無料 \n●お問合せ：　西福寺（電話／0827-41-0534） \nPDFはこちら \n \n 
URL:https://chihirosound.com/event/18464
LOCATION:西福寺\, 山口県岩国市岩国２丁目６−３２\, 岩国市\, 山口県\, 741-0062\, Japan
CATEGORIES:オススメ,コンサート
ATTACH;FMTTYPE=image/jpeg:https://chihirosound.com/wp-content/uploads/2024/03/6cd066528952715ef6517c1bd068d793-scaled.jpg
END:VEVENT
END:VCALENDAR