BEGIN:VCALENDAR
VERSION:2.0
PRODID:-//ちひろ Official Website ～金子みすゞの心を歌う～  CHIHIRO Official Website - MISUZU KANEKO- - ECPv6.15.11//NONSGML v1.0//EN
CALSCALE:GREGORIAN
METHOD:PUBLISH
X-ORIGINAL-URL:https://chihirosound.com
X-WR-CALDESC:ちひろ Official Website ～金子みすゞの心を歌う～  CHIHIRO Official Website - MISUZU KANEKO- のイベント
REFRESH-INTERVAL;VALUE=DURATION:PT1H
X-Robots-Tag:noindex
X-PUBLISHED-TTL:PT1H
BEGIN:VTIMEZONE
TZID:Asia/Tokyo
BEGIN:STANDARD
TZOFFSETFROM:+0900
TZOFFSETTO:+0900
TZNAME:JST
DTSTART:20230101T000000
END:STANDARD
END:VTIMEZONE
BEGIN:VEVENT
DTSTART;TZID=Asia/Tokyo:20240126T190000
DTEND;TZID=Asia/Tokyo:20240126T220000
DTSTAMP:20260420T210049
CREATED:20240128T031020Z
LAST-MODIFIED:20240128T031250Z
UID:18521-1706295600-1706306400@chihirosound.com
SUMMARY:音信川うたあかり2024
DESCRIPTION:【Title】「音信川うたあかり2024」　\n開催期間中、ちひろの朗読「私と小鳥と鈴と」が会場に流れます ☆彡\n（朗読が会場で繰り返し流れています） \n  \n童謡詩人「金子みすゞ」の詩をテーマにした灯りイベント「音信川うたあかり」 \n  \n●と　き：　1月26日（金）～3月3日（日）　 \n●ところ：　長門湯本温泉 温信川沿い（山口県長門市深川湯本2265） \n※会場の地図はこちら \n●時　間：　日没 ～ 22：00迄 \n●入場料：　無し \n  \n●主　催：　長門湯本温泉まち株式会社 \n●共　催：　長門市、長門湯本オソト活用協議会 \n●後　援：　公益財団法人長門市文化振興財団、一般社団法人長門市観光コンベンション協会 \n●協　力：　観光庁、LEM空間工房 \n音信川うたあかり2024 特設ページ
URL:https://chihirosound.com/event/18521
LOCATION:長門湯本温泉 温信川沿い\, 山口県長門市深川湯本2265\, 長門市\, 山口県\, 日本
CATEGORIES:オススメ,その他
ATTACH;FMTTYPE=image/jpeg:https://chihirosound.com/wp-content/uploads/2024/01/utaakari2024webflyer_page-0001-scaled.jpg
END:VEVENT
END:VCALENDAR