BEGIN:VCALENDAR
VERSION:2.0
PRODID:-//ちひろ Official Website ～金子みすゞの心を歌う～  CHIHIRO Official Website - MISUZU KANEKO- - ECPv6.15.11//NONSGML v1.0//EN
CALSCALE:GREGORIAN
METHOD:PUBLISH
X-ORIGINAL-URL:https://chihirosound.com
X-WR-CALDESC:ちひろ Official Website ～金子みすゞの心を歌う～  CHIHIRO Official Website - MISUZU KANEKO- のイベント
REFRESH-INTERVAL;VALUE=DURATION:PT1H
X-Robots-Tag:noindex
X-PUBLISHED-TTL:PT1H
BEGIN:VTIMEZONE
TZID:Asia/Tokyo
BEGIN:STANDARD
TZOFFSETFROM:+0900
TZOFFSETTO:+0900
TZNAME:JST
DTSTART:20230101T000000
END:STANDARD
END:VTIMEZONE
BEGIN:VEVENT
DTSTART;TZID=Asia/Tokyo:20240122T165000
DTEND;TZID=Asia/Tokyo:20240122T175300
DTSTAMP:20260420T210048
CREATED:20231231T070754Z
LAST-MODIFIED:20240124T054023Z
UID:18180-1705942200-1705945980@chihirosound.com
SUMMARY:TV〔山口県〕
DESCRIPTION:【Title】KRY山口放送『熱血テレビ』ちひろがスタジオ生出演！\n  \n●と　き：　1月22日（月） \n●時　間：　16：50～17：53 \n●放送局：　KRY山口放送 \n●番　組：　『熱血テレビ』 \n●放送内容：　「生誕120年 今伝えたいみすゞの心」でちひろがスタジオで生歌披露！ \n  \n●ご意見・メッセージ：　メール：nekketu@kry.co.jp　FAX：0834-32-7760　　ハガキ：〒745-8686　山口放送「熱血テレビ」係 \n●放送エリア：　山口県内と周辺受信エリア
URL:https://chihirosound.com/event/18180
LOCATION:三重県
CATEGORIES:オススメ,テレビ
END:VEVENT
END:VCALENDAR