BEGIN:VCALENDAR
VERSION:2.0
PRODID:-//ちひろ Official Website ～金子みすゞの心を歌う～  CHIHIRO Official Website - MISUZU KANEKO- - ECPv6.15.11//NONSGML v1.0//EN
CALSCALE:GREGORIAN
METHOD:PUBLISH
X-ORIGINAL-URL:https://chihirosound.com
X-WR-CALDESC:ちひろ Official Website ～金子みすゞの心を歌う～  CHIHIRO Official Website - MISUZU KANEKO- のイベント
REFRESH-INTERVAL;VALUE=DURATION:PT1H
X-Robots-Tag:noindex
X-PUBLISHED-TTL:PT1H
BEGIN:VTIMEZONE
TZID:Asia/Tokyo
BEGIN:STANDARD
TZOFFSETFROM:+0900
TZOFFSETTO:+0900
TZNAME:JST
DTSTART:20220101T000000
END:STANDARD
END:VTIMEZONE
BEGIN:VEVENT
DTSTART;TZID=Asia/Tokyo:20231202T133000
DTEND;TZID=Asia/Tokyo:20231202T145000
DTSTAMP:20260420T222556
CREATED:20230924T150020Z
LAST-MODIFIED:20231107T043508Z
UID:16736-1701523800-1701528600@chihirosound.com
SUMMARY:Concert〔山口県〕
DESCRIPTION:【Title】阿武町「人権」を考える集い推進大会\nちひろコンサート みんなちがって、みんないい生き方を ～金子みすゞの心とともに～\n●と　き：　令和5年12月2日（土） \n●ところ：　阿武町町民センター 文化ホール（山口県阿武郡阿武町奈古3078-1） \n　　　　　　※会場の地図はこちら \n●時　間：　13：10～／式典 　　13：30～／記念コンサート・講演 \n●対　象：　どなたでもOK \n●入　場：　無料 \n●お問合せ：　阿武町教育委員会（電話／08388-2-0501） \nPDFはこちら \n  \n \n  \n  \n  \n  \n 
URL:https://chihirosound.com/event/16736
LOCATION:阿武町町民センター文化ホール\, 山口県阿武郡阿武町奈古3078-1\, 阿武郡\, 山口県\, 759-3622\, 日本
CATEGORIES:オススメ,コンサート
ATTACH;FMTTYPE=image/png:https://chihirosound.com/wp-content/uploads/2023/09/dc463900a05633c217aa9bc2021e7532.png
END:VEVENT
END:VCALENDAR