BEGIN:VCALENDAR
VERSION:2.0
PRODID:-//ちひろ Official Website ～金子みすゞの心を歌う～  CHIHIRO Official Website - MISUZU KANEKO- - ECPv6.15.11//NONSGML v1.0//EN
CALSCALE:GREGORIAN
METHOD:PUBLISH
X-ORIGINAL-URL:https://chihirosound.com
X-WR-CALDESC:ちひろ Official Website ～金子みすゞの心を歌う～  CHIHIRO Official Website - MISUZU KANEKO- のイベント
REFRESH-INTERVAL;VALUE=DURATION:PT1H
X-Robots-Tag:noindex
X-PUBLISHED-TTL:PT1H
BEGIN:VTIMEZONE
TZID:Asia/Tokyo
BEGIN:STANDARD
TZOFFSETFROM:+0900
TZOFFSETTO:+0900
TZNAME:JST
DTSTART:20220101T000000
END:STANDARD
END:VTIMEZONE
BEGIN:VEVENT
DTSTART;TZID=Asia/Tokyo:20231118T133000
DTEND;TZID=Asia/Tokyo:20231118T150000
DTSTAMP:20260420T234929
CREATED:20230905T080041Z
LAST-MODIFIED:20231027T104034Z
UID:17289-1700314200-1700319600@chihirosound.com
SUMMARY:Concert〔山口県〕
DESCRIPTION:【Title】第10回（通算15回）図書館フェスティバルプレイベント\nちひろコンサート　～明るいほうへ～\n●と　き：　11月18日（土） \n●ところ：　山陽小野田市立中央図書館　2F視聴覚ホール \n会場の地図はこちら \n●時　間：　13：30～15：00（開場13：00） \n●入　場：　チケット料金　一般　前売／2\,000円　当日／2\,500円 \n　　　　　　高校生以下または障がい者手帳をお持ちの方／無料（合わせて30名まで） \n●対　象：　小学生以上 \n●定　員：　80名 \n●お問合せ・お申込先：　山陽小野田市立中央図書館（こちらのページにE-mailもございます） \n　　　　　　　　　　　　電話／0836-83-2870　　FAX／0836-83-3564 \n  \n●主　催：　中央図書館フェスティバル実行委員会 \n●共　催：　山陽小野田市教育委員会 \n  \nPDFはこちら
URL:https://chihirosound.com/event/17289
LOCATION:山陽小野田市立中央図書館　2F視聴覚ホール\, 山口県山陽小野田市栄町９−１３\, 山陽小野田市\, 山口県\, 756-0802\, 日本
CATEGORIES:オススメ,コンサート
ATTACH;FMTTYPE=image/jpeg:https://chihirosound.com/wp-content/uploads/2023/10/3a3b128e3ce4c4b4cdd9163c3cc69995-scaled.jpg
END:VEVENT
END:VCALENDAR