BEGIN:VCALENDAR
VERSION:2.0
PRODID:-//ちひろ Official Website ～金子みすゞの心を歌う～  CHIHIRO Official Website - MISUZU KANEKO- - ECPv6.15.11//NONSGML v1.0//EN
CALSCALE:GREGORIAN
METHOD:PUBLISH
X-ORIGINAL-URL:https://chihirosound.com
X-WR-CALDESC:ちひろ Official Website ～金子みすゞの心を歌う～  CHIHIRO Official Website - MISUZU KANEKO- のイベント
REFRESH-INTERVAL;VALUE=DURATION:PT1H
X-Robots-Tag:noindex
X-PUBLISHED-TTL:PT1H
BEGIN:VTIMEZONE
TZID:Asia/Tokyo
BEGIN:STANDARD
TZOFFSETFROM:+0900
TZOFFSETTO:+0900
TZNAME:JST
DTSTART:20220101T000000
END:STANDARD
END:VTIMEZONE
BEGIN:VEVENT
DTSTART;TZID=Asia/Tokyo:20231014T133000
DTEND;TZID=Asia/Tokyo:20231014T151000
DTSTAMP:20260421T011559
CREATED:20230616T110708Z
LAST-MODIFIED:20230906T062034Z
UID:16714-1697290200-1697296200@chihirosound.com
SUMMARY:Concert〔山口県〕
DESCRIPTION:【Title】「令和５年度 周東学習講座 中央地区講座」\nちひろコンサート 「みんなちがって、みんないい生き方を ～金子みすゞの心とともに～」\n  \n●と　き：　10月14日（土） \n●ところ：　総合センター日向　多目的ホール（山口県岩国市周東町下久原1208番地1） \n※会場の地図はこちら \n●時　間：　13：30～15：10（開場／13：00～） \n●入　場：　無料　 \n  \n●お問合せ・お申込先：岩国市周東中央福祉会館（周東中央公民館 ） \n　　　　　　　　　　　電話／0827-84-7709 \n●主　催：　周東町人権学習推進委員会・周東中央福祉会館・周東中央公民館 \n●共　催：　青少年育成市民会議周東地区会議中央地区会議 \nPDFはこちら \n \n 
URL:https://chihirosound.com/event/16714
LOCATION:総合センター 日向（ひなた）\, 山口県岩国市周東町下久原１２０８−１\, 岩国市\, 山口県\, 742-0417\, 日本
CATEGORIES:オススメ,コンサート
ATTACH;FMTTYPE=image/jpeg:https://chihirosound.com/wp-content/uploads/2023/09/1a82414342b6c8f611e763bcf26c83ed-scaled.jpg
END:VEVENT
END:VCALENDAR