BEGIN:VCALENDAR
VERSION:2.0
PRODID:-//ちひろ Official Website ～金子みすゞの心を歌う～  CHIHIRO Official Website - MISUZU KANEKO- - ECPv6.15.11//NONSGML v1.0//EN
CALSCALE:GREGORIAN
METHOD:PUBLISH
X-ORIGINAL-URL:https://chihirosound.com
X-WR-CALDESC:ちひろ Official Website ～金子みすゞの心を歌う～  CHIHIRO Official Website - MISUZU KANEKO- のイベント
REFRESH-INTERVAL;VALUE=DURATION:PT1H
X-Robots-Tag:noindex
X-PUBLISHED-TTL:PT1H
BEGIN:VTIMEZONE
TZID:Asia/Tokyo
BEGIN:STANDARD
TZOFFSETFROM:+0900
TZOFFSETTO:+0900
TZNAME:JST
DTSTART:20220101T000000
END:STANDARD
END:VTIMEZONE
BEGIN:VEVENT
DTSTART;TZID=Asia/Tokyo:20230902T133000
DTEND;TZID=Asia/Tokyo:20230902T163000
DTSTAMP:20260422T191156
CREATED:20230113T024821Z
LAST-MODIFIED:20230823T152716Z
UID:15401-1693661400-1693672200@chihirosound.com
SUMMARY:Concert〔広島県〕
DESCRIPTION:【Title】「親鸞聖人御誕生850年・立教開宗800年慶讃法要」記念行事\n安芸教区布教団「第30回 聞法の集い」ちひろミニコンサート\n●と　き：　9月2日（土） \n●ところ：　浄土真宗本願寺派 広島別院 本堂（広島市中区寺町1-19） \n※会場の地図はこちら \n●時　間：　13：30～ \n●対　象：　どなたでもOK \n●参加費：　無料 \n●主　催：　浄土真宗本願寺派 安芸教区布教団 \n●お問合せ：　電話／082-231-0302 \n \n 
URL:https://chihirosound.com/event/15401
LOCATION:本願寺 広島別院\, 広島県広島市中区寺町１−１９\, 広島市\, 広島県\, 730-0801\, 日本
CATEGORIES:オススメ,コンサート
ATTACH;FMTTYPE=image/jpeg:https://chihirosound.com/wp-content/uploads/2023/08/monbou2023-A4-ol_page-0001.jpg
END:VEVENT
END:VCALENDAR