BEGIN:VCALENDAR
VERSION:2.0
PRODID:-//ちひろ Official Website ～金子みすゞの心を歌う～  CHIHIRO Official Website - MISUZU KANEKO- - ECPv6.15.11//NONSGML v1.0//EN
CALSCALE:GREGORIAN
METHOD:PUBLISH
X-ORIGINAL-URL:https://chihirosound.com
X-WR-CALDESC:ちひろ Official Website ～金子みすゞの心を歌う～  CHIHIRO Official Website - MISUZU KANEKO- のイベント
REFRESH-INTERVAL;VALUE=DURATION:PT1H
X-Robots-Tag:noindex
X-PUBLISHED-TTL:PT1H
BEGIN:VTIMEZONE
TZID:Asia/Tokyo
BEGIN:STANDARD
TZOFFSETFROM:+0900
TZOFFSETTO:+0900
TZNAME:JST
DTSTART:20220101T000000
END:STANDARD
END:VTIMEZONE
BEGIN:VEVENT
DTSTART;TZID=Asia/Tokyo:20230819T133000
DTEND;TZID=Asia/Tokyo:20230819T153000
DTSTAMP:20260422T194845
CREATED:20230723T070128Z
LAST-MODIFIED:20230723T071009Z
UID:16890-1692451800-1692459000@chihirosound.com
SUMMARY:講座〔山口県〕
DESCRIPTION:【Title】山口市委託事業「仕事と家庭の両立のためのバックアップセミナー」\n金子みすゞ生誕120年 ～仕事・家庭にもみすゞさんのまなざしを～ \n  \n●と　き：　8月19日（土） \n●ところ：　山口市働く婦人の家 カリエンテ山口・（一財）山口県婦人教育文化会館（山口市湯田温泉5丁目1-1）　第１研修室 \n※会場の地図はこちら \n●時　間：　13：30～15：30 \n  \n●受講料：　無料 \n●資料代：　500円程度 \n●定員：　20 名（先着順）※但し３講座受講希望者優先となります \n●応募方法： \n往復はがきに 講座名・住所･氏名･年齢･電話番号･職業の有無を\n記入の上、下記までお申し込み下さい。\n　　　　　　　　　　　　　　　　　　　　　　　　　 \n山口市働く婦人の家・（一財）山口県婦人教育文化会館 \n〒753-0056　山口市湯田温泉5丁目1-1 \n　　　　　 　 　　　　　\n（TEL） 083-921-1929／083-922-2792　（FAX）083-932-6417 \n●お申込み締切：　令和5年8月12日（土）　※消印有効 \n●主　催：　山口市 \n●Website：　山口市　 \nPDFはこちら
URL:https://chihirosound.com/event/16890
LOCATION:カリエンテ山口\, 山口県山口市湯田温泉５丁目１−１\, 山口市\, 山口県\, 753-0056\, 日本
CATEGORIES:オススメ,講演
ATTACH;FMTTYPE=image/jpeg:https://chihirosound.com/wp-content/uploads/2023/07/f0e2c609aed1cfad01174aa3ef7f07f4.jpg
END:VEVENT
BEGIN:VEVENT
DTSTART;TZID=Asia/Tokyo:20230819T180000
DTEND;TZID=Asia/Tokyo:20230819T210000
DTSTAMP:20260422T194845
CREATED:20230113T024610Z
LAST-MODIFIED:20230810T070733Z
UID:15399-1692468000-1692478800@chihirosound.com
SUMMARY:講演〔山口県〕
DESCRIPTION:【Title】令和5年度 山口七夕会ふるさと山口本部「夏の講演・交流会」ちひろ講演\n金子みすゞ生誕120年「みすゞさんを深掘り！」\n●と　き：　8月19日（土） \n●ところ：　山口市菜香亭（山口県山口市天花1丁目2-7） \n※会場の地図はこちら \n●時　間：　受付／17：40～　　講演会／18：00～19：00　　交流会／19：00～21：00 \n  \n●対　象：　会員、会員関係者、山口市にゆかりのある方 \n●参加費：　7\,000円（講演会のみは1\,000円）　※会費は当日会場にて　　※16日（水）正午以降のキャンセルは参加費全額が発生します \n●申込期限：　8月12日（土） \n●申込方法：　 \nfurusato_tanabata@aol.com　　1.講演会の出欠　2.交流会の出欠　3.出席者のご芳名及びご連絡先 \nor \n山口市役所 企画経営課（電話／083-934-2746） \n●主　催：　山口七夕会
URL:https://chihirosound.com/event/15399
LOCATION:菜香亭\, 山口県山口市天花１丁目２−７\, 山口市\, 山口県\, 753-0091\, 日本
CATEGORIES:オススメ,講演
ATTACH;FMTTYPE=image/jpeg:https://chihirosound.com/wp-content/uploads/2023/08/15156.jpg
END:VEVENT
END:VCALENDAR