BEGIN:VCALENDAR
VERSION:2.0
PRODID:-//ちひろ Official Website ～金子みすゞの心を歌う～  CHIHIRO Official Website - MISUZU KANEKO- - ECPv6.15.11//NONSGML v1.0//EN
CALSCALE:GREGORIAN
METHOD:PUBLISH
X-ORIGINAL-URL:https://chihirosound.com
X-WR-CALDESC:ちひろ Official Website ～金子みすゞの心を歌う～  CHIHIRO Official Website - MISUZU KANEKO- のイベント
REFRESH-INTERVAL;VALUE=DURATION:PT1H
X-Robots-Tag:noindex
X-PUBLISHED-TTL:PT1H
BEGIN:VTIMEZONE
TZID:Asia/Tokyo
BEGIN:STANDARD
TZOFFSETFROM:+0900
TZOFFSETTO:+0900
TZNAME:JST
DTSTART:20220101T000000
END:STANDARD
END:VTIMEZONE
BEGIN:VEVENT
DTSTART;TZID=Asia/Tokyo:20230414T180000
DTEND;TZID=Asia/Tokyo:20230414T180000
DTSTAMP:20260423T084756
CREATED:20230412T162409Z
LAST-MODIFIED:20230412T162409Z
UID:15881-1681495200-1681495200@chihirosound.com
SUMMARY:Cable-TV〔山口県〕
DESCRIPTION:【Title】長門市ケーブルテレビ ほっちゃテレビ\n「ほっちゃNEWSイブニング」にて「金子みすゞ記念館開館20周年セレモニー」の様子が紹介されます！\n  \n●と　き：　4月14日（金）18：00／初回放送　～15日（土）16：00まで計8回の再放送 \n●時　間：　①18：00～　②20：00～　③220：00～　④午前0：00～　⑤8：00～　⑥10：00～　⑦14：00　⑧16：00 \n※15日（日）は「ほっちゃNEWSウィークリー」でニュースダイジェストで放送されます \n  \n●放送局：　長門市ケーブルテレビ ほっちゃテレビ \n●番　組：　『ほっちゃNEWSイブニング』 \n●概　要：　「金子みすゞ記念館開館20周年セレモニー」ちひろコンサートについてもON AIRされる予定です！ \n●ご視聴方法：　対象エリアの加入者
URL:https://chihirosound.com/event/15881
LOCATION:三重県
CATEGORIES:オススメ,テレビ
END:VEVENT
END:VCALENDAR