BEGIN:VCALENDAR
VERSION:2.0
PRODID:-//ちひろ Official Website ～金子みすゞの心を歌う～  CHIHIRO Official Website - MISUZU KANEKO- - ECPv6.15.11//NONSGML v1.0//EN
CALSCALE:GREGORIAN
METHOD:PUBLISH
X-ORIGINAL-URL:https://chihirosound.com
X-WR-CALDESC:ちひろ Official Website ～金子みすゞの心を歌う～  CHIHIRO Official Website - MISUZU KANEKO- のイベント
REFRESH-INTERVAL;VALUE=DURATION:PT1H
X-Robots-Tag:noindex
X-PUBLISHED-TTL:PT1H
BEGIN:VTIMEZONE
TZID:Asia/Tokyo
BEGIN:STANDARD
TZOFFSETFROM:+0900
TZOFFSETTO:+0900
TZNAME:JST
DTSTART:20220101T000000
END:STANDARD
END:VTIMEZONE
BEGIN:VEVENT
DTSTART;TZID=Asia/Tokyo:20230411T120000
DTEND;TZID=Asia/Tokyo:20230411T125000
DTSTAMP:20260423T084754
CREATED:20230324T045818Z
LAST-MODIFIED:20230324T045818Z
UID:15781-1681214400-1681217400@chihirosound.com
SUMMARY:Radio〔山口県〕
DESCRIPTION:【Title】FM AQUAにスタジオゲスト出演！\n●と　き：　4月11日（火） \n●時　間：　12：00～ \n  \n●ラジオ局：　FM AQUA \n●番　組：　『　　』 \n●パーソナリティ：　 \n  \n●周波数：　87.8MHHz \n●放送エリア：　長門市を中心としたエリア、周辺受信エリア \n●リクエスト＆メッセージ：　こちらから　　or  　 878@fmaqua.jp \n※詳細は分かり次第お知らせいたします
URL:https://chihirosound.com/event/15781
LOCATION:三重県
CATEGORIES:オススメ,ラジオ
ORGANIZER;CN="FM AQUA":MAILTO:878@fmaqua.jp
END:VEVENT
BEGIN:VEVENT
DTSTART;TZID=Asia/Tokyo:20230411T140000
DTEND;TZID=Asia/Tokyo:20230411T143000
DTSTAMP:20260423T084754
CREATED:20230301T055007Z
LAST-MODIFIED:20230321T094126Z
UID:15627-1681221600-1681223400@chihirosound.com
SUMMARY:Guest〔山口県〕
DESCRIPTION:【Title】「金子みすゞ記念館開館２０周年」記念セレモニー ちひろゲスト\n●と　き：　4月11日（火） \n●ところ：　金子みすゞ記念館（山口県長門市仙崎1308） \n※会場の地図はこちら \n●時　間：　14：00～ \n●対　象：　関係者、一般 \n●主　催：　公益財団法人 長門市文化振興財団
URL:https://chihirosound.com/event/15627
LOCATION:金子みすゞ記念館\, 山口県長門市仙崎１３０８\, 長門市\, 山口県\, 759-4106\, 日本
CATEGORIES:オススメ,コンサート
END:VEVENT
BEGIN:VEVENT
DTSTART;TZID=Asia/Tokyo:20230411T181000
DTEND;TZID=Asia/Tokyo:20230411T185800
DTSTAMP:20260423T084754
CREATED:20230323T120248Z
LAST-MODIFIED:20230323T120248Z
UID:15775-1681236600-1681239480@chihirosound.com
SUMMARY:NHK TV〔山口県〕
DESCRIPTION:【Title】NHK山口放送局（テレビ）「情報維新！やまぐち」でちひろ朗読担当 第4回目\n●と　き：　4月11日（火） \n●時　間：　18時10分～18時58分の番組内 \n●放送局：　NHK山口放送局 \n●番　組：　「情報維新！やまぐち」 \n●放送受信エリア：　山口県全域、周辺受信エリア \n●放送内容：　金子みすゞ生誕120年『みすゞとわたし』朗読担当 \n※放送スケジュール：　全4回　第1回目は3月24日（金）、第2回目は3月31日（金）、第3回目は4月7日（金）、第4回目は4月11日（火） \n  \n \n※画像は「NHK山口放送局」より
URL:https://chihirosound.com/event/15775
LOCATION:三重県
CATEGORIES:オススメ,テレビ
ATTACH;FMTTYPE=image/jpeg:https://chihirosound.com/wp-content/uploads/2023/03/b3d0691edce21d26f3c60cef623f6afc.jpg
ORGANIZER;CN="NHK%E5%B1%B1%E5%8F%A3%E6%94%BE%E9%80%81%E5%B1%80":MAILTO:https://www.nhk.or.jp/yamaguchi/contact/form.html
END:VEVENT
END:VCALENDAR