BEGIN:VCALENDAR
VERSION:2.0
PRODID:-//ちひろ Official Website ～金子みすゞの心を歌う～  CHIHIRO Official Website - MISUZU KANEKO- - ECPv6.15.11//NONSGML v1.0//EN
CALSCALE:GREGORIAN
METHOD:PUBLISH
X-ORIGINAL-URL:https://chihirosound.com
X-WR-CALDESC:ちひろ Official Website ～金子みすゞの心を歌う～  CHIHIRO Official Website - MISUZU KANEKO- のイベント
REFRESH-INTERVAL;VALUE=DURATION:PT1H
X-Robots-Tag:noindex
X-PUBLISHED-TTL:PT1H
BEGIN:VTIMEZONE
TZID:Asia/Tokyo
BEGIN:STANDARD
TZOFFSETFROM:+0900
TZOFFSETTO:+0900
TZNAME:JST
DTSTART:20220101T000000
END:STANDARD
END:VTIMEZONE
BEGIN:VEVENT
DTSTART;TZID=Asia/Tokyo:20230405T050000
DTEND;TZID=Asia/Tokyo:20230405T060000
DTSTAMP:20260423T084757
CREATED:20230403T144100Z
LAST-MODIFIED:20230403T145656Z
UID:15838-1680670800-1680674400@chihirosound.com
SUMMARY:NHK TV〔全国放送〕
DESCRIPTION:【Title】NHK テレビ 全国放送「NHK NEWS おはよう日本」で ちひろの朗読が放送されます！\n●と　き：　4月5日（水） \n●時　間：　朝5：00～6：00の番組内 \n●放送局：　NHK （総合テレビ）全国放送 \n●番　組：　「NHK NEWS おはよう日本」 \n●放送受信エリア：　全国 \n●放送内容：　金子みすゞ生誕120年『みすゞとわたし』　ちひろがオープニングコールと朗読担当 \n  \n \n※画像は「NHK山口放送局」より
URL:https://chihirosound.com/event/15838
LOCATION:三重県
CATEGORIES:オススメ,テレビ
ATTACH;FMTTYPE=image/jpeg:https://chihirosound.com/wp-content/uploads/2023/03/b3d0691edce21d26f3c60cef623f6afc.jpg
END:VEVENT
BEGIN:VEVENT
DTSTART;TZID=Asia/Tokyo:20230405T110000
DTEND;TZID=Asia/Tokyo:20230405T113000
DTSTAMP:20260423T084757
CREATED:20221213T043959Z
LAST-MODIFIED:20221213T043959Z
UID:15022-1680692400-1680694200@chihirosound.com
SUMMARY:９局Radio「みすゞさんと明るいほうへ」
DESCRIPTION:💐９局Radio放送・ちひろレギュラー番組💐\n金子みすゞの詩の朗読・ご紹介など、みすゞさんについてたっぷりお届け ❤ 30分番組です♪ \n  \n●番組詳細：　『みすゞさんと明るいほうへ』 \n●パーソナリティ：　ちひろ \n  \n●レギュラー放送時間：　 \n毎週水曜日 午前11：00～／FM-NANAKO、FM AQUA、COME ON！FM、しゅうなんFM \n毎週水曜日 午前11：30～／FMはつかいち \n毎週水曜日 午後1：00～／FMスマイルウエ～ブ \n毎週水曜日 夜10：00～／KOCOラジ＜郡山コミュニティ放送＞ \n毎週土曜日 午前9：00～／FMわっしょい \n  \n●再放送：　FM-NANAKO／毎週土曜日 午後3：00～　　FM AQUA／毎週日曜日午前11：00～ \n  \n●周波数：　 \nFM-NANAKO／77.5MHz　　FM AQUA／87.8MHz　　COME ON！FM／76.4MHz \nしゅうなんFM／78.4MHz　　FMスマイルウエ～ブ／89.7MHz　　FMわっしょい／77.3MHz \nFMはつかいち／76.1MHz　KOCOラジ／79.1MHz \n  \n●インターネットで聴く：　※全国どこでもインターネットでラジオが聴けるページです。 \n  \n■JCBAインターネットサイマルラジオで聴く \n中国地区の「COME ON! FM」  or  「しゅうなんFM」　の　「LISTEN♪」　をクリックしてください♪ \n■COME ON! FMをインターネットで聴く \n■FMはつかいちをインターネットで聴く \n■FMスマイルウエ～ブをインターネットで聴く \n■FMわっしょいをインターネットで聴く（土曜日 午前9:00～） \n  \n■サイマルラジオで聴く \n東北地区の「郡山コミュニティ放送」　の　「放送を聴く」　をクリックしてください♪ \n■KOCOラジ＜郡山コミュニティ放送＞をインターネットで聴く（水曜日 夜10：00～） \n  \n  \n●リクエスト＆メッセージ🎵：　misuzufm.0407@gmail.com \nもしくは　FM-NANAKO／775@haginet.ne.jp　　FM AQUA／878@fmaqua.jp　　COME ON！FM／こちらから　　 \nしゅうなんFM／studio@fms784.co.jp　　　FMスマイルウエ～ブ／こちらから　　　FMわっしょい／こちらから \nFMはつかいち／こちらから　　KOCOラジ＜郡山コミュニティ放送＞／こちらから \n  \n●各局website： \n□FM-NANAKO（萩市） \n□FM AQUA（長門市） \n□COME ON ! FM（下関市内及び山陽小野田市、北九州市門司区・小倉北区の各一部） \n□しゅうなんFM（周南市・下松市、光市の一部） \n□FMはつかいち（広島県廿日市市）※水曜日 午前11：30～ \n□FMスマイルウエ～ブ（山陽小野田市、宇部市・美祢市・下関市の一部地域） ※水曜日 午後1：00～ \n□KOCOラジ（福島県郡山市） ※水曜日 夜10：00～ \n□FMわっしょい（防府市） ※土曜日 午前9：00～
URL:https://chihirosound.com/event/15022
LOCATION:三重県
CATEGORIES:オススメ,ラジオ
END:VEVENT
BEGIN:VEVENT
DTSTART;TZID=Asia/Tokyo:20230405T180000
DTEND;TZID=Asia/Tokyo:20230406T160000
DTSTAMP:20260423T084757
CREATED:20230403T134912Z
LAST-MODIFIED:20230403T134912Z
UID:15830-1680717600-1680796800@chihirosound.com
SUMMARY:Cable-TV〔山口県〕
DESCRIPTION:【Title】長門市ケーブルテレビ ほっちゃテレビ\n「ほっちゃNEWSイブニング」にて「金子みすゞの宇宙～世界に広がるみすゞさんのまなざし～」の様子が紹介される予定です！\n  \n●と　き：　4月5日（水）18：00／初回放送　～　6日（木）16：00まで計8回の再放送 \n●時　間：　①18：00～　②20：00～　③22：00～　④午前0：00～　⑤午前8：00～　⑥午前10：00～　⑦14：00　⑧16：00 \n  \n●放送局：　長門市ケーブルテレビ ほっちゃテレビ \n●番　組：　『ほっちゃNEWSイブニング』 \n●概　要：　ルネッサながとで開催された「金子みすゞの宇宙～世界に広がるみすゞさんのまなざし～」（ちひろコンサートも含む）についてON AIRされます！ \n●ご視聴方法：　対象エリアの加入者
URL:https://chihirosound.com/event/15830
LOCATION:三重県
CATEGORIES:オススメ,テレビ
END:VEVENT
END:VCALENDAR