BEGIN:VCALENDAR
VERSION:2.0
PRODID:-//ちひろ Official Website ～金子みすゞの心を歌う～  CHIHIRO Official Website - MISUZU KANEKO- - ECPv6.15.11//NONSGML v1.0//EN
CALSCALE:GREGORIAN
METHOD:PUBLISH
X-ORIGINAL-URL:https://chihirosound.com
X-WR-CALDESC:ちひろ Official Website ～金子みすゞの心を歌う～  CHIHIRO Official Website - MISUZU KANEKO- のイベント
REFRESH-INTERVAL;VALUE=DURATION:PT1H
X-Robots-Tag:noindex
X-PUBLISHED-TTL:PT1H
BEGIN:VTIMEZONE
TZID:Asia/Tokyo
BEGIN:STANDARD
TZOFFSETFROM:+0900
TZOFFSETTO:+0900
TZNAME:JST
DTSTART:20220101T000000
END:STANDARD
END:VTIMEZONE
BEGIN:VEVENT
DTSTART;TZID=Asia/Tokyo:20230402T130000
DTEND;TZID=Asia/Tokyo:20230402T152000
DTSTAMP:20260423T084800
CREATED:20230220T021414Z
LAST-MODIFIED:20230403T142718Z
UID:15596-1680440400-1680448800@chihirosound.com
SUMMARY:Concert〔山口県〕
DESCRIPTION:【Title】「金子みすゞの宇宙 ～世界に広がるみすゞさんのまなざし～」\nちひろミニコンサート\n●と　き：　4月2日（日） \n●ところ：　山口県立劇場 ルネッサながと 劇場（山口県長門市仙崎10818-1） \n※会場の地図はこちら \n●時　間：　開場／12：30　開演／13：00　終演予定／15：20 \n  \n●出演者：　 \nみすゞ少年少女合唱団 \n呉菲さん（中国語翻訳者） \n神田京子さん（講談師） \n矢崎節夫さん（金子みすゞ記念館館長・童謡詩人） \nちひろ（シンガーソングライター） \n  \n●対　象：　どなたでもOK \n●入場料：　無料（※整理券を発行しますので、事前に以下連絡先のいずれかにお電話でお申し込みをお願い致します。） \n●お問合せ：　ルネッサながと（phone／0837-26-6001）、金子みすゞ記念館（phone／0837-26-5155）、金子みすゞ顕彰会（phone／0837-26-4712） \n  \n●主　催：　公益財団法人長門市文化振興財団、NPO法人金子みすゞ顕彰会 \n●共　催：　長門市、長門市教育委員会 \n●後　援：　NHK山口放送局、KRY山口放送、tysテレビ山口、yab山口朝日放送、ほっちゃテレビ、FM AQUA、朝日新聞社、毎日新聞社、読売新聞西部本社、山口新聞社、長門時事新聞社 \nPDFはこちら
URL:https://chihirosound.com/event/15596
LOCATION:ルネッサながと\, 山口県長門市仙崎１０８１８−１\, 長門市\, 山口県\, 759-4106
CATEGORIES:オススメ,コンサート
ATTACH;FMTTYPE=image/jpeg:https://chihirosound.com/wp-content/uploads/2023/03/63445083d99aaa307b9787b9b1bc2d61-scaled.jpg
END:VEVENT
BEGIN:VEVENT
DTSTART;TZID=Asia/Tokyo:20230402T143000
DTEND;TZID=Asia/Tokyo:20230402T150000
DTSTAMP:20260423T084800
CREATED:20221213T015520Z
LAST-MODIFIED:20221213T015520Z
UID:14913-1680445800-1680447600@chihirosound.com
SUMMARY:KRYラジオ「ちひろDEブレイク」
DESCRIPTION:♠♣♥♦毎週日曜日放送のちひろレギュラー番組♠♣♥♦\nコンサート会場での裏話、ＣＤアルバム制作秘話、名言コーナー、金子みすゞの詩をご紹介など、内容盛り沢山の30分です♪ \n  \n●毎週日曜日：　14：30～ \n●パーソナリティ：　ちひろ、瀬川 嘉 \n  \n●ちひろDEブレイク：　Official Website・ブログ・みすゞ心のメッセージ \n●周波数一覧 -KRY山口放送-：　こちら（AM・FMで聴く） \n●パソコン・スマホでKRYラジオが聴ける：　radiko.jp \n  \n●ご意見・ご感想はこちら \nメール：break@kry.co.jp\nＦＡＸ：0834-32-9000\nハガキ：〒745-8686　山口放送「ちひろDEブレイク」係 \nメッセージフォームはこちらから
URL:https://chihirosound.com/event/14913
LOCATION:三重県
CATEGORIES:オススメ,ラジオ
END:VEVENT
END:VCALENDAR