BEGIN:VCALENDAR
VERSION:2.0
PRODID:-//ちひろ Official Website ～金子みすゞの心を歌う～  CHIHIRO Official Website - MISUZU KANEKO- - ECPv6.15.11//NONSGML v1.0//EN
CALSCALE:GREGORIAN
METHOD:PUBLISH
X-ORIGINAL-URL:https://chihirosound.com
X-WR-CALDESC:ちひろ Official Website ～金子みすゞの心を歌う～  CHIHIRO Official Website - MISUZU KANEKO- のイベント
REFRESH-INTERVAL;VALUE=DURATION:PT1H
X-Robots-Tag:noindex
X-PUBLISHED-TTL:PT1H
BEGIN:VTIMEZONE
TZID:Asia/Tokyo
BEGIN:STANDARD
TZOFFSETFROM:+0900
TZOFFSETTO:+0900
TZNAME:JST
DTSTART:20220101T000000
END:STANDARD
END:VTIMEZONE
BEGIN:VEVENT
DTSTART;TZID=Asia/Tokyo:20230331T170500
DTEND;TZID=Asia/Tokyo:20230331T175500
DTSTAMP:20260423T072140
CREATED:20230113T021659Z
LAST-MODIFIED:20230330T140609Z
UID:15378-1680282300-1680285300@chihirosound.com
SUMMARY:NHK「ラジオYAMAGUTIC」
DESCRIPTION:【Title】NHK「中国！ちゅーもく！ラジオYAMAGUTIC」～古地図で江戸時代にタイムトリップ！！～\n  \n●と　き：　3月31日（金） \n●時　間：　17：05～17：55 \n●ラジオ局：　NHKラジオ第1 \n●番　組：　中国！ちゅーもく！ラジオYAMAGUTIC \n  \n●メールやご意見募集：　こちら \n●放送受信エリア：　中国地方5県（山口県、広島県、岡山県、島根県、鳥取県） \n  \n●インターネットラジオ：　全国でお聴きいただけます！　　らじる★らじる \nパソコン・スマートフォン・タブレットなどで、全国どこでもお聴きいただけるサービスです。 \n  \n【聴取方法】＜スマートフォン・タブレットの場合は、まずアプリ（無料）をダウンロードしてください＞ \n■らじる★らじる にアクセス　→　ラジオ第1（R1） をクリック　→　放送局を選択　→　広島 \n※詳しくはこちら \n  \n●出　演：　土方 康アナウンサー、ちひろ　 \n●ゲスト：　道迫 真吾さん（萩博物館 総括学芸員）
URL:https://chihirosound.com/event/15378
LOCATION:三重県
CATEGORIES:オススメ,ラジオ
END:VEVENT
BEGIN:VEVENT
DTSTART;TZID=Asia/Tokyo:20230331T181000
DTEND;TZID=Asia/Tokyo:20230331T185800
DTSTAMP:20260423T072140
CREATED:20230323T115826Z
LAST-MODIFIED:20230323T115826Z
UID:15769-1680286200-1680289080@chihirosound.com
SUMMARY:NHK TV〔山口県〕
DESCRIPTION:【Title】NHK山口放送局（テレビ）「情報維新！やまぐち」でちひろ朗読担当 第2回目\n●と　き：　3月31日（金） \n●時　間：　18時10分～18時58分の番組内 \n●放送局：　NHK山口放送局 \n●番　組：　「情報維新！やまぐち」 \n●放送受信エリア：　山口県全域、周辺受信エリア \n●放送内容：　金子みすゞ生誕120年『みすゞとわたし』朗読担当 \n※放送スケジュール：　全4回　第1回目は3月24日（金）、第2回目は3月31日（金）、第3回目は4月7日（金）、第4回目は4月11日（火） \n  \n \n※画像は「NHK山口放送局」より
URL:https://chihirosound.com/event/15769
LOCATION:三重県
CATEGORIES:オススメ,テレビ
ATTACH;FMTTYPE=image/jpeg:https://chihirosound.com/wp-content/uploads/2023/03/b3d0691edce21d26f3c60cef623f6afc.jpg
ORGANIZER;CN="NHK%E5%B1%B1%E5%8F%A3%E6%94%BE%E9%80%81%E5%B1%80":MAILTO:https://www.nhk.or.jp/yamaguchi/contact/form.html
END:VEVENT
END:VCALENDAR