BEGIN:VCALENDAR
VERSION:2.0
PRODID:-//ちひろ Official Website ～金子みすゞの心を歌う～  CHIHIRO Official Website - MISUZU KANEKO- - ECPv6.15.11//NONSGML v1.0//EN
CALSCALE:GREGORIAN
METHOD:PUBLISH
X-ORIGINAL-URL:https://chihirosound.com
X-WR-CALDESC:ちひろ Official Website ～金子みすゞの心を歌う～  CHIHIRO Official Website - MISUZU KANEKO- のイベント
REFRESH-INTERVAL;VALUE=DURATION:PT1H
X-Robots-Tag:noindex
X-PUBLISHED-TTL:PT1H
BEGIN:VTIMEZONE
TZID:Asia/Tokyo
BEGIN:STANDARD
TZOFFSETFROM:+0900
TZOFFSETTO:+0900
TZNAME:JST
DTSTART:20220101T000000
END:STANDARD
END:VTIMEZONE
BEGIN:VEVENT
DTSTART;TZID=Asia/Tokyo:20230329T110000
DTEND;TZID=Asia/Tokyo:20230329T113000
DTSTAMP:20260423T072146
CREATED:20221213T043804Z
LAST-MODIFIED:20221213T043836Z
UID:15020-1680087600-1680089400@chihirosound.com
SUMMARY:９局Radio「みすゞさんと明るいほうへ」
DESCRIPTION:💐９局Radio放送・ちひろレギュラー番組💐\n金子みすゞの詩の朗読・ご紹介など、みすゞさんについてたっぷりお届け ❤ 30分番組です♪ \n  \n●番組詳細：　『みすゞさんと明るいほうへ』 \n●パーソナリティ：　ちひろ \n  \n●レギュラー放送時間：　 \n毎週水曜日 午前11：00～／FM-NANAKO、FM AQUA、COME ON！FM、しゅうなんFM \n毎週水曜日 午前11：30～／FMはつかいち \n毎週水曜日 午後1：00～／FMスマイルウエ～ブ \n毎週水曜日 夜10：00～／KOCOラジ＜郡山コミュニティ放送＞ \n毎週土曜日 午前9：00～／FMわっしょい \n  \n●再放送：　FM-NANAKO／毎週土曜日 午後3：00～　　FM AQUA／毎週日曜日午前11：00～ \n  \n●周波数：　 \nFM-NANAKO／77.5MHz　　FM AQUA／87.8MHz　　COME ON！FM／76.4MHz \nしゅうなんFM／78.4MHz　　FMスマイルウエ～ブ／89.7MHz　　FMわっしょい／77.3MHz \nFMはつかいち／76.1MHz　KOCOラジ／79.1MHz \n  \n●インターネットで聴く：　※全国どこでもインターネットでラジオが聴けるページです。 \n  \n■JCBAインターネットサイマルラジオで聴く \n中国地区の「COME ON! FM」  or  「しゅうなんFM」　の　「LISTEN♪」　をクリックしてください♪ \n■COME ON! FMをインターネットで聴く \n■FMはつかいちをインターネットで聴く \n■FMスマイルウエ～ブをインターネットで聴く \n■FMわっしょいをインターネットで聴く（土曜日 午前9:00～） \n  \n■サイマルラジオで聴く \n東北地区の「郡山コミュニティ放送」　の　「放送を聴く」　をクリックしてください♪ \n■KOCOラジ＜郡山コミュニティ放送＞をインターネットで聴く（水曜日 夜10：00～） \n  \n  \n●リクエスト＆メッセージ🎵：　misuzufm.0407@gmail.com \nもしくは　FM-NANAKO／775@haginet.ne.jp　　FM AQUA／878@fmaqua.jp　　COME ON！FM／こちらから　　 \nしゅうなんFM／studio@fms784.co.jp　　　FMスマイルウエ～ブ／こちらから　　　FMわっしょい／こちらから \nFMはつかいち／こちらから　　KOCOラジ＜郡山コミュニティ放送＞／こちらから \n  \n●各局website： \n□FM-NANAKO（萩市） \n□FM AQUA（長門市） \n□COME ON ! FM（下関市内及び山陽小野田市、北九州市門司区・小倉北区の各一部） \n□しゅうなんFM（周南市・下松市、光市の一部） \n□FMはつかいち（広島県廿日市市）※水曜日 午前11：30～ \n□FMスマイルウエ～ブ（山陽小野田市、宇部市・美祢市・下関市の一部地域） ※水曜日 午後1：00～ \n□KOCOラジ（福島県郡山市） ※水曜日 夜10：00～ \n□FMわっしょい（防府市） ※土曜日 午前9：00～
URL:https://chihirosound.com/event/15020
LOCATION:三重県
CATEGORIES:オススメ,ラジオ
END:VEVENT
BEGIN:VEVENT
DTSTART;TZID=Asia/Tokyo:20230329T170000
DTEND;TZID=Asia/Tokyo:20230329T171000
DTSTAMP:20260423T072146
CREATED:20230220T021206Z
LAST-MODIFIED:20230309T025032Z
UID:15594-1680109200-1680109800@chihirosound.com
SUMMARY:Stage〔山口県〕
DESCRIPTION:【Title】「徳佐しだれ桜ライトアップフェスタ」ちひろオープニングStage\n●と　き：　3月29日（水） \n●ところ：　山口市立阿東東中学校 体育館（山口県山口市阿東徳佐中3288-1） \n※会場の地図はこちら \n●時　間：　17：00～ \n※ちひろはオープニングとして１曲『ふるさとの風～山口市民の歌～』を歌います！ \n●対　象：　どなたでもOK \n●主　催：　徳佐しだれ桜ライトアップフェスタ実行委員会 \n●後　援：　山口市 \n 
URL:https://chihirosound.com/event/15594
LOCATION:山口市立阿東東中学校\, 山口県山口市阿東徳佐中３２８８−１\, 山口市\, 山口県\, 759-1512\, 日本
CATEGORIES:オススメ,コンサート
ATTACH;FMTTYPE=image/jpeg:https://chihirosound.com/wp-content/uploads/2023/02/a96ed787804d354a7a632e3b200815e6.jpg
END:VEVENT
END:VCALENDAR