BEGIN:VCALENDAR
VERSION:2.0
PRODID:-//ちひろ Official Website ～金子みすゞの心を歌う～  CHIHIRO Official Website - MISUZU KANEKO- - ECPv6.15.11//NONSGML v1.0//EN
CALSCALE:GREGORIAN
METHOD:PUBLISH
X-ORIGINAL-URL:https://chihirosound.com
X-WR-CALDESC:ちひろ Official Website ～金子みすゞの心を歌う～  CHIHIRO Official Website - MISUZU KANEKO- のイベント
REFRESH-INTERVAL;VALUE=DURATION:PT1H
X-Robots-Tag:noindex
X-PUBLISHED-TTL:PT1H
BEGIN:VTIMEZONE
TZID:Asia/Tokyo
BEGIN:STANDARD
TZOFFSETFROM:+0900
TZOFFSETTO:+0900
TZNAME:JST
DTSTART:20220101T000000
END:STANDARD
END:VTIMEZONE
BEGIN:VEVENT
DTSTART;TZID=Asia/Tokyo:20230324T181000
DTEND;TZID=Asia/Tokyo:20230324T185800
DTSTAMP:20260423T072141
CREATED:20230323T115118Z
LAST-MODIFIED:20230323T115523Z
UID:15761-1679681400-1679684280@chihirosound.com
SUMMARY:NHK TV〔山口県〕
DESCRIPTION:【Title】NHK山口放送局（テレビ）「情報維新！やまぐち」でちひろ朗読担当 第1回目\n●と　き：　3月24日（金） \n●時　間：　18時10分～18時58分の番組内 \n●放送局：　NHK山口放送局 \n●番　組：　「情報維新！やまぐち」 \n●放送受信エリア：　山口県全域、周辺受信エリア \n●放送内容：　金子みすゞ生誕120年『みすゞとわたし』朗読担当 \n※放送スケジュール：　第2回目は3月31日（金）、第3回目は4月7日（金）、第4回目は4月11日（火） \n  \n \n※画像は「NHK山口放送局」より
URL:https://chihirosound.com/event/15761
LOCATION:三重県
CATEGORIES:オススメ,テレビ
ATTACH;FMTTYPE=image/jpeg:https://chihirosound.com/wp-content/uploads/2023/03/b3d0691edce21d26f3c60cef623f6afc.jpg
ORGANIZER;CN="NHK%E5%B1%B1%E5%8F%A3%E6%94%BE%E9%80%81%E5%B1%80":MAILTO:https://www.nhk.or.jp/yamaguchi/contact/form.html
END:VEVENT
END:VCALENDAR