BEGIN:VCALENDAR
VERSION:2.0
PRODID:-//ちひろ Official Website ～金子みすゞの心を歌う～  CHIHIRO Official Website - MISUZU KANEKO- - ECPv6.15.11//NONSGML v1.0//EN
CALSCALE:GREGORIAN
METHOD:PUBLISH
X-WR-CALNAME:ちひろ Official Website ～金子みすゞの心を歌う～  CHIHIRO Official Website - MISUZU KANEKO-
X-ORIGINAL-URL:https://chihirosound.com
X-WR-CALDESC:ちひろ Official Website ～金子みすゞの心を歌う～  CHIHIRO Official Website - MISUZU KANEKO- のイベント
REFRESH-INTERVAL;VALUE=DURATION:PT1H
X-Robots-Tag:noindex
X-PUBLISHED-TTL:PT1H
BEGIN:VTIMEZONE
TZID:Asia/Tokyo
BEGIN:STANDARD
TZOFFSETFROM:+0900
TZOFFSETTO:+0900
TZNAME:JST
DTSTART:20210101T000000
END:STANDARD
END:VTIMEZONE
BEGIN:VEVENT
DTSTART;TZID=Asia/Tokyo:20221101T114500
DTEND;TZID=Asia/Tokyo:20221130T120000
DTSTAMP:20260423T134020
CREATED:20221102T014756Z
LAST-MODIFIED:20221102T020654Z
UID:14661-1667303100-1669809600@chihirosound.com
SUMMARY:TVドラマ出演〔C-able TV〕
DESCRIPTION:【Title】テレビドラマ『たべものがたり 元木食堂【WA LOUNGE編】 』 ちひろ出演！\n３局のケーブルテレビで１１月の一ヶ月間 放送 \n  \n●番組名：　『たべものがたり 元木食堂』【WA LOUNGE編】 \n  \n●番組紹介ショートムービー：　こちらから♪ \n  \n●放送局・放送日時：　11月の一ヶ月間放送されます！ \n◆Ｋビジョン \n月～金 8：15／12：00／19：30／22：20 \n土・日 7：30／14：00／18：15／21：45 \n＜放送エリア＞ \n下松市、光市、周南市の一部（旧熊毛町のみ）、平生町、上関町 \n  \n◆山口ケーブルビジョン\n1日～15日 11：45／18：15（金曜日を除く）／20：25 \n16日～月末 20：25 \n＜放送エリア＞ \n山口市、防府市、宇部市、美祢市（旧美祢市を除く） \n  \n◆シティーケーブル周南 \n15：30～ \n＜放送エリア＞ \n周南市（旧熊毛町を除く） \n  \n●脚　本：　室積 光 \n●主　演：　元木 行哉 \n●出　演：　ちひろ 他 \n●あらすじ：　記憶を失っていた謎の男・大城次郎は、山口市在住の資産家・元木金蔵だということが判明したが、頭を打ち再び大城次郎に戻ってしまった。再び頭を打ち嫌味な金蔵に戻ることを恐れ、サラヤは必死で警護するのだが…。 \n  \n●ご視聴方法：　対象エリアの加入者 \n  \n新型コロナ対策として撮影中も本番を除き出演者はマスクやフェイスシールドを着用しています。 \n  \n \n  \n \n  \n \n 
URL:https://chihirosound.com/event/14661
LOCATION:三重県
CATEGORIES:オススメ,テレビ
ATTACH;FMTTYPE=image/jpeg:https://chihirosound.com/wp-content/uploads/2022/11/S__28557456.jpg
END:VEVENT
BEGIN:VEVENT
DTSTART;TZID=Asia/Tokyo:20221124T140000
DTEND;TZID=Asia/Tokyo:20221124T150000
DTSTAMP:20260423T134020
CREATED:20220627T030617Z
LAST-MODIFIED:20221117T034052Z
UID:13581-1669298400-1669302000@chihirosound.com
SUMMARY:Concert〔山口県〕
DESCRIPTION:【Title】「山口市立良城小学校 開校150周年記念」ちひろコンサート\n明るいほうへ ～金子みすゞの心とともに～\n●と　き：　11月24日（木） \n●ところ：　山口市立良城小学校 体育館（山口県山口市吉敷佐畑3丁目3-3） \n※会場の地図はこちら \n●時　間：　13：30／開場　　14：00／開演　　15：00／終演 \n●対　象：　児童、教職員、保護者・地域の方 \n●主　催：　山口市立良城小学校 開校150周年記念実行委員会 \n 
URL:https://chihirosound.com/event/13581
LOCATION:山口市立良城小学校\, 山口県山口市吉敷佐畑３丁目３−３\, 山口市\, 山口県\, 753-0816\, 日本
CATEGORIES:オススメ,コンサート
END:VEVENT
END:VCALENDAR