BEGIN:VCALENDAR
VERSION:2.0
PRODID:-//ちひろ Official Website ～金子みすゞの心を歌う～  CHIHIRO Official Website - MISUZU KANEKO- - ECPv6.15.11//NONSGML v1.0//EN
CALSCALE:GREGORIAN
METHOD:PUBLISH
X-ORIGINAL-URL:https://chihirosound.com
X-WR-CALDESC:ちひろ Official Website ～金子みすゞの心を歌う～  CHIHIRO Official Website - MISUZU KANEKO- のイベント
REFRESH-INTERVAL;VALUE=DURATION:PT1H
X-Robots-Tag:noindex
X-PUBLISHED-TTL:PT1H
BEGIN:VTIMEZONE
TZID:Asia/Tokyo
BEGIN:STANDARD
TZOFFSETFROM:+0900
TZOFFSETTO:+0900
TZNAME:JST
DTSTART:20210101T000000
END:STANDARD
END:VTIMEZONE
BEGIN:VEVENT
DTSTART;TZID=Asia/Tokyo:20221008T133000
DTEND;TZID=Asia/Tokyo:20221008T143000
DTSTAMP:20260423T151032
CREATED:20220627T023019Z
LAST-MODIFIED:20220921T072650Z
UID:13556-1665235800-1665239400@chihirosound.com
SUMMARY:Concert〔山口県〕
DESCRIPTION:【Title】「旭地域人権を考える会」ちひろコンサート\nちひろコンサート　明るいほうへ ～金子みすゞの心とともに～\n●と　き：　10月8日（土） \n●ところ：　萩市立佐々並小学校 体育館（山口県萩市佐々並2684） \n※会場の地図はこちら \n●時　間：　13：30～14：30 \n  \n●入場料：　無料 \n●対　象：　児童、教職員、地域、一般（どなたでもOK） \n●お申込：　※新型コロナウイルス感染防止対策のため、聴講を希望される方は事前申し込みをお願い致します（会場の入場者数に限りがありますので、予めご了承下さい） \n●お申込先：　旭総合事務所 市民窓口部門（0838-55-0211）、萩市佐々並支所（0838-56-0211） \n●主　催：　萩市旭地域人権施策推進委員会 \n●その他：　 \n①ご来場いただく際は、必ずマスクの着用をお願いいたします　 \n②新型コロナウイルスの感染状況によっては中止となる場合があります \n 
URL:https://chihirosound.com/event/13556
LOCATION:萩市立佐々並小学校\, 山口県萩市佐々並２６８４\, 萩市\, 山口県\, 753-0101\, 日本
CATEGORIES:オススメ,コンサート
END:VEVENT
END:VCALENDAR