BEGIN:VCALENDAR
VERSION:2.0
PRODID:-//ちひろ Official Website ～金子みすゞの心を歌う～  CHIHIRO Official Website - MISUZU KANEKO- - ECPv6.15.11//NONSGML v1.0//EN
CALSCALE:GREGORIAN
METHOD:PUBLISH
X-ORIGINAL-URL:https://chihirosound.com
X-WR-CALDESC:ちひろ Official Website ～金子みすゞの心を歌う～  CHIHIRO Official Website - MISUZU KANEKO- のイベント
REFRESH-INTERVAL;VALUE=DURATION:PT1H
X-Robots-Tag:noindex
X-PUBLISHED-TTL:PT1H
BEGIN:VTIMEZONE
TZID:Asia/Tokyo
BEGIN:STANDARD
TZOFFSETFROM:+0900
TZOFFSETTO:+0900
TZNAME:JST
DTSTART:20210101T000000
END:STANDARD
END:VTIMEZONE
BEGIN:VEVENT
DTSTART;TZID=Asia/Tokyo:20221007T141500
DTEND;TZID=Asia/Tokyo:20221007T150000
DTSTAMP:20260423T151028
CREATED:20220301T142544Z
LAST-MODIFIED:20220921T070037Z
UID:13178-1665152100-1665154800@chihirosound.com
SUMMARY:Concert〔山口県〕
DESCRIPTION:【Title】「令和4年度 周南市人権講演会」ちひろ人権コンサート\nみんなちがって、みんないい生き方を ～金子みすゞの心とともに～\n●と　き：　10月7日（金） \n●ところ：　周南市立夜市小学校 体育館（山口県周南市夜市730） \n※会場の地図はこちら \n  \n●時　間：　14：15～ \n●入場料：　無料 \n●対　象：　児童、地域、保護者、関係者 \n  \n●主　催：　周南市、周南市立夜市小学校、周南人権啓発活動地域ネットワーク協議会 \n●その他：　感染症対策のため、マスク着用でご鑑賞ください。発熱（37.5℃以上）のある方はお控えください。また、受付で検温と連絡先のご記入をよろしくお願いします。
URL:https://chihirosound.com/event/13178
LOCATION:周南市立夜市小学校\, 山口県周南市夜市７３０\, 周南市\, 山口県\, 746-0084\, 日本
CATEGORIES:オススメ,コンサート
END:VEVENT
END:VCALENDAR