BEGIN:VCALENDAR
VERSION:2.0
PRODID:-//ちひろ Official Website ～金子みすゞの心を歌う～  CHIHIRO Official Website - MISUZU KANEKO- - ECPv6.15.11//NONSGML v1.0//EN
CALSCALE:GREGORIAN
METHOD:PUBLISH
X-ORIGINAL-URL:https://chihirosound.com
X-WR-CALDESC:ちひろ Official Website ～金子みすゞの心を歌う～  CHIHIRO Official Website - MISUZU KANEKO- のイベント
REFRESH-INTERVAL;VALUE=DURATION:PT1H
X-Robots-Tag:noindex
X-PUBLISHED-TTL:PT1H
BEGIN:VTIMEZONE
TZID:Asia/Tokyo
BEGIN:STANDARD
TZOFFSETFROM:+0900
TZOFFSETTO:+0900
TZNAME:JST
DTSTART:20210101T000000
END:STANDARD
END:VTIMEZONE
BEGIN:VEVENT
DTSTART;TZID=Asia/Tokyo:20221004T181500
DTEND;TZID=Asia/Tokyo:20221004T183500
DTSTAMP:20260423T163729
CREATED:20220921T051312Z
LAST-MODIFIED:20220922T061515Z
UID:14217-1664907300-1664908500@chihirosound.com
SUMMARY:Radio〔福島県〕
DESCRIPTION:【Title】ULTRA FM（福島県須賀川市）に電話ゲスト出演！\nULTRA FM「みすゞさんと明るいほうへ」10月～放送開始についてお話しいたします♪\n●と　き：　10月4日（火） \n●時　間：　18：15頃～ \n●ラジオ局：　ULTRA FM \n●番　組：　『サンセットRADIO』 \n●パーソナリティ：　浅野 敦子 さん \n  \n●周波数：　86.8MHz \n●放送エリア：　須賀川市及び周辺エリア \n●インターネットで聴く：　こちらから \n●リクエスト＆メッセージ：　メールはこちら　　F A X ＜0248-63-7003＞ \n  \n 
URL:https://chihirosound.com/event/14217
LOCATION:三重県
CATEGORIES:オススメ,ラジオ
END:VEVENT
END:VCALENDAR