BEGIN:VCALENDAR
VERSION:2.0
PRODID:-//ちひろ Official Website ～金子みすゞの心を歌う～  CHIHIRO Official Website - MISUZU KANEKO- - ECPv6.15.11//NONSGML v1.0//EN
CALSCALE:GREGORIAN
METHOD:PUBLISH
X-ORIGINAL-URL:https://chihirosound.com
X-WR-CALDESC:ちひろ Official Website ～金子みすゞの心を歌う～  CHIHIRO Official Website - MISUZU KANEKO- のイベント
REFRESH-INTERVAL;VALUE=DURATION:PT1H
X-Robots-Tag:noindex
X-PUBLISHED-TTL:PT1H
BEGIN:VTIMEZONE
TZID:Asia/Tokyo
BEGIN:STANDARD
TZOFFSETFROM:+0900
TZOFFSETTO:+0900
TZNAME:JST
DTSTART:20210101T000000
END:STANDARD
END:VTIMEZONE
BEGIN:VEVENT
DTSTART;TZID=Asia/Tokyo:20221002T140000
DTEND;TZID=Asia/Tokyo:20221002T190000
DTSTAMP:20260423T151033
CREATED:20220627T022920Z
LAST-MODIFIED:20220811T132648Z
UID:13554-1664719200-1664737200@chihirosound.com
SUMMARY:Concert〔山口県〕
DESCRIPTION:【Title】「御船倉コンサート」名曲カヴァーと金子みすゞの心\n●と　き：　10月2日（日） \n●ところ：　国指定史跡　旧萩藩御船倉（山口県萩市浜崎３区の２） \n※会場の地図はこちら \n●時　間：　入れ替え制の2部 \n【昼の部】開場／13：30　開演／14：00 \n【夜の部】開場／17：30　開演／18：00 \n約1時間の公演です \n●入場料：　1\,500円 \n●お求先・お問合せ：　旧山中家住宅（phone／0838-22-0133）　※水曜休館　　 \n●主　催：　浜崎しっちょる会 \n●後　援：　萩市 \n●注意事項：　会場ではマスクの着用をお願い致します \nPDFはこちら \n \n 
URL:https://chihirosound.com/event/13554
LOCATION:旧萩藩御船倉\, 山口県萩市浜崎３区の２\, 萩市\, 山口県\, 758-0024\, 日本
CATEGORIES:オススメ,コンサート
ATTACH;FMTTYPE=image/jpeg:https://chihirosound.com/wp-content/uploads/2022/08/2a3de6532f60b2bfe8f24fbf8d1a598b.jpg
END:VEVENT
BEGIN:VEVENT
DTSTART;TZID=Asia/Tokyo:20221002T143000
DTEND;TZID=Asia/Tokyo:20221002T150000
DTSTAMP:20260423T151033
CREATED:20220824T053249Z
LAST-MODIFIED:20220912T065620Z
UID:14042-1664721000-1664722800@chihirosound.com
SUMMARY:KRYラジオ「ちひろDEブレイク」
DESCRIPTION:♠♣♥♦毎週日曜日放送のちひろレギュラー番組♠♣♥♦\nコンサート会場での裏話、ＣＤアルバム制作秘話、名言コーナー、金子みすゞの詩をご紹介など、内容盛り沢山の30分です♪ \n  \n●毎週日曜日：　14：30～ \n●パーソナリティ：　ちひろ、瀬川 嘉 \n  \n●ちひろDEブレイク：　Official Website・ブログ・みすゞ心のメッセージ \n●周波数一覧 -KRY山口放送-：　こちら（AM・FMで聴く） \n●パソコン・スマホでKRYラジオが聴ける：　radiko.jp \n  \n●ご意見・ご感想はこちら \nメール：break@kry.co.jp\nＦＡＸ：0834-32-9000\nハガキ：〒745-8686　山口放送「ちひろDEブレイク」係 \nメッセージフォームはこちらから
URL:https://chihirosound.com/event/14042
LOCATION:三重県
CATEGORIES:オススメ,ラジオ
END:VEVENT
END:VCALENDAR