BEGIN:VCALENDAR
VERSION:2.0
PRODID:-//ちひろ Official Website ～金子みすゞの心を歌う～  CHIHIRO Official Website - MISUZU KANEKO- - ECPv6.15.11//NONSGML v1.0//EN
CALSCALE:GREGORIAN
METHOD:PUBLISH
X-ORIGINAL-URL:https://chihirosound.com
X-WR-CALDESC:ちひろ Official Website ～金子みすゞの心を歌う～  CHIHIRO Official Website - MISUZU KANEKO- のイベント
REFRESH-INTERVAL;VALUE=DURATION:PT1H
X-Robots-Tag:noindex
X-PUBLISHED-TTL:PT1H
BEGIN:VTIMEZONE
TZID:Asia/Tokyo
BEGIN:STANDARD
TZOFFSETFROM:+0900
TZOFFSETTO:+0900
TZNAME:JST
DTSTART:20210101T000000
END:STANDARD
END:VTIMEZONE
BEGIN:VEVENT
DTSTART;TZID=Asia/Tokyo:20220911T140000
DTEND;TZID=Asia/Tokyo:20220911T143000
DTSTAMP:20260423T181535
CREATED:20220824T052908Z
LAST-MODIFIED:20220824T052908Z
UID:14036-1662904800-1662906600@chihirosound.com
SUMMARY:KRYラジオ「ちひろDEブレイク」
DESCRIPTION:♠♣♥♦毎週日曜日放送のちひろレギュラー番組♠♣♥♦\nコンサート会場での裏話、ＣＤアルバム制作秘話、名言コーナー、金子みすゞの詩をご紹介など、内容盛り沢山の30分です♪ \n  \n●毎週日曜日：　14：00～ \n●パーソナリティ：　ちひろ、瀬川 嘉 \n  \n●ちひろDEブレイク：　Official Website・ブログ・みすゞ心のメッセージ \n●周波数一覧 -KRY山口放送-：　こちら（AM・FMで聴く） \n●パソコン・スマホでKRYラジオが聴ける：　radiko.jp \n  \n●ご意見・ご感想はこちら \nメール：break@kry.co.jp\nＦＡＸ：0834-32-9000\nハガキ：〒745-8686　山口放送「ちひろDEブレイク」係 \nメッセージフォームはこちらから
URL:https://chihirosound.com/event/14036
LOCATION:三重県
CATEGORIES:オススメ,ラジオ
END:VEVENT
BEGIN:VEVENT
DTSTART;TZID=Asia/Tokyo:20220911T143000
DTEND;TZID=Asia/Tokyo:20220911T152000
DTSTAMP:20260423T181535
CREATED:20211210T150321Z
LAST-MODIFIED:20220912T060237Z
UID:11829-1662906600-1662909600@chihirosound.com
SUMMARY:Concert〔北九州市門司区〕
DESCRIPTION:【Title】「第114回 親鸞の集い」ちひろコンサート\n●と　き：　9月11日（日） \n●ところ：　門司市民会館（北九州市門司区 \n●時　間：　14：30～ \n●対　象：　関係者・申込者のみ \n●主　催：　門司親鸞に聞く会・浄土真宗本願寺派門司組各寺院
URL:https://chihirosound.com/event/11829
LOCATION:三重県
CATEGORIES:オススメ,コンサート
END:VEVENT
END:VCALENDAR