BEGIN:VCALENDAR
VERSION:2.0
PRODID:-//ちひろ Official Website ～金子みすゞの心を歌う～  CHIHIRO Official Website - MISUZU KANEKO- - ECPv6.15.11//NONSGML v1.0//EN
CALSCALE:GREGORIAN
METHOD:PUBLISH
X-WR-CALNAME:ちひろ Official Website ～金子みすゞの心を歌う～  CHIHIRO Official Website - MISUZU KANEKO-
X-ORIGINAL-URL:https://chihirosound.com
X-WR-CALDESC:ちひろ Official Website ～金子みすゞの心を歌う～  CHIHIRO Official Website - MISUZU KANEKO- のイベント
REFRESH-INTERVAL;VALUE=DURATION:PT1H
X-Robots-Tag:noindex
X-PUBLISHED-TTL:PT1H
BEGIN:VTIMEZONE
TZID:Asia/Tokyo
BEGIN:STANDARD
TZOFFSETFROM:+0900
TZOFFSETTO:+0900
TZNAME:JST
DTSTART:20210101T000000
END:STANDARD
END:VTIMEZONE
BEGIN:VEVENT
DTSTART;TZID=Asia/Tokyo:20220801T081500
DTEND;TZID=Asia/Tokyo:20220831T220000
DTSTAMP:20260423T195129
CREATED:20220801T105356Z
LAST-MODIFIED:20220801T110010Z
UID:13788-1659341700-1661983200@chihirosound.com
SUMMARY:TVドラマ出演〔C-ableTV〕
DESCRIPTION:【Title】テレビドラマ『たべものがたり 元木食堂 Season 3 第5話』 ちひろ出演！\n３局のケーブルテレビで8月の一ヶ月間 放送 \n  \n●番組名：　『たべものがたり 元木食堂』 \n●番組紹介ショートムービー：　こちらから♪ \n  \n●放送局・放送日時：　8月の一ヶ月間放送されます！ \n◆Ｋビジョン \n月～金 8：15／12：00／19：30／22：20 \n土・日 7：30／14：00／18：15／21：45 \n＜放送エリア＞ \n下松市、光市、周南市の一部（旧熊毛町のみ）、平生町、上関町 \n  \n◆山口ケーブルビジョン\n1日～15日 11：45／18：15（金曜日を除く）／20：25 \n16日～月末 20：25 \n＜放送エリア＞ \n山口市、防府市、宇部市、美祢市（旧美祢市を除く） \n  \n◆シティーケーブル周南 \n15：30～ \n＜放送エリア＞ \n周南市（旧熊毛町を除く） \n  \n●脚　本：　室積 光 \n●主　演：　元木 行哉 \n●出　演：　ちひろ 他 \n●あらすじ：　記憶を失い身元不明となっていた謎の男・大城次郎の記憶が戻ったという。彼は記憶がない間に世話になった人を中国料理 隨園に招き料理をふるまうのだが、なぜか店内は祝福モードではなく…。 \n  \n●ご視聴方法：　対象エリアの加入者 \n  \n \n \n \n \n  \n※新型コロナ対策として撮影中も本番を除き出演者はマスクやフェイスシールドを着用しています
URL:https://chihirosound.com/event/13788
LOCATION:三重県
CATEGORIES:オススメ,テレビ
ATTACH;FMTTYPE=image/jpeg:https://chihirosound.com/wp-content/uploads/2022/08/S__21962758.jpg
END:VEVENT
BEGIN:VEVENT
DTSTART;TZID=Asia/Tokyo:20220831T110000
DTEND;TZID=Asia/Tokyo:20220831T113000
DTSTAMP:20260423T195129
CREATED:20220801T103004Z
LAST-MODIFIED:20220801T103004Z
UID:13782-1661943600-1661945400@chihirosound.com
SUMMARY:８局Radio「みすゞさんと明るいほうへ」
DESCRIPTION:💐８局Radio放送・ちひろレギュラー番組💐\n金子みすゞの詩の朗読・ご紹介など、みすゞさんについてたっぷりお届け ❤ 30分番組です♪ \n  \n●番組詳細：　『みすゞさんと明るいほうへ』 \n●パーソナリティ：　ちひろ \n  \n●レギュラー放送時間：　 \n毎週水曜日 午前11：00～／FM-NANAKO、FM AQUA、COME ON！FM、しゅうなんFM \n毎週水曜日 午前11：30～／FMはつかいち \n毎週水曜日 午後1：00～／FMスマイルウエ～ブ \n毎週水曜日 夜10：00～／KOCOラジ＜郡山コミュニティ放送＞ \n毎週土曜日 午前9：00～／FMわっしょい \n  \n●再放送：　FM-NANAKO／毎週土曜日 午後3：00～　　FM AQUA／毎週日曜日午前11：00～ \n  \n●周波数：　 \nFM-NANAKO／77.5MHz　　FM AQUA／87.8MHz　　COME ON！FM／76.4MHz \nしゅうなんFM／78.4MHz　　FMスマイルウエ～ブ／89.7MHz　　FMわっしょい／77.3MHz \nFMはつかいち／76.1MHz　KOCOラジ／79.1MHz \n  \n●インターネットで聴く：　※全国どこでもインターネットでラジオが聴けるページです。 \n  \n■JCBAインターネットサイマルラジオで聴く \n中国地区の「COME ON! FM」  or  「しゅうなんFM」　の　「LISTEN♪」　をクリックしてください♪ \n■COME ON! FMをインターネットで聴く \n■FMはつかいちをインターネットで聴く \n■FMスマイルウエ～ブをインターネットで聴く \n■FMわっしょいをインターネットで聴く（土曜日 午前9:00～） \n  \n■サイマルラジオで聴く \n東北地区の「郡山コミュニティ放送」　の　「放送を聴く」　をクリックしてください♪ \n■KOCOラジ＜郡山コミュニティ放送＞をインターネットで聴く（水曜日 夜10：00～） \n  \n  \n●リクエスト＆メッセージ🎵：　misuzufm.0407@gmail.com \nもしくは　FM-NANAKO／775@haginet.ne.jp　　FM AQUA／878@fmaqua.jp　　COME ON！FM／こちらから　　 \nしゅうなんFM／studio@fms784.co.jp　　　FMスマイルウエ～ブ／こちらから　　　FMわっしょい／こちらから \nFMはつかいち／こちらから　　KOCOラジ＜郡山コミュニティ放送＞／こちらから \n  \n●各局website： \n□FM-NANAKO（萩市） \n□FM AQUA（長門市） \n□COME ON ! FM（下関市内及び山陽小野田市、北九州市門司区・小倉北区の各一部） \n□しゅうなんFM（周南市・下松市、光市の一部） \n□FMはつかいち（広島県廿日市市）※水曜日 午前11：30～ \n□FMスマイルウエ～ブ（山陽小野田市、宇部市・美祢市・下関市の一部地域） ※水曜日 午後1：00～ \n□KOCOラジ（福島県郡山市） ※水曜日 夜10：00～ \n□FMわっしょい（防府市） ※土曜日 午前9：00～ \n  \n 
URL:https://chihirosound.com/event/13782
LOCATION:三重県
CATEGORIES:オススメ,ラジオ
END:VEVENT
END:VCALENDAR