BEGIN:VCALENDAR
VERSION:2.0
PRODID:-//ちひろ Official Website ～金子みすゞの心を歌う～  CHIHIRO Official Website - MISUZU KANEKO- - ECPv6.15.11//NONSGML v1.0//EN
CALSCALE:GREGORIAN
METHOD:PUBLISH
X-ORIGINAL-URL:https://chihirosound.com
X-WR-CALDESC:ちひろ Official Website ～金子みすゞの心を歌う～  CHIHIRO Official Website - MISUZU KANEKO- のイベント
REFRESH-INTERVAL;VALUE=DURATION:PT1H
X-Robots-Tag:noindex
X-PUBLISHED-TTL:PT1H
BEGIN:VTIMEZONE
TZID:Asia/Tokyo
BEGIN:STANDARD
TZOFFSETFROM:+0900
TZOFFSETTO:+0900
TZNAME:JST
DTSTART:20210101T000000
END:STANDARD
END:VTIMEZONE
BEGIN:VEVENT
DTSTART;TZID=Asia/Tokyo:20220730T150000
DTEND;TZID=Asia/Tokyo:20220730T152500
DTSTAMP:20260423T225501
CREATED:20220801T102024Z
LAST-MODIFIED:20220801T102024Z
UID:13757-1659193200-1659194700@chihirosound.com
SUMMARY:Radio〔愛媛県〕
DESCRIPTION:【Title】Hello! NEW 新居浜FM 78.0 ちひろ電話出演！（※7月23日分の再放送）\n  \n●と　き：　7月30日（土） \n●時　間：　15：00～15：25 \n  \n●ラジオ局：　新居浜FM \n●番　組：　『あっちゃん先生と旅する、金子みすゞの世界 第9回』 \n●パーソナリティ：　あっちゃん先生（枝廣 篤昌さん） \n●ゲスト：　ちひろ \n●周波数：　78.0 MHz \n  \n●インターネットで聴く：　こちらから \n●番組へのお便り：　misuzunosekai@gmail.com
URL:https://chihirosound.com/event/13757
LOCATION:三重県
CATEGORIES:オススメ,ラジオ
END:VEVENT
END:VCALENDAR