BEGIN:VCALENDAR
VERSION:2.0
PRODID:-//ちひろ Official Website ～金子みすゞの心を歌う～  CHIHIRO Official Website - MISUZU KANEKO- - ECPv6.15.11//NONSGML v1.0//EN
CALSCALE:GREGORIAN
METHOD:PUBLISH
X-WR-CALNAME:ちひろ Official Website ～金子みすゞの心を歌う～  CHIHIRO Official Website - MISUZU KANEKO-
X-ORIGINAL-URL:https://chihirosound.com
X-WR-CALDESC:ちひろ Official Website ～金子みすゞの心を歌う～  CHIHIRO Official Website - MISUZU KANEKO- のイベント
REFRESH-INTERVAL;VALUE=DURATION:PT1H
X-Robots-Tag:noindex
X-PUBLISHED-TTL:PT1H
BEGIN:VTIMEZONE
TZID:Asia/Tokyo
BEGIN:STANDARD
TZOFFSETFROM:+0900
TZOFFSETTO:+0900
TZNAME:JST
DTSTART:20210101T000000
END:STANDARD
END:VTIMEZONE
BEGIN:VEVENT
DTSTART;TZID=Asia/Tokyo:20220723T133000
DTEND;TZID=Asia/Tokyo:20220723T153000
DTSTAMP:20260424T020202
CREATED:20220301T142412Z
LAST-MODIFIED:20220617T004007Z
UID:12573-1658583000-1658590200@chihirosound.com
SUMMARY:Stage〔山口県〕
DESCRIPTION:【Title】山口の朗読屋さん　金子みすゞ『キネマの街』赤れんが朗読会\n夏の思い出づくり―絵画×ちひろ×朗読―　ちひろミニコンサート \n  \n●と　き：　7月23日（土） \n●ところ：　クリエイティブスペース赤れんが 1F（山口県山口市中河原町5-12） \n※会場の地図はこちら \n●時　間：　開場／12：00　　開演／13：30～15：30 \n  \n●招待講師：　福田 百合子 中原中也記念館 名誉館長 \n●ゲスト：　ちひろ \n  \n●対　象：　どなたでもOK（事前に申し込みが必要です） \n●定　員：　50名 \n●参加費：　無料 \n  \n●お申込先・問合せ先：　林 伸一　 \n●連絡先：　電話／090-6415-8203　Fax／083-920-3459　E-mail： hayashix@yamaguchi-u.ac.jp \n●主　催：　山口の朗読屋さん \n●後　援：　山口市（申請中）、公益財団法人 山口市文化振興財団助成事業 \nギャラリー楓花グループの作品展示もございます \n  \nPDFはこちら \n \n  \n  \n【　21日（木）、22日（金）も絵画の作品展示がございます！ちひろの油絵も展示しています】 \nPDFはこちら \n \n 
URL:https://chihirosound.com/event/12573
LOCATION:クリエイティブスペース赤れんが\, 山口県山口市中河原町５−１２\, 山口市\, 山口県\, 753-0088\, 日本
CATEGORIES:オススメ,コンサート
ATTACH;FMTTYPE=image/jpeg:https://chihirosound.com/wp-content/uploads/2022/06/a076a335e384aabd52332ce6f4e720c5.jpg
END:VEVENT
BEGIN:VEVENT
DTSTART;TZID=Asia/Tokyo:20220723T150000
DTEND;TZID=Asia/Tokyo:20220723T152500
DTSTAMP:20260424T020202
CREATED:20220801T101909Z
LAST-MODIFIED:20220801T101909Z
UID:13755-1658588400-1658589900@chihirosound.com
SUMMARY:
DESCRIPTION:【Title】Hello! NEW 新居浜FM 78.0 ちひろ電話出演！（収録放送）\n  \n●と　き：　7月23日（土） \n●時　間：　15：00～15：25 \n  \n●ラジオ局：　新居浜FM \n●番　組：　『あっちゃん先生と旅する、金子みすゞの世界 第9回』 \n●パーソナリティ：　あっちゃん先生（枝廣 篤昌さん） \n●ゲスト：　ちひろ \n●周波数：　78.0 MHz \n  \n●インターネットで聴く：　こちらから \n●番組へのお便り：　misuzunosekai@gmail.com \n 
URL:https://chihirosound.com/event/13755
LOCATION:三重県
CATEGORIES:オススメ,ラジオ
END:VEVENT
END:VCALENDAR