BEGIN:VCALENDAR
VERSION:2.0
PRODID:-//ちひろ Official Website ～金子みすゞの心を歌う～  CHIHIRO Official Website - MISUZU KANEKO- - ECPv6.15.11//NONSGML v1.0//EN
CALSCALE:GREGORIAN
METHOD:PUBLISH
X-WR-CALNAME:ちひろ Official Website ～金子みすゞの心を歌う～  CHIHIRO Official Website - MISUZU KANEKO-
X-ORIGINAL-URL:https://chihirosound.com
X-WR-CALDESC:ちひろ Official Website ～金子みすゞの心を歌う～  CHIHIRO Official Website - MISUZU KANEKO- のイベント
REFRESH-INTERVAL;VALUE=DURATION:PT1H
X-Robots-Tag:noindex
X-PUBLISHED-TTL:PT1H
BEGIN:VTIMEZONE
TZID:Asia/Tokyo
BEGIN:STANDARD
TZOFFSETFROM:+0900
TZOFFSETTO:+0900
TZNAME:JST
DTSTART:20210101T000000
END:STANDARD
END:VTIMEZONE
BEGIN:VEVENT
DTSTART;TZID=Asia/Tokyo:20220716T143000
DTEND;TZID=Asia/Tokyo:20220716T160000
DTSTAMP:20260424T020202
CREATED:20220506T134729Z
LAST-MODIFIED:20220506T134729Z
UID:13092-1657981800-1657987200@chihirosound.com
SUMMARY:Concert〔大阪市旭区〕
DESCRIPTION:【Title】「第72回 社会を明るくする運動 強調月間 旭区民大会」 \nちひろコンサート 自分らしく役に立つ生き方を\n～金子みすゞ 愛のメッセージ～\n  \n●と　き：　7月16日（土） \n●ところ：　旭区民センター 大ホール（大阪市旭区中宮1丁目11-14） \n※会場の地図はこちら \n●時　間：　開場／13：30　　開会／14：00　　開演／14：30～16：00 \n  \n●入場料：　無料　　 \n●対　象：　どなたでもOK　　 \n●定　員：　500名（当日先着順） \n  \n●主　催：　旭区「社会を明るくする運動」推進委員会、旭地区保護司会、旭区更生保護事業助成会、旭区更生保護女性会、旭地区BBS会、\n旭区青少年健全育成推進会議、 \n  \n●協　賛：　旭区人権啓発推進会、旭区民生委員児童委員協議会 \n●後　援：　旭区地域振興会、旭区社会福祉協議会、旭区PTA協議会、旭区青少年福祉委員連絡協議会、旭区青少年指導員連絡協議会、旭区子ども会育成連合協議会、旭役所、区内官公署（所） \n  \n●お問合せ：　旭地区保護司会　phone／06-6180-9771　Fax／06-6180-9787  \n  \nPDFはこちら
URL:https://chihirosound.com/event/13092
LOCATION:三重県
CATEGORIES:オススメ,コンサート
ATTACH;FMTTYPE=image/jpeg:https://chihirosound.com/wp-content/uploads/2022/05/32b57d390c6ba4084d7c65e5fe99957f.jpg
END:VEVENT
END:VCALENDAR