BEGIN:VCALENDAR
VERSION:2.0
PRODID:-//ちひろ Official Website ～金子みすゞの心を歌う～  CHIHIRO Official Website - MISUZU KANEKO- - ECPv6.15.11//NONSGML v1.0//EN
CALSCALE:GREGORIAN
METHOD:PUBLISH
X-ORIGINAL-URL:https://chihirosound.com
X-WR-CALDESC:ちひろ Official Website ～金子みすゞの心を歌う～  CHIHIRO Official Website - MISUZU KANEKO- のイベント
REFRESH-INTERVAL;VALUE=DURATION:PT1H
X-Robots-Tag:noindex
X-PUBLISHED-TTL:PT1H
BEGIN:VTIMEZONE
TZID:Asia/Tokyo
BEGIN:STANDARD
TZOFFSETFROM:+0900
TZOFFSETTO:+0900
TZNAME:JST
DTSTART:20210101T000000
END:STANDARD
END:VTIMEZONE
BEGIN:VEVENT
DTSTART;TZID=Asia/Tokyo:20220607T165000
DTEND;TZID=Asia/Tokyo:20220607T185500
DTSTAMP:20260424T002318
CREATED:20220607T070018Z
LAST-MODIFIED:20220607T072058Z
UID:13473-1654620600-1654628100@chihirosound.com
SUMMARY:TV〔山口県〕
DESCRIPTION:【Title】tysテレビ山口『mix』ニュースで ちひろ・ゆう太・ゆう子が紹介されます！\n●と　き：　6月7日（火） \n●時　間：　16：50～18：55の中で \n●放送局：　tysテレビ山口 \n●番　組：　『mix』 \n●放送内容：　野田学園幼稚園を訪問した様子がニュースで紹介されます！湯田温泉の白きつねゆう太・ゆう子と共に♪ \n●放送エリア：　山口県内と周辺受信エリア \n  \n \n  \n \n  \n 
URL:https://chihirosound.com/event/13473
LOCATION:三重県
CATEGORIES:オススメ,テレビ
ATTACH;FMTTYPE=image/jpeg:https://chihirosound.com/wp-content/uploads/2022/06/464b81f14d5a8a06201a0344f003ddf4-scaled.jpg
ORGANIZER;CN="tys%E3%83%86%E3%83%AC%E3%83%93%E5%B1%B1%E5%8F%A3":MAILTO:mix@tys.co.jp
END:VEVENT
BEGIN:VEVENT
DTSTART;TZID=Asia/Tokyo:20220607T190000
DTEND;TZID=Asia/Tokyo:20220608T140000
DTSTAMP:20260424T002318
CREATED:20220607T071837Z
LAST-MODIFIED:20220607T071837Z
UID:13481-1654628400-1654696800@chihirosound.com
SUMMARY:C-able TV〔山口県〕
DESCRIPTION:【Title】山口ケーブルビジョン「まちかどNEWS」でちひろ・ゆう太・ゆう子が紹介されます！\n  \n●と　き：　■6月7日（火）19：00／初回放送　～ 8日（水）14：00まで計6回の再放送 \n●時　間：　①19：00～　②20：00～　③23：00～　④翌日午前9：00～　⑤午前11：00～　⑥14：00～ \n  \n●放送局：　山口ケーブルビジョン \n●番　組：　「まちかどNEWS」 \n●キャスター：　佐藤 忠典さん \n●概　要：　野田学園幼稚園を訪問した様子がニュースで紹介されます！湯田温泉の白きつねゆう太・ゆう子とともに♪ \n●ご視聴方法：　対象エリアの加入者（山口市・防府市・美祢市・宇部市） \n  \n \n  \n \n  \n \n 
URL:https://chihirosound.com/event/13481
LOCATION:三重県
CATEGORIES:オススメ,テレビ
ATTACH;FMTTYPE=image/jpeg:https://chihirosound.com/wp-content/uploads/2022/06/f9869b6744e8122d3cff45763f6ea1b8-scaled.jpg
ORGANIZER;CN="%E5%B1%B1%E5%8F%A3%E3%82%B1%E3%83%BC%E3%83%96%E3%83%AB%E3%83%93%E3%82%B8%E3%83%A7%E3%83%B3":MAILTO:news@c-able.co.jp
END:VEVENT
END:VCALENDAR