BEGIN:VCALENDAR
VERSION:2.0
PRODID:-//ちひろ Official Website ～金子みすゞの心を歌う～  CHIHIRO Official Website - MISUZU KANEKO- - ECPv6.15.11//NONSGML v1.0//EN
CALSCALE:GREGORIAN
METHOD:PUBLISH
X-ORIGINAL-URL:https://chihirosound.com
X-WR-CALDESC:ちひろ Official Website ～金子みすゞの心を歌う～  CHIHIRO Official Website - MISUZU KANEKO- のイベント
REFRESH-INTERVAL;VALUE=DURATION:PT1H
X-Robots-Tag:noindex
X-PUBLISHED-TTL:PT1H
BEGIN:VTIMEZONE
TZID:Asia/Tokyo
BEGIN:STANDARD
TZOFFSETFROM:+0900
TZOFFSETTO:+0900
TZNAME:JST
DTSTART:20210101T000000
END:STANDARD
END:VTIMEZONE
BEGIN:VEVENT
DTSTART;TZID=Asia/Tokyo:20220416T140000
DTEND;TZID=Asia/Tokyo:20220416T160000
DTSTAMP:20260424T073224
CREATED:20220301T140651Z
LAST-MODIFIED:20220301T140651Z
UID:13176-1650117600-1650124800@chihirosound.com
SUMMARY:Stage〔山口県〕
DESCRIPTION:【Title】山口の朗読屋さん 春の朗読会 Part 1「金子みすゞ朗読会」\nちひろミニコンサート 明るい方へ～金子みすゞの心とともに～\n  \n●と　き：　4月16日（土） \n●ところ：　吉敷地域交流センター（山口県山口市吉敷佐畑1丁目4-427） \n※会場の地図はこちら \n●時　間：　午後2：00～4：00 \n  \n●ゲスト講師：　福田 百合子 中原中也記念館長 \n●ゲスト：　ちひろ \n  \n●対　象：　どなたでもOK \n●定　員：　50名 \n●参加費：　500円（下記宛事前予約制） \n  \n●お申込先・問合せ先：　林 伸一　〒753-0815　山口市維新公園1-12-5 \n●連絡先：　電話／090-6415-8203　Fax／083-920-3459　E-mail： hayashix@yamaguchi-u.ac.jp \n●主　催：　山口の朗読屋さん \n●後　援：　山口市、山口市教育委員会 \nPDFはこちら \n \n 
URL:https://chihirosound.com/event/13176
LOCATION:三重県
CATEGORIES:オススメ,コンサート
ATTACH;FMTTYPE=image/jpeg:https://chihirosound.com/wp-content/uploads/2022/03/054d46ffdcbac4922d11253ab0aeea24-1.jpg
END:VEVENT
END:VCALENDAR