BEGIN:VCALENDAR
VERSION:2.0
PRODID:-//ちひろ Official Website ～金子みすゞの心を歌う～  CHIHIRO Official Website - MISUZU KANEKO- - ECPv6.15.11//NONSGML v1.0//EN
CALSCALE:GREGORIAN
METHOD:PUBLISH
X-ORIGINAL-URL:https://chihirosound.com
X-WR-CALDESC:ちひろ Official Website ～金子みすゞの心を歌う～  CHIHIRO Official Website - MISUZU KANEKO- のイベント
REFRESH-INTERVAL;VALUE=DURATION:PT1H
X-Robots-Tag:noindex
X-PUBLISHED-TTL:PT1H
BEGIN:VTIMEZONE
TZID:Asia/Tokyo
BEGIN:STANDARD
TZOFFSETFROM:+0900
TZOFFSETTO:+0900
TZNAME:JST
DTSTART:20210101T000000
END:STANDARD
END:VTIMEZONE
BEGIN:VEVENT
DTSTART;TZID=Asia/Tokyo:20220403T104500
DTEND;TZID=Asia/Tokyo:20220403T105500
DTSTAMP:20260424T073222
CREATED:20220406T105950Z
LAST-MODIFIED:20220406T105950Z
UID:12859-1648982700-1648983300@chihirosound.com
SUMMARY:Radio〔兵庫県〕
DESCRIPTION:【Title】さくらFM（兵庫県西宮市・芦屋市）『桜咲くまち』（作詞 作曲 ちひろ）が4月の毎週日曜日にON AIR！\n  \n●と　き：　4月の毎週日曜日 \n●時　間：　午前10：45～ \n●ラジオ局：　さくらFM \n●番組名：　「まちたびラヂヲ」 \n●コーナー：　まちたびマンスリーミュージック \n●パーソナリティ：　ささきみほ さん \n  \n●周波数：　78.7 MHz \n●放送エリア：　西宮市・芦屋市 その周辺受信エリア \n●インターネットで聴く：　こちらから \n●リクエスト＆メッセージ：　こちらから　　or　　787@sakura-fm.co.jp
URL:https://chihirosound.com/event/12859
LOCATION:三重県
CATEGORIES:オススメ,ラジオ
ORGANIZER;CN="%E3%81%95%E3%81%8F%E3%82%89FM":MAILTO:info＠sakura-fm.co.jp
END:VEVENT
BEGIN:VEVENT
DTSTART;TZID=Asia/Tokyo:20220403T140000
DTEND;TZID=Asia/Tokyo:20220403T143000
DTSTAMP:20260424T073222
CREATED:20220331T163706Z
LAST-MODIFIED:20220331T163706Z
UID:12770-1648994400-1648996200@chihirosound.com
SUMMARY:KRYラジオ「ちひろDEブレイク」
DESCRIPTION:♠♣♥♦毎週日曜日放送のちひろレギュラー番組♠♣♥♦\nコンサート会場での裏話、ＣＤアルバム制作秘話、名言コーナー、金子みすゞの詩をご紹介など、内容盛り沢山の30分です♪ \n  \n●毎週日曜日：　午後2：00～ \n●パーソナリティ：　ちひろ、瀬川 嘉 \n  \n●ちひろDEブレイク：　Official Website・ブログ・みすゞ心のメッセージ \n●周波数一覧 -KRY山口放送-：　こちら（AM・FMで聴く） \n●パソコン・スマホでKRYラジオが聴ける：　radiko.jp \n  \n●ご意見・ご感想はこちら \nメール：break@kry.co.jp\nＦＡＸ：0834-32-9000\nハガキ：〒745-8686　山口放送「ちひろDEブレイク」係 \nメッセージフォームはこちらから
URL:https://chihirosound.com/event/12770
LOCATION:三重県
CATEGORIES:オススメ,ラジオ
END:VEVENT
BEGIN:VEVENT
DTSTART;TZID=Asia/Tokyo:20220403T143000
DTEND;TZID=Asia/Tokyo:20220403T153000
DTSTAMP:20260424T073222
CREATED:20220301T140439Z
LAST-MODIFIED:20220321T132352Z
UID:12551-1648996200-1648999800@chihirosound.com
SUMMARY:Stage〔山口県〕
DESCRIPTION:【Title】2022「湯田温泉白狐まつり」ちひろステージ\n●と　き：　4月3日（日）　 \nお祭りは2日（土）もございます！ちひろステージ・総踊りは3日（日）に開催です♪ \n●ところ：　井上公園 （山口県山口市湯田温泉2丁目5） \n※会場の地図はこちら \n  \n●時　間：　午後2：30～／ちひろステージ　　午後3：00～／総踊り \n※総踊りでちひろが生歌でお届けする『湯田温泉にKON来ん？』（作詞作曲/ちひろ）をみんなで踊ります♪ \n  \n●対　象：　どなたでもOK \n●主　催：　湯田温泉白狐まつり実行委員会 \n●お問合せ：　湯田温泉白狐まつり実行委員会 \n  \n \n 
URL:https://chihirosound.com/event/12551
LOCATION:井上公園\, 山口県山口市湯田温泉２丁目５\, 山口市\, 山口県\, 753-0056\, Japan
CATEGORIES:オススメ,コンサート
ATTACH;FMTTYPE=image/jpeg:https://chihirosound.com/wp-content/uploads/2022/03/275668927_2697391683738892_1211138924428188827_n.jpg
END:VEVENT
BEGIN:VEVENT
DTSTART;TZID=Asia/Tokyo:20220403T143000
DTEND;TZID=Asia/Tokyo:20220403T153000
DTSTAMP:20260424T073222
CREATED:20220301T140439Z
LAST-MODIFIED:20220301T140439Z
UID:13175-1648996200-1648999800@chihirosound.com
SUMMARY:Stage〔山口県〕
DESCRIPTION:【Title】2022「湯田温泉白狐まつり」ちひろステージ & 総踊り・フィナーレ\n●と　き：　4月3日（日）　 \nお祭りは2日（土）もございます！ちひろステージ・総踊りは3日（日）に開催です♪ \n●ところ：　井上公園 （山口県山口市湯田温泉2丁目5） \n※会場の地図はこちら \n  \n●時　間：　午後2：30～／ちひろステージ　　午後3：00～／総踊り \n※総踊りでちひろが生歌でお届けする『湯田温泉にKON来ん？』（作詞作曲/ちひろ）をみんなで踊ります♪ \n  \n●対　象：　どなたでもOK \n●主　催：　湯田温泉白狐まつり実行委員会 \n●お問合せ：　湯田温泉白狐まつり実行委員会 \nPDFはこちら \n \n \n \n  \n 
URL:https://chihirosound.com/event/13175
LOCATION:井上公園\, 山口県山口市湯田温泉２丁目５\, 山口市\, 山口県\, 753-0056\, Japan
CATEGORIES:オススメ,コンサート
ATTACH;FMTTYPE=image/jpeg:https://chihirosound.com/wp-content/uploads/2022/03/2022-yuda_page-0002.jpg
END:VEVENT
END:VCALENDAR