BEGIN:VCALENDAR
VERSION:2.0
PRODID:-//ちひろ Official Website ～金子みすゞの心を歌う～  CHIHIRO Official Website - MISUZU KANEKO- - ECPv6.15.11//NONSGML v1.0//EN
CALSCALE:GREGORIAN
METHOD:PUBLISH
X-ORIGINAL-URL:https://chihirosound.com
X-WR-CALDESC:ちひろ Official Website ～金子みすゞの心を歌う～  CHIHIRO Official Website - MISUZU KANEKO- のイベント
REFRESH-INTERVAL;VALUE=DURATION:PT1H
X-Robots-Tag:noindex
X-PUBLISHED-TTL:PT1H
BEGIN:VTIMEZONE
TZID:Asia/Tokyo
BEGIN:STANDARD
TZOFFSETFROM:+0900
TZOFFSETTO:+0900
TZNAME:JST
DTSTART:20210101T000000
END:STANDARD
END:VTIMEZONE
BEGIN:VEVENT
DTSTART;TZID=Asia/Tokyo:20220401T124000
DTEND;TZID=Asia/Tokyo:20220401T130000
DTSTAMP:20260424T073227
CREATED:20220330T061638Z
LAST-MODIFIED:20220330T061638Z
UID:12738-1648816800-1648818000@chihirosound.com
SUMMARY:Radio〔福島県〕
DESCRIPTION:【Title】KOCOラジ（郡山コミュニティ放送）に電話ゲスト出演！\n  \n●と　き：　4月1日（金） \n●時　間：　お昼12：40～ \n●ラジオ局：　KOCOラジ（郡山コミュニティ放送） \n●番　組：　『ひるココ』 \n●パーソナリティ：　宗方 和子　さん \n  \n●周波数：　79.1MHHz \n●放送エリア：　郡山駅から20kmの範囲 \n●インターネットで聴く：　サイマルラジオ \n※全国どこでもインターネットでラジオが聴けるページです。 \nページ途中の、郡山コミュニティ放送「放送を聴く」をクリックしてください♪ \n●リクエスト＆メッセージ：　Eメール＜koco@kocofm.jp＞　　F A X ＜024-953-6161＞
URL:https://chihirosound.com/event/12738
LOCATION:三重県
CATEGORIES:オススメ,ラジオ
ORGANIZER;CN="%E9%83%A1%E5%B1%B1%E3%82%B3%E3%83%9F%E3%83%A5%E3%83%8B%E3%83%86%E3%82%A3%E6%94%BE%E9%80%81":MAILTO:koco@kocofm.jp
END:VEVENT
BEGIN:VEVENT
DTSTART;TZID=Asia/Tokyo:20220401T124500
DTEND;TZID=Asia/Tokyo:20220401T130000
DTSTAMP:20260424T073227
CREATED:20220331T093422Z
LAST-MODIFIED:20220331T093422Z
UID:13182-1648817100-1648818000@chihirosound.com
SUMMARY:Cable-TV〔山口県〕
DESCRIPTION:【Title】シティケーブル周南 & 山口ケーブルビジョンで西川満希子さんの『ズッキーニ』放送開始！\n4月のゲスト「ちひろ」（前半）\n  \n●と　き：　4月1日（金）～16日（土）　 \n◇放送局：　シティケーブル周南 \n●時　間：　①午前8：00～　　②午後2：00～　　③夜11：45～ \n  \n◇放送局：　山口ケーブルビジョン \n●時　間：　お昼12：45～ \n  \n●番　組：　『ズッキーニ』 \n●レギュラー：　西川 満希子さん \n●ゲスト：　ちひろ \n●概　要：　シティケーブル周南で放送中の番組が山口ケーブルビジョンでも放送開始！ \n●ご視聴方法：　対象エリアの加入者（山口市・防府市・美祢市・宇部市） \n  \n \n  \n 
URL:https://chihirosound.com/event/13182
LOCATION:三重県
CATEGORIES:オススメ,テレビ
ATTACH;FMTTYPE=image/jpeg:https://chihirosound.com/wp-content/uploads/2022/03/IMG_2799-scaled-1.jpg
END:VEVENT
END:VCALENDAR