BEGIN:VCALENDAR
VERSION:2.0
PRODID:-//ちひろ Official Website ～金子みすゞの心を歌う～  CHIHIRO Official Website - MISUZU KANEKO- - ECPv6.15.11//NONSGML v1.0//EN
CALSCALE:GREGORIAN
METHOD:PUBLISH
X-WR-CALNAME:ちひろ Official Website ～金子みすゞの心を歌う～  CHIHIRO Official Website - MISUZU KANEKO-
X-ORIGINAL-URL:https://chihirosound.com
X-WR-CALDESC:ちひろ Official Website ～金子みすゞの心を歌う～  CHIHIRO Official Website - MISUZU KANEKO- のイベント
REFRESH-INTERVAL;VALUE=DURATION:PT1H
X-Robots-Tag:noindex
X-PUBLISHED-TTL:PT1H
BEGIN:VTIMEZONE
TZID:Asia/Tokyo
BEGIN:STANDARD
TZOFFSETFROM:+0900
TZOFFSETTO:+0900
TZNAME:JST
DTSTART:20210101T000000
END:STANDARD
END:VTIMEZONE
BEGIN:VEVENT
DTSTART;TZID=Asia/Tokyo:20220202T190000
DTEND;TZID=Asia/Tokyo:20220204T140000
DTSTAMP:20260424T110047
CREATED:20220119T020929Z
LAST-MODIFIED:20220202T092420Z
UID:12196-1643828400-1643983200@chihirosound.com
SUMMARY:Cacle-TV〔山口県〕
DESCRIPTION:【Title】山口ケーブルビジョン「まちかどNEWS」にちひろスタジオ出演！\n「ヤサイコトバ」の歌についてご紹介いたします♪\n  \n●と　き：　■2月2日（水）午後7：00／初回放送　～ 4日（金）午後2：00まで計12回の再放送 \n●時　間：　①午後7：00～　②午後8：00～　③午後11：00～　④翌日午前9：00～　⑤午前11：00～　⑥午後2：00～ \n  \n●放送局：　山口ケーブルビジョン \n●番　組：　「まちかどNEWS」 \n●キャスター：　佐藤 忠典さん \n●概　要：　スタジオ出演の模様がON AIRされます！ \n●ご視聴方法：　対象エリアの加入者（山口市・防府市・美祢市・宇部市） \n 
URL:https://chihirosound.com/event/12196
LOCATION:三重県
CATEGORIES:オススメ,テレビ
ORGANIZER;CN="%E5%B1%B1%E5%8F%A3%E3%82%B1%E3%83%BC%E3%83%96%E3%83%AB%E3%83%93%E3%82%B8%E3%83%A7%E3%83%B3":MAILTO:news@c-able.co.jp
END:VEVENT
BEGIN:VEVENT
DTSTART;TZID=Asia/Tokyo:20220204T170500
DTEND;TZID=Asia/Tokyo:20220204T175500
DTSTAMP:20260424T110047
CREATED:20210420T031551Z
LAST-MODIFIED:20220207T014426Z
UID:10144-1643994300-1643997300@chihirosound.com
SUMMARY:NHKラジオ「YAMAGUTIC」
DESCRIPTION:【Title】NHK「中国！ちゅーもく！ラジオYAMAGUTIC」\n「われらのテナー」藤原義江の魅力をたっぷりと\n  \n●と　き：　2月4日（金） \n●時　間：　午後5：05～5：55 \n●ラジオ局：　NHKラジオ第1 \n●番　組：　ラジオYAMAGUTIC \n  \n●メールやご意見募集：　こちら \n●放送受信エリア：　中国地方5県（山口県、広島県、岡山県、島根県、鳥取県） \n  \n●インターネットラジオ：　全国でお聴きいただけます！　　らじる★らじる \nパソコン・スマートフォン・タブレットなどで、全国どこでもお聴きいただけるサービスです。 \n  \n【聴取方法】＜スマートフォン・タブレットの場合は、まずアプリ（無料）をダウンロードしてください＞ \n■らじる★らじる にアクセス　→　ラジオ第1（R1） をクリック　→　放送局を選択　→　広島 \n※詳しくはこちら \n  \n●出　演：　条谷 有香 アナウンサー、ちひろ \n●電話ゲスト：　道の駅萩しーまーと駅長 \n 
URL:https://chihirosound.com/event/10144
LOCATION:三重県
CATEGORIES:オススメ,ラジオ
ORGANIZER;CN="NHK%E5%B1%B1%E5%8F%A3%E6%94%BE%E9%80%81%E5%B1%80":MAILTO:https://www.nhk.or.jp/yamaguchi/contact/form.html
END:VEVENT
END:VCALENDAR