BEGIN:VCALENDAR
VERSION:2.0
PRODID:-//ちひろ Official Website ～金子みすゞの心を歌う～  CHIHIRO Official Website - MISUZU KANEKO- - ECPv6.15.11//NONSGML v1.0//EN
CALSCALE:GREGORIAN
METHOD:PUBLISH
X-ORIGINAL-URL:https://chihirosound.com
X-WR-CALDESC:ちひろ Official Website ～金子みすゞの心を歌う～  CHIHIRO Official Website - MISUZU KANEKO- のイベント
REFRESH-INTERVAL;VALUE=DURATION:PT1H
X-Robots-Tag:noindex
X-PUBLISHED-TTL:PT1H
BEGIN:VTIMEZONE
TZID:Asia/Tokyo
BEGIN:STANDARD
TZOFFSETFROM:+0900
TZOFFSETTO:+0900
TZNAME:JST
DTSTART:20210101T000000
END:STANDARD
END:VTIMEZONE
BEGIN:VEVENT
DTSTART;TZID=Asia/Tokyo:20220123T150000
DTEND;TZID=Asia/Tokyo:20220123T170000
DTSTAMP:20260424T165427
CREATED:20211221T095457Z
LAST-MODIFIED:20211221T095457Z
UID:11939-1642950000-1642957200@chihirosound.com
SUMMARY:Cable-TV〔山口県〕
DESCRIPTION:【Title】はあぶビジョン特別編成番組で「ちひろ講演会コンサート」を放送！\n●日　時：　 \n■1月1日（土・祝）午後4：00～／初回放送　　 \n■2日（日）午前10：00～／再放送　　 \n■5日（水）午後1：00～／再放送　　 \n■1月中の毎週日曜日（9、16、23、30日） 午後3：00～／再放送 \n●放送局：　はあぶビジョン \n●概　要：　12月4日（土）に萩市民館 大ホールにて開催された「人権の心をはぐくむ市民の集い2021」ちひろコンサートの模様を放送いたします！ \n●ご視聴方法：　対象エリア（萩市・阿武町・その他）の加入者
URL:https://chihirosound.com/event/11939
LOCATION:三重県
CATEGORIES:オススメ,コンサート,テレビ,講演
END:VEVENT
BEGIN:VEVENT
DTSTART;TZID=Asia/Tokyo:20220123T163000
DTEND;TZID=Asia/Tokyo:20220123T170000
DTSTAMP:20260424T165427
CREATED:20220101T090434Z
LAST-MODIFIED:20220113T144518Z
UID:12081-1642955400-1642957200@chihirosound.com
SUMMARY:KRYラジオ「ちひろDEブレイク」
DESCRIPTION:本日1月23日は特別番組編成の為、\n「ちひろDEブレイク」の放送時間が午後4：30～に変更となります。何卒ご了承くださいませ。\n  \n♠♣♥♦毎週日曜日放送のちひろレギュラー番組♠♣♥♦\nコンサート会場での裏話、ＣＤアルバム制作秘話、名言コーナー、金子みすゞの詩をご紹介など、内容盛り沢山の30分です♪ \n  \n●毎週日曜日：　本日1月23日のみ午後4：30～ \n●パーソナリティ：　ちひろ、瀬川 嘉 \n  \n●ちひろDEブレイク：　Official Website・ブログ・みすゞ心のメッセージ \n●周波数一覧 -KRY山口放送-：　こちら（AM・FMで聴く） \n●パソコン・スマホでKRYラジオが聴ける：　radiko.jp \n  \n●ご意見・ご感想はこちら \nメール：break@kry.co.jp\nＦＡＸ：0834-32-9000\nハガキ：〒745-8686　山口放送「ちひろDEブレイク」係 \nメッセージフォームはこちらから
URL:https://chihirosound.com/event/12081
LOCATION:三重県
CATEGORIES:オススメ,ラジオ
END:VEVENT
END:VCALENDAR