BEGIN:VCALENDAR
VERSION:2.0
PRODID:-//ちひろ Official Website ～金子みすゞの心を歌う～  CHIHIRO Official Website - MISUZU KANEKO- - ECPv6.15.11//NONSGML v1.0//EN
CALSCALE:GREGORIAN
METHOD:PUBLISH
X-ORIGINAL-URL:https://chihirosound.com
X-WR-CALDESC:ちひろ Official Website ～金子みすゞの心を歌う～  CHIHIRO Official Website - MISUZU KANEKO- のイベント
REFRESH-INTERVAL;VALUE=DURATION:PT1H
X-Robots-Tag:noindex
X-PUBLISHED-TTL:PT1H
BEGIN:VTIMEZONE
TZID:Asia/Tokyo
BEGIN:STANDARD
TZOFFSETFROM:+0900
TZOFFSETTO:+0900
TZNAME:JST
DTSTART:20210101T000000
END:STANDARD
END:VTIMEZONE
BEGIN:VEVENT
DTSTART;TZID=Asia/Tokyo:20220116T140000
DTEND;TZID=Asia/Tokyo:20220116T143000
DTSTAMP:20260424T165428
CREATED:20220101T090538Z
LAST-MODIFIED:20220101T090538Z
UID:12083-1642341600-1642343400@chihirosound.com
SUMMARY:KRYラジオ「ちひろDEブレイク」
DESCRIPTION:♠♣♥♦毎週日曜日放送のちひろレギュラー番組♠♣♥♦\nコンサート会場での裏話、ＣＤアルバム制作秘話、名言コーナー、金子みすゞの詩をご紹介など、内容盛り沢山の30分です♪ \n  \n●毎週日曜日：　午後2：00～ \n●パーソナリティ：　ちひろ、瀬川 嘉 \n  \n●ちひろDEブレイク：　Official Website・ブログ・みすゞ心のメッセージ \n●周波数一覧 -KRY山口放送-：　こちら（AM・FMで聴く） \n●パソコン・スマホでKRYラジオが聴ける：　radiko.jp \n  \n●ご意見・ご感想はこちら \nメール：break@kry.co.jp\nＦＡＸ：0834-32-9000\nハガキ：〒745-8686　山口放送「ちひろDEブレイク」係 \nメッセージフォームはこちらから
URL:https://chihirosound.com/event/12083
LOCATION:三重県
CATEGORIES:オススメ,ラジオ
END:VEVENT
BEGIN:VEVENT
DTSTART;TZID=Asia/Tokyo:20220116T150000
DTEND;TZID=Asia/Tokyo:20220116T170000
DTSTAMP:20260424T165428
CREATED:20211221T095414Z
LAST-MODIFIED:20211221T095414Z
UID:11937-1642345200-1642352400@chihirosound.com
SUMMARY:Cable-TV〔山口県〕
DESCRIPTION:【Title】はあぶビジョン特別編成番組で「ちひろ講演会コンサート」を放送！\n●日　時：　 \n■1月1日（土・祝）午後4：00～／初回放送　　 \n■2日（日）午前10：00～／再放送　　 \n■5日（水）午後1：00～／再放送　　 \n■1月中の毎週日曜日（9、16、23、30日） 午後3：00～／再放送 \n●放送局：　はあぶビジョン \n●概　要：　12月4日（土）に萩市民館 大ホールにて開催された「人権の心をはぐくむ市民の集い2021」ちひろコンサートの模様を放送いたします！ \n●ご視聴方法：　対象エリア（萩市・阿武町・その他）の加入者
URL:https://chihirosound.com/event/11937
LOCATION:三重県
CATEGORIES:オススメ,コンサート,テレビ,講演
END:VEVENT
END:VCALENDAR