BEGIN:VCALENDAR
VERSION:2.0
PRODID:-//ちひろ Official Website ～金子みすゞの心を歌う～  CHIHIRO Official Website - MISUZU KANEKO- - ECPv6.15.11//NONSGML v1.0//EN
CALSCALE:GREGORIAN
METHOD:PUBLISH
X-ORIGINAL-URL:https://chihirosound.com
X-WR-CALDESC:ちひろ Official Website ～金子みすゞの心を歌う～  CHIHIRO Official Website - MISUZU KANEKO- のイベント
REFRESH-INTERVAL;VALUE=DURATION:PT1H
X-Robots-Tag:noindex
X-PUBLISHED-TTL:PT1H
BEGIN:VTIMEZONE
TZID:Asia/Tokyo
BEGIN:STANDARD
TZOFFSETFROM:+0900
TZOFFSETTO:+0900
TZNAME:JST
DTSTART:20210101T000000
END:STANDARD
END:VTIMEZONE
BEGIN:VEVENT
DTSTART;TZID=Asia/Tokyo:20220109T101000
DTEND;TZID=Asia/Tokyo:20220109T110000
DTSTAMP:20260424T165413
CREATED:20211105T051549Z
LAST-MODIFIED:20220107T024658Z
UID:11590-1641723000-1641726000@chihirosound.com
SUMMARY:Concert〔山口県〕
DESCRIPTION:【Title】令和4年 山口市消防出初式　ちひろコンサート\n●と　き：　1月9日（日） \n●ところ：　山口県教育会館 ホール（山口県山口市） \n●時　間：　午前9：00～／式典　　午前10：00～／ステージ \n●対　象：　関係者のみ　　 \n※ただしインスタライブ（ネットライブ配信）でどなたでもご覧いただけます♪ \n●インスタライブ：　こちらからアクセス \n●主　催：　山口市消防本部 \n 
URL:https://chihirosound.com/event/11590
LOCATION:三重県
CATEGORIES:オススメ,コンサート
END:VEVENT
BEGIN:VEVENT
DTSTART;TZID=Asia/Tokyo:20220109T140000
DTEND;TZID=Asia/Tokyo:20220109T143000
DTSTAMP:20260424T165413
CREATED:20220101T090313Z
LAST-MODIFIED:20220101T090313Z
UID:12079-1641736800-1641738600@chihirosound.com
SUMMARY:KRYラジオ「ちひろDEブレイク」
DESCRIPTION:♠♣♥♦毎週日曜日放送のちひろレギュラー番組♠♣♥♦\nコンサート会場での裏話、ＣＤアルバム制作秘話、名言コーナー、金子みすゞの詩をご紹介など、内容盛り沢山の30分です♪ \n  \n●毎週日曜日：　午後2：00～ \n●パーソナリティ：　ちひろ、瀬川 嘉 \n  \n●ちひろDEブレイク：　Official Website・ブログ・みすゞ心のメッセージ \n●周波数一覧 -KRY山口放送-：　こちら（AM・FMで聴く） \n●パソコン・スマホでKRYラジオが聴ける：　radiko.jp \n  \n●ご意見・ご感想はこちら \nメール：break@kry.co.jp\nＦＡＸ：0834-32-9000\nハガキ：〒745-8686　山口放送「ちひろDEブレイク」係 \nメッセージフォームはこちらから
URL:https://chihirosound.com/event/12079
LOCATION:三重県
CATEGORIES:オススメ,ラジオ
END:VEVENT
BEGIN:VEVENT
DTSTART;TZID=Asia/Tokyo:20220109T150000
DTEND;TZID=Asia/Tokyo:20220109T170000
DTSTAMP:20260424T165413
CREATED:20211221T095214Z
LAST-MODIFIED:20211221T095214Z
UID:11932-1641740400-1641747600@chihirosound.com
SUMMARY:Cable-TV〔山口県〕
DESCRIPTION:【Title】はあぶビジョン特別編成番組で「ちひろ講演会コンサート」を放送！\n●日　時：　 \n■1月1日（土・祝）午後4：00～／初回放送　　 \n■2日（日）午前10：00～／再放送　　 \n■5日（水）午後1：00～／再放送　　 \n■1月中の毎週日曜日（9、16、23、30日） 午後3：00～／再放送 \n●放送局：　はあぶビジョン \n●概　要：　12月4日（土）に萩市民館 大ホールにて開催された「人権の心をはぐくむ市民の集い2021」ちひろコンサートの模様を放送いたします！ \n●ご視聴方法：　対象エリア（萩市・阿武町・その他）の加入者 \n 
URL:https://chihirosound.com/event/11932
LOCATION:三重県
CATEGORIES:オススメ,コンサート,テレビ,講演
END:VEVENT
END:VCALENDAR