BEGIN:VCALENDAR
VERSION:2.0
PRODID:-//ちひろ Official Website ～金子みすゞの心を歌う～  CHIHIRO Official Website - MISUZU KANEKO- - ECPv6.15.11//NONSGML v1.0//EN
CALSCALE:GREGORIAN
METHOD:PUBLISH
X-ORIGINAL-URL:https://chihirosound.com
X-WR-CALDESC:ちひろ Official Website ～金子みすゞの心を歌う～  CHIHIRO Official Website - MISUZU KANEKO- のイベント
REFRESH-INTERVAL;VALUE=DURATION:PT1H
X-Robots-Tag:noindex
X-PUBLISHED-TTL:PT1H
BEGIN:VTIMEZONE
TZID:Asia/Tokyo
BEGIN:STANDARD
TZOFFSETFROM:+0900
TZOFFSETTO:+0900
TZNAME:JST
DTSTART:20200101T000000
END:STANDARD
END:VTIMEZONE
BEGIN:VEVENT
DTSTART;TZID=Asia/Tokyo:20211225T090000
DTEND;TZID=Asia/Tokyo:20211225T093000
DTSTAMP:20260424T165424
CREATED:20210923T151914Z
LAST-MODIFIED:20211128T151139Z
UID:11308-1640422800-1640424600@chihirosound.com
SUMMARY:FMわっしょい〔山口県〕
DESCRIPTION:💐６局Radio放送 ちひろレギュラー番組「みすゞさんと明るいほうへ」💐\n金子みすゞの詩の朗読・ご紹介など、みすゞさんについてたっぷりお届け ❤ 30分番組です♪ \n※毎週水曜日に５局で放送している番組を ”毎週土曜日にFMわっしょい” でも放送！ \n  \n●と　き：　毎週土曜日 \n●時　間：　午前9：00～ \n●ラジオ局：　FMわっしょい（防府市） \n  \n●番　組：　『みすゞさんと明るいほうへ』　　 \n●パーソナリティ：　ちひろ \n  \n●周波数：　FMわっしょい／77.3MHz \n●放送エリア：　防府市を中心としたエリア、周辺受信エリア \n  \n●リクエスト＆メッセージ🎵：　misuzufm.0407@gmail.com \n●レギュラー放送：　 \n・毎週水曜日 午前11：00～ ／ FM-NANAKO（萩市）、FM AQUA（長門市）、COME！ON FM（下関市）、しゅうんなんFM（周南・下松エリア）　 \n・毎週水曜日 午後1：00～ ／ FMスマイルウエ～ブ（山陽小野田市） \n・毎週土曜日 午前9：00～ ／ FMわっしょい（防府市）
URL:https://chihirosound.com/event/11308
LOCATION:三重県
CATEGORIES:オススメ,ラジオ
END:VEVENT
BEGIN:VEVENT
DTSTART;TZID=Asia/Tokyo:20211225T163000
DTEND;TZID=Asia/Tokyo:20211225T170000
DTSTAMP:20260424T165424
CREATED:20211220T052135Z
LAST-MODIFIED:20211220T052731Z
UID:11894-1640449800-1640451600@chihirosound.com
SUMMARY:Cable-TV〔山口県〕
DESCRIPTION:【Title】山口ケーブルビジョンで「湯田温泉にKON来ん？ Xmas ver.」がCM放送！\nちひろのナレーションもCMに入っています☆彡\n  \n●と　き：　12月25日（土）と 26日（日）の2日間　　　 \n●時　間：　午後4：30～5：00の間 \n●放送局：　山口ケーブルビジョン \n●概　要：　ちひろのナレーションが入った「湯田温泉にKON来ん？ Xmas ver.」の動画が30秒のCMとしてオンエアされます。 \n●ご視聴方法：　対象エリアの加入者（山口市・防府市・宇部市・美祢市・その他エリア） \n  \n \n 
URL:https://chihirosound.com/event/11894
LOCATION:三重県
CATEGORIES:オススメ,テレビ
ATTACH;FMTTYPE=image/png:https://chihirosound.com/wp-content/uploads/2021/12/3.png
ORGANIZER;CN="%E5%B1%B1%E5%8F%A3%E3%82%B1%E3%83%BC%E3%83%96%E3%83%AB%E3%83%93%E3%82%B8%E3%83%A7%E3%83%B3":MAILTO:news@c-able.co.jp
END:VEVENT
END:VCALENDAR