BEGIN:VCALENDAR
VERSION:2.0
PRODID:-//ちひろ Official Website ～金子みすゞの心を歌う～  CHIHIRO Official Website - MISUZU KANEKO- - ECPv6.15.11//NONSGML v1.0//EN
CALSCALE:GREGORIAN
METHOD:PUBLISH
X-WR-CALNAME:ちひろ Official Website ～金子みすゞの心を歌う～  CHIHIRO Official Website - MISUZU KANEKO-
X-ORIGINAL-URL:https://chihirosound.com
X-WR-CALDESC:ちひろ Official Website ～金子みすゞの心を歌う～  CHIHIRO Official Website - MISUZU KANEKO- のイベント
REFRESH-INTERVAL;VALUE=DURATION:PT1H
X-Robots-Tag:noindex
X-PUBLISHED-TTL:PT1H
BEGIN:VTIMEZONE
TZID:Asia/Tokyo
BEGIN:STANDARD
TZOFFSETFROM:+0900
TZOFFSETTO:+0900
TZNAME:JST
DTSTART:20220101T000000
END:STANDARD
END:VTIMEZONE
BEGIN:VEVENT
DTSTART;TZID=Asia/Tokyo:20231224T143000
DTEND;TZID=Asia/Tokyo:20231224T150000
DTSTAMP:20260421T024507
CREATED:20230424T042315Z
LAST-MODIFIED:20230424T042315Z
UID:16054-1703428200-1703430000@chihirosound.com
SUMMARY:KRYラジオ「ちひろDEブレイク」
DESCRIPTION:♠♣♥♦毎週日曜日放送のちひろレギュラー番組♠♣♥♦\nコンサート会場での裏話、ＣＤアルバム制作秘話、名言コーナー、金子みすゞの詩をご紹介など、内容盛り沢山の30分です♪ \n  \n●毎週日曜日：　14：30～ \n●パーソナリティ：　ちひろ、瀬川 嘉 \n  \n●ちひろDEブレイク：　Official Website・ブログ・みすゞ心のメッセージ \n●周波数一覧 -KRY山口放送-：　こちら（AM・FMで聴く） \n●パソコン・スマホでKRYラジオが聴ける：　radiko.jp \n  \n●ご意見・ご感想はこちら \nメール：break@kry.co.jp\nＦＡＸ：0834-32-9000\nハガキ：〒745-8686　山口放送「ちひろDEブレイク」係 \nメッセージフォームはこちらから
URL:https://chihirosound.com/event/16054
LOCATION:三重県
CATEGORIES:オススメ,ラジオ
END:VEVENT
BEGIN:VEVENT
DTSTART;TZID=Asia/Tokyo:20231224T052500
DTEND;TZID=Asia/Tokyo:20231224T055500
DTSTAMP:20260421T024507
CREATED:20230424T045858Z
LAST-MODIFIED:20230921T060155Z
UID:16111-1703395500-1703397300@chihirosound.com
SUMMARY:全国放送Radio「みすゞさんと明るいほうへ」
DESCRIPTION:💐Radio・ちひろレギュラー全国放送番組💐\n金子みすゞの詩の朗読・みすゞヒストリー・放送各地のおススメの〇〇・リスナーメッセージ等 \nちひろがお届けする ❤ 30分番組です♪ \n  \n●番組名：　『みすゞさんと明るいほうへ』　　番組ホームページはこちら \n●パーソナリティ：　ちひろ \n  \n●レギュラー放送時間：　 \n☆毎週水曜日 11：00～／FM-NANAKO、FM AQUA、COME ON！FM、しゅうなんFM \n　　　　　　 11：30～／FMはつかいち　　13：00～／FMスマイルウエ～ブ \n☆毎週土曜日 朝9：00～／FMわっしょい \n★毎週日曜日 朝5：25～／全国放送（全国のコミュニティFM） \n☆毎週月曜日 20：00～／KOCOラジ＜郡山コミュニティ放送＞　　 \n　　　　　　 20：30～／ULTRA FM \n  \n●再放送：　FM-NANAKO／毎週土曜日 15：00～　　FM AQUA／毎週日曜日 11：00～ \n  \n●周波数：　JCBA（全国のコミュニティFM） \n●インターネットで聴く：　※全国どこでもインターネットでラジオが聴けるページです。 \n■JCBAインターネットサイマルラジオで聴く \n  \n中国地区の「COME ON! FM」  or  「しゅうなんFM」　の　「LISTEN♪」　をクリックしてください♪ \n■COME ON! FMをインターネットで聴く \n■FMはつかいちをインターネットで聴く \n■FMスマイルウエ～ブをインターネットで聴く \n■FMわっしょいをインターネットで聴く \n■ULTRA FMをインターネットで聴く \n  \n■サイマルラジオで聴く \n東北地区の「郡山コミュニティ放送」　の　「放送を聴く」　をクリックしてください♪ \n■KOCOラジ＜郡山コミュニティ放送＞をインターネットで聴く \n  \n●リクエスト＆メッセージ🎵：　番組フォーマット　or　misuzufm.0407@gmail.com \n 
URL:https://chihirosound.com/event/16111
LOCATION:三重県
CATEGORIES:オススメ,ラジオ
END:VEVENT
BEGIN:VEVENT
DTSTART;TZID=Asia/Tokyo:20231222T170000
DTEND;TZID=Asia/Tokyo:20231222T181500
DTSTAMP:20260421T024507
CREATED:20230616T105018Z
LAST-MODIFIED:20231217T151718Z
UID:16706-1703264400-1703268900@chihirosound.com
SUMMARY:【公開生放送】NHK「ラジオYAMAGUTIC」
DESCRIPTION:【Title】公開生放送・NHK「中国！ちゅーもく！ラジオYAMAGUTIC」\nクリスマスコンサート\n●と　き：　12月22日（金） \n●ところ：　NHK山口放送局 1階ハートプラザ（山口県山口市中園町2-1） \n※会場の地図はこちら \n●時　間：　開場／16：30　　開演／17：00　　番組放送／17：05～17：55　　終演予定／18：15 \n●入　場：　入場自由（無料） \nお知らせ動画はこちら \n  \n●ラジオ局：　NHKラジオ第1 \n●番　組：　中国！ちゅーもく！ラジオYAMAGUTIC \n  \n●メールやご意見募集：　こちら \n●放送受信エリア：　中国地方5県（山口県、広島県、岡山県、島根県、鳥取県） \n  \n●インターネットラジオ：　全国でお聴きいただけます！　　らじる★らじる \nパソコン・スマートフォン・タブレットなどで、全国どこでもお聴きいただけるサービスです。 \n  \n【聴取方法】＜スマートフォン・タブレットの場合は、まずアプリ（無料）をダウンロードしてください＞ \n■らじる★らじる にアクセス　→　ラジオ第1（R1） をクリック　→　放送局を選択　→　広島 \n※詳しくはこちら \n  \n●出　演：　NHK 長野 亮アナウンサー、ちひろ　
URL:https://chihirosound.com/event/16706
LOCATION:NHK山口放送局\, 山口県山口市中園町２−１\, 山口市\, 山口県\, 753-0075\, 日本
CATEGORIES:NHK,オススメ
ORGANIZER;CN="NHK%E5%B1%B1%E5%8F%A3%E6%94%BE%E9%80%81%E5%B1%80":MAILTO:https://www.nhk.or.jp/yamaguchi/contact/form.html
END:VEVENT
BEGIN:VEVENT
DTSTART;TZID=Asia/Tokyo:20231221T190000
DTEND;TZID=Asia/Tokyo:20231221T210000
DTSTAMP:20260421T024507
CREATED:20231212T014500Z
LAST-MODIFIED:20231212T084226Z
UID:17966-1703185200-1703192400@chihirosound.com
SUMMARY:【Sold Out】Concert〔山口県〕
DESCRIPTION:「ちひろ 20th 記念パーティー」はお申込みが定員に達しました！\n誠に有り難うございました！\n  \n【Title】ちひろ 20th 記念パーティー\n●と　き：　12月21日（木） \n●ところ：　ル. ゴロワ Le Gaulois（山口県山口市湯田温泉６丁目３−２２） \n会場の地図はこちら \n●時　間：　19:00～　（18:30　OPEN） \n●入　場：　チケット料金　10\,000円（税込） \n●人　数：　20名限定　　 \n●お問合せ・お申込先：　083-920-4277　（株式会社ベルミューズ）　　Eメールはこちらから \n●主　催：　株式会社ベルミューズ \n  \nPDFはこちら
URL:https://chihirosound.com/event/17966
LOCATION:ル. ゴロワ\, 山口県山口市湯田温泉６丁目３−２２\, 山口市\, 山口県\, 753-0056\, 日本
CATEGORIES:オススメ,コンサート
ATTACH;FMTTYPE=image/jpeg:https://chihirosound.com/wp-content/uploads/2023/12/20th-Anniversary-Party_page-0001.jpg
END:VEVENT
BEGIN:VEVENT
DTSTART;TZID=Asia/Tokyo:20231220T110000
DTEND;TZID=Asia/Tokyo:20231220T113000
DTSTAMP:20260421T024507
CREATED:20230424T062157Z
LAST-MODIFIED:20230921T060546Z
UID:16224-1703070000-1703071800@chihirosound.com
SUMMARY:Radio「みすゞさんと明るいほうへ」
DESCRIPTION:💐Radio・ちひろレギュラー全国放送番組💐\n金子みすゞの詩の朗読・みすゞヒストリー・放送各地のおススメの〇〇・リスナーメッセージ等 \nちひろがお届けする ❤ 30分番組です♪ \n  \n●番組名：　『みすゞさんと明るいほうへ』　　番組ホームページはこちら \n●パーソナリティ：　ちひろ \n  \n●レギュラー放送時間：　 \n☆毎週水曜日 11：00～／FM-NANAKO、FM AQUA、COME ON！FM、しゅうなんFM \n　　　　　　 11：30～／FMはつかいち　　13：00～／FMスマイルウエ～ブ \n☆毎週土曜日 朝9：00～／FMわっしょい \n★毎週日曜日 朝5：25～／全国放送（全国のコミュニティFM） \n☆毎週月曜日 20：00～／KOCOラジ＜郡山コミュニティ放送＞　　 \n　　　　　　 20：30～／ULTRA FM \n  \n●再放送：　FM-NANAKO／毎週土曜日 15：00～　　FM AQUA／毎週日曜日 11：00～ \n  \n●周波数：　JCBA（全国のコミュニティFM） \n●インターネットで聴く：　※全国どこでもインターネットでラジオが聴けるページです。 \n■JCBAインターネットサイマルラジオで聴く \n  \n中国地区の「COME ON! FM」  or  「しゅうなんFM」　の　「LISTEN♪」　をクリックしてください♪ \n■COME ON! FMをインターネットで聴く \n■FMはつかいちをインターネットで聴く \n■FMスマイルウエ～ブをインターネットで聴く \n■FMわっしょいをインターネットで聴く \n■ULTRA FMをインターネットで聴く \n  \n■サイマルラジオで聴く \n東北地区の「郡山コミュニティ放送」　の　「放送を聴く」　をクリックしてください♪ \n■KOCOラジ＜郡山コミュニティ放送＞をインターネットで聴く \n  \n●リクエスト＆メッセージ🎵：　番組フォーマット　or　misuzufm.0407@gmail.com \n 
URL:https://chihirosound.com/event/16224
LOCATION:三重県
CATEGORIES:オススメ,ラジオ
END:VEVENT
BEGIN:VEVENT
DTSTART;TZID=Asia/Tokyo:20231218T134000
DTEND;TZID=Asia/Tokyo:20231218T153000
DTSTAMP:20260421T024507
CREATED:20230915T151712Z
LAST-MODIFIED:20231212T063039Z
UID:17384-1702906800-1702913400@chihirosound.com
SUMMARY:講演〔山口県〕
DESCRIPTION:【Title】2023年度 山口教区仏教婦人会『御同朋の社会をめざす運動』研修会 ～人権問題への学びを深める～\nちひろ講演 みんなちがって、みんないい生き方を ～金子みすゞのまなざし～\n●と　き：　12月18日（月） \n●ところ：　本願寺山口別院（山口県山口市小郡花園町3-7） \n※会場の地図はこちら \n●時　間：　13：30／開会　　13：40～／講演 \n●対　象：　関係者、一般どなたでもOK \n●参加費：　2\,000円 \n●主　催：　山口教区仏教婦人会 \n●お問合せ：　本願寺山口別院（電話／083-973-4111）
URL:https://chihirosound.com/event/17384
LOCATION:本願寺山口別院\, 山口県山口市小郡花園町３−７\, 山口市\, 山口県\, 754-0022\, 日本
CATEGORIES:オススメ,講演
END:VEVENT
BEGIN:VEVENT
DTSTART;TZID=Asia/Tokyo:20231217T143000
DTEND;TZID=Asia/Tokyo:20231217T150000
DTSTAMP:20260421T024507
CREATED:20230424T042229Z
LAST-MODIFIED:20230424T042229Z
UID:16052-1702823400-1702825200@chihirosound.com
SUMMARY:KRYラジオ「ちひろDEブレイク」
DESCRIPTION:♠♣♥♦毎週日曜日放送のちひろレギュラー番組♠♣♥♦\nコンサート会場での裏話、ＣＤアルバム制作秘話、名言コーナー、金子みすゞの詩をご紹介など、内容盛り沢山の30分です♪ \n  \n●毎週日曜日：　14：30～ \n●パーソナリティ：　ちひろ、瀬川 嘉 \n  \n●ちひろDEブレイク：　Official Website・ブログ・みすゞ心のメッセージ \n●周波数一覧 -KRY山口放送-：　こちら（AM・FMで聴く） \n●パソコン・スマホでKRYラジオが聴ける：　radiko.jp \n  \n●ご意見・ご感想はこちら \nメール：break@kry.co.jp\nＦＡＸ：0834-32-9000\nハガキ：〒745-8686　山口放送「ちひろDEブレイク」係 \nメッセージフォームはこちらから
URL:https://chihirosound.com/event/16052
LOCATION:三重県
CATEGORIES:オススメ,ラジオ
END:VEVENT
BEGIN:VEVENT
DTSTART;TZID=Asia/Tokyo:20231217T052500
DTEND;TZID=Asia/Tokyo:20231217T055500
DTSTAMP:20260421T024507
CREATED:20230424T045814Z
LAST-MODIFIED:20230921T060054Z
UID:16108-1702790700-1702792500@chihirosound.com
SUMMARY:全国放送Radio「みすゞさんと明るいほうへ」
DESCRIPTION:💐Radio・ちひろレギュラー全国放送番組💐\n金子みすゞの詩の朗読・みすゞヒストリー・放送各地のおススメの〇〇・リスナーメッセージ等 \nちひろがお届けする ❤ 30分番組です♪ \n  \n●番組名：　『みすゞさんと明るいほうへ』　　番組ホームページはこちら \n●パーソナリティ：　ちひろ \n  \n●レギュラー放送時間：　 \n☆毎週水曜日 11：00～／FM-NANAKO、FM AQUA、COME ON！FM、しゅうなんFM \n　　　　　　 11：30～／FMはつかいち　　13：00～／FMスマイルウエ～ブ \n☆毎週土曜日 朝9：00～／FMわっしょい \n★毎週日曜日 朝5：25～／全国放送（全国のコミュニティFM） \n☆毎週月曜日 20：00～／KOCOラジ＜郡山コミュニティ放送＞　　 \n　　　　　　 20：30～／ULTRA FM \n  \n●再放送：　FM-NANAKO／毎週土曜日 15：00～　　FM AQUA／毎週日曜日 11：00～ \n  \n●周波数：　JCBA（全国のコミュニティFM） \n●インターネットで聴く：　※全国どこでもインターネットでラジオが聴けるページです。 \n■JCBAインターネットサイマルラジオで聴く \n  \n中国地区の「COME ON! FM」  or  「しゅうなんFM」　の　「LISTEN♪」　をクリックしてください♪ \n■COME ON! FMをインターネットで聴く \n■FMはつかいちをインターネットで聴く \n■FMスマイルウエ～ブをインターネットで聴く \n■FMわっしょいをインターネットで聴く \n■ULTRA FMをインターネットで聴く \n  \n■サイマルラジオで聴く \n東北地区の「郡山コミュニティ放送」　の　「放送を聴く」　をクリックしてください♪ \n■KOCOラジ＜郡山コミュニティ放送＞をインターネットで聴く \n  \n●リクエスト＆メッセージ🎵：　番組フォーマット　or　misuzufm.0407@gmail.com \n 
URL:https://chihirosound.com/event/16108
LOCATION:三重県
CATEGORIES:オススメ,ラジオ
END:VEVENT
BEGIN:VEVENT
DTSTART;TZID=Asia/Tokyo:20231216T140000
DTEND;TZID=Asia/Tokyo:20231216T153000
DTSTAMP:20260421T024507
CREATED:20231107T150011Z
LAST-MODIFIED:20231106T022649Z
UID:17626-1702735200-1702740600@chihirosound.com
SUMMARY:Concert〔山口県〕
DESCRIPTION:【Title】金子みすゞ生誕120年　ちひろコンサート\n●と　き：　12月16日（土） \n●ところ：　西教寺（山口県下松市） \n開場の地図はこちら \n●時　間：　14時～15時半 \n●入　場：　無料 \n●対　象：　どなたでもOK \n●お問合せ：　電話／0833-41-1386 \n●主　催：　西教寺
URL:https://chihirosound.com/event/17626
LOCATION:西教寺\, 山口県下松市西豊井幸町747-3\, 下松市\, 山口県\, 744-0011\, 日本
CATEGORIES:オススメ,コンサート
END:VEVENT
BEGIN:VEVENT
DTSTART;TZID=Asia/Tokyo:20231213T110000
DTEND;TZID=Asia/Tokyo:20231213T113000
DTSTAMP:20260421T024507
CREATED:20230424T062102Z
LAST-MODIFIED:20230921T060507Z
UID:16222-1702465200-1702467000@chihirosound.com
SUMMARY:Radio「みすゞさんと明るいほうへ」
DESCRIPTION:💐Radio・ちひろレギュラー全国放送番組💐\n金子みすゞの詩の朗読・みすゞヒストリー・放送各地のおススメの〇〇・リスナーメッセージ等 \nちひろがお届けする ❤ 30分番組です♪ \n  \n●番組名：　『みすゞさんと明るいほうへ』　　番組ホームページはこちら \n●パーソナリティ：　ちひろ \n  \n●レギュラー放送時間：　 \n☆毎週水曜日 11：00～／FM-NANAKO、FM AQUA、COME ON！FM、しゅうなんFM \n　　　　　　 11：30～／FMはつかいち　　13：00～／FMスマイルウエ～ブ \n☆毎週土曜日 朝9：00～／FMわっしょい \n★毎週日曜日 朝5：25～／全国放送（全国のコミュニティFM） \n☆毎週月曜日 20：00～／KOCOラジ＜郡山コミュニティ放送＞　　 \n　　　　　　 20：30～／ULTRA FM \n  \n●再放送：　FM-NANAKO／毎週土曜日 15：00～　　FM AQUA／毎週日曜日 11：00～ \n  \n●周波数：　JCBA（全国のコミュニティFM） \n●インターネットで聴く：　※全国どこでもインターネットでラジオが聴けるページです。 \n■JCBAインターネットサイマルラジオで聴く \n  \n中国地区の「COME ON! FM」  or  「しゅうなんFM」　の　「LISTEN♪」　をクリックしてください♪ \n■COME ON! FMをインターネットで聴く \n■FMはつかいちをインターネットで聴く \n■FMスマイルウエ～ブをインターネットで聴く \n■FMわっしょいをインターネットで聴く \n■ULTRA FMをインターネットで聴く \n  \n■サイマルラジオで聴く \n東北地区の「郡山コミュニティ放送」　の　「放送を聴く」　をクリックしてください♪ \n■KOCOラジ＜郡山コミュニティ放送＞をインターネットで聴く \n  \n●リクエスト＆メッセージ🎵：　番組フォーマット　or　misuzufm.0407@gmail.com \n 
URL:https://chihirosound.com/event/16222
LOCATION:三重県
CATEGORIES:オススメ,ラジオ
END:VEVENT
BEGIN:VEVENT
DTSTART;TZID=Asia/Tokyo:20231210T143000
DTEND;TZID=Asia/Tokyo:20231210T150000
DTSTAMP:20260421T024507
CREATED:20230424T042049Z
LAST-MODIFIED:20230424T042049Z
UID:16050-1702218600-1702220400@chihirosound.com
SUMMARY:KRYラジオ「ちひろDEブレイク」
DESCRIPTION:♠♣♥♦毎週日曜日放送のちひろレギュラー番組♠♣♥♦\nコンサート会場での裏話、ＣＤアルバム制作秘話、名言コーナー、金子みすゞの詩をご紹介など、内容盛り沢山の30分です♪ \n  \n●毎週日曜日：　14：30～ \n●パーソナリティ：　ちひろ、瀬川 嘉 \n  \n●ちひろDEブレイク：　Official Website・ブログ・みすゞ心のメッセージ \n●周波数一覧 -KRY山口放送-：　こちら（AM・FMで聴く） \n●パソコン・スマホでKRYラジオが聴ける：　radiko.jp \n  \n●ご意見・ご感想はこちら \nメール：break@kry.co.jp\nＦＡＸ：0834-32-9000\nハガキ：〒745-8686　山口放送「ちひろDEブレイク」係 \nメッセージフォームはこちらから
URL:https://chihirosound.com/event/16050
LOCATION:三重県
CATEGORIES:オススメ,ラジオ
END:VEVENT
BEGIN:VEVENT
DTSTART;TZID=Asia/Tokyo:20231210T052500
DTEND;TZID=Asia/Tokyo:20231210T055500
DTSTAMP:20260421T024507
CREATED:20230424T045728Z
LAST-MODIFIED:20230921T055947Z
UID:16105-1702185900-1702187700@chihirosound.com
SUMMARY:全国放送Radio「みすゞさんと明るいほうへ」
DESCRIPTION:💐Radio・ちひろレギュラー全国放送番組💐\n金子みすゞの詩の朗読・みすゞヒストリー・放送各地のおススメの〇〇・リスナーメッセージ等 \nちひろがお届けする ❤ 30分番組です♪ \n  \n●番組名：　『みすゞさんと明るいほうへ』　　番組ホームページはこちら \n●パーソナリティ：　ちひろ \n  \n●レギュラー放送時間：　 \n☆毎週水曜日 11：00～／FM-NANAKO、FM AQUA、COME ON！FM、しゅうなんFM \n　　　　　　 11：30～／FMはつかいち　　13：00～／FMスマイルウエ～ブ \n☆毎週土曜日 朝9：00～／FMわっしょい \n★毎週日曜日 朝5：25～／全国放送（全国のコミュニティFM） \n☆毎週月曜日 20：00～／KOCOラジ＜郡山コミュニティ放送＞　　 \n　　　　　　 20：30～／ULTRA FM \n  \n●再放送：　FM-NANAKO／毎週土曜日 15：00～　　FM AQUA／毎週日曜日 11：00～ \n  \n●周波数：　JCBA（全国のコミュニティFM） \n●インターネットで聴く：　※全国どこでもインターネットでラジオが聴けるページです。 \n■JCBAインターネットサイマルラジオで聴く \n  \n中国地区の「COME ON! FM」  or  「しゅうなんFM」　の　「LISTEN♪」　をクリックしてください♪ \n■COME ON! FMをインターネットで聴く \n■FMはつかいちをインターネットで聴く \n■FMスマイルウエ～ブをインターネットで聴く \n■FMわっしょいをインターネットで聴く \n■ULTRA FMをインターネットで聴く \n  \n■サイマルラジオで聴く \n東北地区の「郡山コミュニティ放送」　の　「放送を聴く」　をクリックしてください♪ \n■KOCOラジ＜郡山コミュニティ放送＞をインターネットで聴く \n  \n●リクエスト＆メッセージ🎵：　番組フォーマット　or　misuzufm.0407@gmail.com \n 
URL:https://chihirosound.com/event/16105
LOCATION:三重県
CATEGORIES:オススメ,ラジオ
END:VEVENT
BEGIN:VEVENT
DTSTART;TZID=Asia/Tokyo:20231207T182000
DTEND;TZID=Asia/Tokyo:20231207T200000
DTSTAMP:20260421T024507
CREATED:20230616T112426Z
LAST-MODIFIED:20231101T154627Z
UID:16738-1701973200-1701979200@chihirosound.com
SUMMARY:Concert〔福岡県〕
DESCRIPTION:【Title】「令和5年度 遠賀町人権週間講演会」ちひろ人権コンサート\nみんなちがって、みんないい生き方を～金子みすゞの心とともに～\n●と　き：　12月7日（木） \n●ところ：　遠賀町中央公民館 2階 大ホール（福岡県遠賀郡遠賀町今古賀513） \n※会場の地図はこちら \n●時　間：　開場／17：45～　　開演／18：20～20：00 \n●対　象：　どなたでもOK　定員400名 \n●入場料：　無料（遠賀町民の方は事前申込不要）　※ただし、町外の方はお問合せ先にご連絡下さいませ \n●お問合せ：　遠賀町役場 住民課 協働人権係（電話／093-293-1242）　E-mail：  jyuumin@town.onga.lg.jp \n  \n●手話通訳：　有り \n●無料託児：　有り　※託児を希望される方は、11月30日（木）までにお申し込み下さい。（未就学児対象、先着順） \n●主　催：　遠賀町、遠賀町教育委員会、遠賀町人権教育推進協議会 \nPDFはこちら
URL:https://chihirosound.com/event/16738
LOCATION:遠賀町中央公民館\, 福岡県遠賀郡遠賀町今古賀５１３\, 遠賀町\, 福岡県\, 811-4303\, 日本
CATEGORIES:オススメ,コンサート
ATTACH;FMTTYPE=image/jpeg:https://chihirosound.com/wp-content/uploads/2023/11/c4992adba30b3d11b8ccdc9c65ed0425-scaled.jpg
END:VEVENT
BEGIN:VEVENT
DTSTART;TZID=Asia/Tokyo:20231206T110000
DTEND;TZID=Asia/Tokyo:20231206T113000
DTSTAMP:20260421T024507
CREATED:20230424T062012Z
LAST-MODIFIED:20230921T060406Z
UID:16220-1701860400-1701862200@chihirosound.com
SUMMARY:Radio「みすゞさんと明るいほうへ」
DESCRIPTION:💐Radio・ちひろレギュラー全国放送番組💐\n金子みすゞの詩の朗読・みすゞヒストリー・放送各地のおススメの〇〇・リスナーメッセージ等 \nちひろがお届けする ❤ 30分番組です♪ \n  \n●番組名：　『みすゞさんと明るいほうへ』　　番組ホームページはこちら \n●パーソナリティ：　ちひろ \n  \n●レギュラー放送時間：　 \n☆毎週水曜日 11：00～／FM-NANAKO、FM AQUA、COME ON！FM、しゅうなんFM \n　　　　　　 11：30～／FMはつかいち　　13：00～／FMスマイルウエ～ブ \n☆毎週土曜日 朝9：00～／FMわっしょい \n★毎週日曜日 朝5：25～／全国放送（全国のコミュニティFM） \n☆毎週月曜日 20：00～／KOCOラジ＜郡山コミュニティ放送＞　　 \n　　　　　　 20：30～／ULTRA FM \n  \n●再放送：　FM-NANAKO／毎週土曜日 15：00～　　FM AQUA／毎週日曜日 11：00～ \n  \n●周波数：　JCBA（全国のコミュニティFM） \n●インターネットで聴く：　※全国どこでもインターネットでラジオが聴けるページです。 \n■JCBAインターネットサイマルラジオで聴く \n  \n中国地区の「COME ON! FM」  or  「しゅうなんFM」　の　「LISTEN♪」　をクリックしてください♪ \n■COME ON! FMをインターネットで聴く \n■FMはつかいちをインターネットで聴く \n■FMスマイルウエ～ブをインターネットで聴く \n■FMわっしょいをインターネットで聴く \n■ULTRA FMをインターネットで聴く \n  \n■サイマルラジオで聴く \n東北地区の「郡山コミュニティ放送」　の　「放送を聴く」　をクリックしてください♪ \n■KOCOラジ＜郡山コミュニティ放送＞をインターネットで聴く \n  \n●リクエスト＆メッセージ🎵：　番組フォーマット　or　misuzufm.0407@gmail.com \n 
URL:https://chihirosound.com/event/16220
LOCATION:三重県
CATEGORIES:オススメ,ラジオ
END:VEVENT
BEGIN:VEVENT
DTSTART;TZID=Asia/Tokyo:20231203T130000
DTEND;TZID=Asia/Tokyo:20231203T133000
DTSTAMP:20260421T024507
CREATED:20230424T041948Z
LAST-MODIFIED:20231203T030841Z
UID:16048-1701608400-1701610200@chihirosound.com
SUMMARY:【時間変更】KRYラジオ「ちひろDEブレイク」
DESCRIPTION:本日は「第54回記念 防府読売マラソン大会」放送の為、\n「ちひろDEブレイク」の放送時間が13：00～に変更となります。何卒ご了承くださいませ。\n  \n♠♣♥♦毎週日曜日放送のちひろレギュラー番組♠♣♥♦\nコンサート会場での裏話、ＣＤアルバム制作秘話、名言コーナー、金子みすゞの詩をご紹介など、内容盛り沢山の30分です♪ \n  \n●毎週日曜日：　本日のみ13：00～ \n●パーソナリティ：　ちひろ、瀬川 嘉 \n  \n●ちひろDEブレイク：　Official Website・ブログ・みすゞ心のメッセージ \n●周波数一覧 -KRY山口放送-：　こちら（AM・FMで聴く） \n●パソコン・スマホでKRYラジオが聴ける：　radiko.jp \n  \n●ご意見・ご感想はこちら \nメール：break@kry.co.jp\nＦＡＸ：0834-32-9000\nハガキ：〒745-8686　山口放送「ちひろDEブレイク」係 \nメッセージフォームはこちらから
URL:https://chihirosound.com/event/16048
LOCATION:三重県
CATEGORIES:オススメ,ラジオ
END:VEVENT
BEGIN:VEVENT
DTSTART;TZID=Asia/Tokyo:20231203T052500
DTEND;TZID=Asia/Tokyo:20231203T055500
DTSTAMP:20260421T024507
CREATED:20230424T045649Z
LAST-MODIFIED:20230921T055843Z
UID:16103-1701581100-1701582900@chihirosound.com
SUMMARY:全国放送Radio「みすゞさんと明るいほうへ」
DESCRIPTION:💐Radio・ちひろレギュラー全国放送番組💐\n金子みすゞの詩の朗読・みすゞヒストリー・放送各地のおススメの〇〇・リスナーメッセージ等 \nちひろがお届けする ❤ 30分番組です♪ \n  \n●番組名：　『みすゞさんと明るいほうへ』　　番組ホームページはこちら \n●パーソナリティ：　ちひろ \n  \n●レギュラー放送時間：　 \n☆毎週水曜日 11：00～／FM-NANAKO、FM AQUA、COME ON！FM、しゅうなんFM \n　　　　　　 11：30～／FMはつかいち　　13：00～／FMスマイルウエ～ブ \n☆毎週土曜日 朝9：00～／FMわっしょい \n★毎週日曜日 朝5：25～／全国放送（全国のコミュニティFM） \n☆毎週月曜日 20：00～／KOCOラジ＜郡山コミュニティ放送＞　　 \n　　　　　　 20：30～／ULTRA FM \n  \n●再放送：　FM-NANAKO／毎週土曜日 15：00～　　FM AQUA／毎週日曜日 11：00～ \n  \n●周波数：　JCBA（全国のコミュニティFM） \n●インターネットで聴く：　※全国どこでもインターネットでラジオが聴けるページです。 \n■JCBAインターネットサイマルラジオで聴く \n  \n中国地区の「COME ON! FM」  or  「しゅうなんFM」　の　「LISTEN♪」　をクリックしてください♪ \n■COME ON! FMをインターネットで聴く \n■FMはつかいちをインターネットで聴く \n■FMスマイルウエ～ブをインターネットで聴く \n■FMわっしょいをインターネットで聴く \n■ULTRA FMをインターネットで聴く \n  \n■サイマルラジオで聴く \n東北地区の「郡山コミュニティ放送」　の　「放送を聴く」　をクリックしてください♪ \n■KOCOラジ＜郡山コミュニティ放送＞をインターネットで聴く \n  \n●リクエスト＆メッセージ🎵：　番組フォーマット　or　misuzufm.0407@gmail.com \n 
URL:https://chihirosound.com/event/16103
LOCATION:三重県
CATEGORIES:オススメ,ラジオ
END:VEVENT
BEGIN:VEVENT
DTSTART;TZID=Asia/Tokyo:20231202T133000
DTEND;TZID=Asia/Tokyo:20231202T145000
DTSTAMP:20260421T024507
CREATED:20230924T150020Z
LAST-MODIFIED:20231107T043508Z
UID:16736-1701523800-1701528600@chihirosound.com
SUMMARY:Concert〔山口県〕
DESCRIPTION:【Title】阿武町「人権」を考える集い推進大会\nちひろコンサート みんなちがって、みんないい生き方を ～金子みすゞの心とともに～\n●と　き：　令和5年12月2日（土） \n●ところ：　阿武町町民センター 文化ホール（山口県阿武郡阿武町奈古3078-1） \n　　　　　　※会場の地図はこちら \n●時　間：　13：10～／式典 　　13：30～／記念コンサート・講演 \n●対　象：　どなたでもOK \n●入　場：　無料 \n●お問合せ：　阿武町教育委員会（電話／08388-2-0501） \nPDFはこちら \n  \n \n  \n  \n  \n  \n 
URL:https://chihirosound.com/event/16736
LOCATION:阿武町町民センター文化ホール\, 山口県阿武郡阿武町奈古3078-1\, 阿武郡\, 山口県\, 759-3622\, 日本
CATEGORIES:オススメ,コンサート
ATTACH;FMTTYPE=image/png:https://chihirosound.com/wp-content/uploads/2023/09/dc463900a05633c217aa9bc2021e7532.png
END:VEVENT
BEGIN:VEVENT
DTSTART;TZID=Asia/Tokyo:20231130T140000
DTEND;TZID=Asia/Tokyo:20231130T153000
DTSTAMP:20260421T024507
CREATED:20231031T150021Z
LAST-MODIFIED:20231101T053144Z
UID:17269-1701352800-1701358200@chihirosound.com
SUMMARY:Concert〔大阪府〕
DESCRIPTION:【Title】ちひろコンサート　優しさの中の強さ　～金子みすゞ・マザーテレサのメッセージ\n●と　き：　令和5年11月30日（木） \n●ところ：　千早赤阪村くすのきホール（大阪府南河内郡千早赤阪村水分263番地） \n地図はこちら \n●時　間：　開演／午後2時～3時30分（開場／午後1時30分～） \n●入　場：　無料 \n●定　員：　300人 \n  \n●お問合せ：　千早赤阪村健康福祉部住民課　電話／0721-72-0081 \n　　　　　 　   河南町住民部人権男女共同社会室　電話／0721-93-2500 \n　　　　 　　   太子町政策総務部住民人権課　電話／0721-98-5515 \n●主　催：　南河内男女共同参画社会研究会 \n※詳細は分かり次第お知らせいたします \nPDFはこちら \n \n 
URL:https://chihirosound.com/event/17269
LOCATION:千早赤阪村くすのきホール\, 大阪府南河内郡千早赤阪村水分263番地\, 南河内郡\, 大阪府\, 585-0041\, 日本
CATEGORIES:オススメ,コンサート
ATTACH;FMTTYPE=image/jpeg:https://chihirosound.com/wp-content/uploads/2023/10/43ba3805034f5f1c1208176e0dc97a76-scaled.jpg
END:VEVENT
BEGIN:VEVENT
DTSTART;TZID=Asia/Tokyo:20231129T180000
DTEND;TZID=Asia/Tokyo:20231130T160000
DTSTAMP:20260421T024507
CREATED:20231127T065230Z
LAST-MODIFIED:20231127T065246Z
UID:17914-1701280800-1701360000@chihirosound.com
SUMMARY:Cable-TV〔山口県〕
DESCRIPTION:【Title】長門市ケーブルテレビ ほっちゃテレビ\n「ほっちゃNEWSイブニング」にて『金子みすゞ生誕120年＊詩作100年 ちひろコンサート～ひとときを咲く～（11月25日）』の様子が紹介される予定です！ \n  \n●と　き：　11月29日（水）18：00／初回放送　～　30日（木）16：00まで計8回の再放送 \n●時　間：　①18：00～　②20：00～　③22：00～　④午前0：00～　⑤午前8：00～　⑥午前10：00～　⑦14：00　⑧16：00 \n  \n●放送局：　長門市ケーブルテレビ ほっちゃテレビ \n●番　組：　『ほっちゃNEWSイブニング』 \n●概　要：　11月25日 長門市「ラポールゆや」で開催された『金子みすゞ生誕120年＊詩作100年 ちひろコンサート～ひとときを咲く～』の模様がON AIRされます！ \n●ご視聴方法：　対象エリアの加入者
URL:https://chihirosound.com/event/17914
LOCATION:三重県
CATEGORIES:オススメ,テレビ
ATTACH;FMTTYPE=image/jpeg:https://chihirosound.com/wp-content/uploads/2023/04/IMG_1753-scaled.jpg
END:VEVENT
BEGIN:VEVENT
DTSTART;TZID=Asia/Tokyo:20231129T110000
DTEND;TZID=Asia/Tokyo:20231129T113000
DTSTAMP:20260421T024507
CREATED:20230424T053935Z
LAST-MODIFIED:20230928T014733Z
UID:16157-1701255600-1701257400@chihirosound.com
SUMMARY:Radio「みすゞさんと明るいほうへ」
DESCRIPTION:💐Radio・ちひろレギュラー全国放送番組💐\n金子みすゞの詩の朗読・みすゞヒストリー・放送各地のおススメの〇〇・リスナーメッセージ等 \nちひろがお届けする ❤ 30分番組です♪ \n  \n●番組名：　『みすゞさんと明るいほうへ』　　番組ホームページはこちら \n●パーソナリティ：　ちひろ \n  \n●レギュラー放送時間：　 \n☆毎週水曜日 11：00～／FM-NANAKO、FM AQUA、COME ON！FM、しゅうなんFM \n　　　　　　 11：30～／FMはつかいち　　13：00～／FMスマイルウエ～ブ \n☆毎週土曜日 朝9：00～／FMわっしょい \n★毎週日曜日 朝5：25～／全国放送（全国のコミュニティFM） \n☆毎週月曜日 20：00～／KOCOラジ＜郡山コミュニティ放送＞　　 \n　　　　　　 20：30～／ULTRA FM \n  \n●再放送：　FM-NANAKO／毎週土曜日 15：00～　　FM AQUA／毎週日曜日 11：00～ \n  \n●周波数：　JCBA（全国のコミュニティFM） \n●インターネットで聴く：　※全国どこでもインターネットでラジオが聴けるページです。 \n■JCBAインターネットサイマルラジオで聴く \n  \n中国地区の「COME ON! FM」  or  「しゅうなんFM」　の　「LISTEN♪」　をクリックしてください♪ \n■COME ON! FMをインターネットで聴く \n■FMはつかいちをインターネットで聴く \n■FMスマイルウエ～ブをインターネットで聴く \n■FMわっしょいをインターネットで聴く \n■ULTRA FMをインターネットで聴く \n  \n■サイマルラジオで聴く \n東北地区の「郡山コミュニティ放送」　の　「放送を聴く」　をクリックしてください♪ \n■KOCOラジ＜郡山コミュニティ放送＞をインターネットで聴く \n  \n●リクエスト＆メッセージ🎵：　番組フォーマット　or　misuzufm.0407@gmail.com \n 
URL:https://chihirosound.com/event/16157
LOCATION:三重県
CATEGORIES:オススメ,ラジオ
END:VEVENT
BEGIN:VEVENT
DTSTART;TZID=Asia/Tokyo:20231127T165000
DTEND;TZID=Asia/Tokyo:20231127T175300
DTSTAMP:20260421T024507
CREATED:20231019T153458Z
LAST-MODIFIED:20231019T153458Z
UID:17708-1701103800-1701107580@chihirosound.com
SUMMARY:TV〔山口県〕
DESCRIPTION:【Title】KRY山口放送『熱血テレビ』ちひろがスタジオ生出演！\n  \n●と　き：　11月27日（月） \n●時　間：　16：50～17：53 \n●放送局：　KRY山口放送 \n●番　組：　『熱血テレビ』 \n●放送内容：　「生誕120年 今伝えたいみすゞの心」でちひろが詩の朗読を行います！スタジオに生出演！ \n  \n●ご意見・メッセージ：　メール：nekketu@kry.co.jp　FAX：0834-32-7760　　ハガキ：〒745-8686　山口放送「熱血テレビ」係 \n●放送エリア：　山口県内と周辺受信エリア
URL:https://chihirosound.com/event/17708
LOCATION:三重県
CATEGORIES:オススメ,テレビ
END:VEVENT
BEGIN:VEVENT
DTSTART;TZID=Asia/Tokyo:20231126T143000
DTEND;TZID=Asia/Tokyo:20231126T160000
DTSTAMP:20260421T024507
CREATED:20230616T112159Z
LAST-MODIFIED:20230917T134623Z
UID:16734-1701009000-1701014400@chihirosound.com
SUMMARY:Concert〔山口県〕
DESCRIPTION:【Title】「令和5年度  原地区人権教育推進大会」\nちひろコンサート みんなちがって、みんないい生き方を ～金子みすゞの心とともに～\n●と　き：　11月26日（日） \n●ところ：　原ふれあいセンター 2F 講堂（山口県宇部市） \n●時　間：　14：30～16：00 \n●対　象：　関係者のみ \n●主　催：　原地区人権教育推進委員協議会
URL:https://chihirosound.com/event/16734
LOCATION:三重県
CATEGORIES:オススメ,コンサート
END:VEVENT
BEGIN:VEVENT
DTSTART;TZID=Asia/Tokyo:20231126T143000
DTEND;TZID=Asia/Tokyo:20231126T150000
DTSTAMP:20260421T024507
CREATED:20230424T041854Z
LAST-MODIFIED:20230424T041854Z
UID:16046-1701009000-1701010800@chihirosound.com
SUMMARY:KRYラジオ「ちひろDEブレイク」
DESCRIPTION:♠♣♥♦毎週日曜日放送のちひろレギュラー番組♠♣♥♦\nコンサート会場での裏話、ＣＤアルバム制作秘話、名言コーナー、金子みすゞの詩をご紹介など、内容盛り沢山の30分です♪ \n  \n●毎週日曜日：　14：30～ \n●パーソナリティ：　ちひろ、瀬川 嘉 \n  \n●ちひろDEブレイク：　Official Website・ブログ・みすゞ心のメッセージ \n●周波数一覧 -KRY山口放送-：　こちら（AM・FMで聴く） \n●パソコン・スマホでKRYラジオが聴ける：　radiko.jp \n  \n●ご意見・ご感想はこちら \nメール：break@kry.co.jp\nＦＡＸ：0834-32-9000\nハガキ：〒745-8686　山口放送「ちひろDEブレイク」係 \nメッセージフォームはこちらから
URL:https://chihirosound.com/event/16046
LOCATION:三重県
CATEGORIES:オススメ,ラジオ
END:VEVENT
BEGIN:VEVENT
DTSTART;TZID=Asia/Tokyo:20231126T052500
DTEND;TZID=Asia/Tokyo:20231126T055500
DTSTAMP:20260421T024507
CREATED:20230424T045544Z
LAST-MODIFIED:20230921T055442Z
UID:16101-1700976300-1700978100@chihirosound.com
SUMMARY:全国放送Radio「みすゞさんと明るいほうへ」
DESCRIPTION:💐Radio・ちひろレギュラー全国放送番組💐\n金子みすゞの詩の朗読・みすゞヒストリー・放送各地のおススメの〇〇・リスナーメッセージ等 \nちひろがお届けする ❤ 30分番組です♪ \n  \n●番組名：　『みすゞさんと明るいほうへ』　　番組ホームページはこちら \n●パーソナリティ：　ちひろ \n  \n●レギュラー放送時間：　 \n☆毎週水曜日 11：00～／FM-NANAKO、FM AQUA、COME ON！FM、しゅうなんFM \n　　　　　　 11：30～／FMはつかいち　　13：00～／FMスマイルウエ～ブ \n☆毎週土曜日 朝9：00～／FMわっしょい \n★毎週日曜日 朝5：25～／全国放送（全国のコミュニティFM） \n☆毎週月曜日 20：00～／KOCOラジ＜郡山コミュニティ放送＞　　 \n　　　　　　 20：30～／ULTRA FM \n  \n●再放送：　FM-NANAKO／毎週土曜日 15：00～　　FM AQUA／毎週日曜日 11：00～ \n  \n●周波数：　JCBA（全国のコミュニティFM） \n●インターネットで聴く：　※全国どこでもインターネットでラジオが聴けるページです。 \n■JCBAインターネットサイマルラジオで聴く \n  \n中国地区の「COME ON! FM」  or  「しゅうなんFM」　の　「LISTEN♪」　をクリックしてください♪ \n■COME ON! FMをインターネットで聴く \n■FMはつかいちをインターネットで聴く \n■FMスマイルウエ～ブをインターネットで聴く \n■FMわっしょいをインターネットで聴く \n■ULTRA FMをインターネットで聴く \n  \n■サイマルラジオで聴く \n東北地区の「郡山コミュニティ放送」　の　「放送を聴く」　をクリックしてください♪ \n■KOCOラジ＜郡山コミュニティ放送＞をインターネットで聴く \n  \n●リクエスト＆メッセージ🎵：　番組フォーマット　or　misuzufm.0407@gmail.com \n 
URL:https://chihirosound.com/event/16101
LOCATION:三重県
CATEGORIES:オススメ,ラジオ
END:VEVENT
BEGIN:VEVENT
DTSTART;TZID=Asia/Tokyo:20231125T140000
DTEND;TZID=Asia/Tokyo:20231125T153000
DTSTAMP:20260421T024507
CREATED:20230616T112114Z
LAST-MODIFIED:20230921T042333Z
UID:16732-1700920800-1700926200@chihirosound.com
SUMMARY:Concert〔山口県〕
DESCRIPTION:【Title】「金子みすゞ生誕120年＊詩作100年」ちひろコンサート　ひとときを咲く\n●と　き：　11月25日（土） \n●ところ：　ラポールゆや（山口県長門市油谷新別名８３３） \n地図はこちら \n●時　間：　開場／13：30　開演／14：00 \n●対　象：　入場無料　全席自由 \n●お問合せ：　浄土真宗本願寺派　西津（さいしん）仏教婦人会　事務局　浄泉寺 \n　　　　　　　電話／0837-32-1241 \n●主　催：　浄土真宗本願寺派　西津仏教婦人会 \n●後　援：　本願寺山口別院 \nPDFはこちら（表） \nPDFはこちら（裏） \n  \n  \n 
URL:https://chihirosound.com/event/16732
LOCATION:ラポールゆや\, 山口県長門市油谷新別名８３３\, 長門市\, 山口県\, 759-4503\, 日本
CATEGORIES:オススメ,コンサート
ATTACH;FMTTYPE=image/jpeg:https://chihirosound.com/wp-content/uploads/2023/09/ea3c3076e5a5b1db82ba9e748e5fa9f4-scaled.jpg
END:VEVENT
BEGIN:VEVENT
DTSTART;TZID=Asia/Tokyo:20231122T110000
DTEND;TZID=Asia/Tokyo:20231122T113000
DTSTAMP:20260421T024507
CREATED:20230424T061820Z
LAST-MODIFIED:20230921T054711Z
UID:16216-1700650800-1700652600@chihirosound.com
SUMMARY:Radio「みすゞさんと明るいほうへ」
DESCRIPTION:💐Radio・ちひろレギュラー全国放送番組💐\n金子みすゞの詩の朗読・みすゞヒストリー・放送各地のおススメの〇〇・リスナーメッセージ等 \nちひろがお届けする ❤ 30分番組です♪ \n  \n●番組名：　『みすゞさんと明るいほうへ』　　番組ホームページはこちら \n●パーソナリティ：　ちひろ \n  \n●レギュラー放送時間：　 \n☆毎週水曜日 11：00～／FM-NANAKO、FM AQUA、COME ON！FM、しゅうなんFM \n　　　　　　 11：30～／FMはつかいち　　13：00～／FMスマイルウエ～ブ \n☆毎週土曜日 朝9：00～／FMわっしょい \n★毎週日曜日 朝5：25～／全国放送（全国のコミュニティFM） \n☆毎週月曜日 20：00～／KOCOラジ＜郡山コミュニティ放送＞　　 \n　　　　　　 20：30～／ULTRA FM \n  \n●再放送：　FM-NANAKO／毎週土曜日 15：00～　　FM AQUA／毎週日曜日 11：00～ \n  \n●周波数：　JCBA（全国のコミュニティFM） \n●インターネットで聴く：　※全国どこでもインターネットでラジオが聴けるページです。 \n■JCBAインターネットサイマルラジオで聴く \n  \n中国地区の「COME ON! FM」  or  「しゅうなんFM」　の　「LISTEN♪」　をクリックしてください♪ \n■COME ON! FMをインターネットで聴く \n■FMはつかいちをインターネットで聴く \n■FMスマイルウエ～ブをインターネットで聴く \n■FMわっしょいをインターネットで聴く \n■ULTRA FMをインターネットで聴く \n  \n■サイマルラジオで聴く \n東北地区の「郡山コミュニティ放送」　の　「放送を聴く」　をクリックしてください♪ \n■KOCOラジ＜郡山コミュニティ放送＞をインターネットで聴く \n  \n●リクエスト＆メッセージ🎵：　番組フォーマット　or　misuzufm.0407@gmail.com \n 
URL:https://chihirosound.com/event/16216
LOCATION:三重県
CATEGORIES:オススメ,ラジオ
END:VEVENT
BEGIN:VEVENT
DTSTART;TZID=Asia/Tokyo:20231119T143000
DTEND;TZID=Asia/Tokyo:20231119T150000
DTSTAMP:20260421T024507
CREATED:20230424T041807Z
LAST-MODIFIED:20230424T041807Z
UID:16044-1700404200-1700406000@chihirosound.com
SUMMARY:KRYラジオ「ちひろDEブレイク」
DESCRIPTION:♠♣♥♦毎週日曜日放送のちひろレギュラー番組♠♣♥♦\nコンサート会場での裏話、ＣＤアルバム制作秘話、名言コーナー、金子みすゞの詩をご紹介など、内容盛り沢山の30分です♪ \n  \n●毎週日曜日：　14：30～ \n●パーソナリティ：　ちひろ、瀬川 嘉 \n  \n●ちひろDEブレイク：　Official Website・ブログ・みすゞ心のメッセージ \n●周波数一覧 -KRY山口放送-：　こちら（AM・FMで聴く） \n●パソコン・スマホでKRYラジオが聴ける：　radiko.jp \n  \n●ご意見・ご感想はこちら \nメール：break@kry.co.jp\nＦＡＸ：0834-32-9000\nハガキ：〒745-8686　山口放送「ちひろDEブレイク」係 \nメッセージフォームはこちらから
URL:https://chihirosound.com/event/16044
LOCATION:三重県
CATEGORIES:オススメ,ラジオ
END:VEVENT
BEGIN:VEVENT
DTSTART;TZID=Asia/Tokyo:20231119T104000
DTEND;TZID=Asia/Tokyo:20231119T121000
DTSTAMP:20260421T024507
CREATED:20231026T150033Z
LAST-MODIFIED:20231027T102630Z
UID:16728-1700390400-1700395800@chihirosound.com
SUMMARY:Concert〔広島県〕
DESCRIPTION:【Title】心と心を結ぶ人権セミナー\nちひろコンサート　みんなちがって、みんないい生き方を　～金子みすゞの心とともに～\n●と　き：　11月19日（日） \n●ところ：　大柿厚生文化センター　（広島県江田島市大柿町柿浦2579-4） \n※会場の地図はこちら \n●時　間：　10：40～　＊出演時間は変更になる場合があります。 \n●入　場：　無料 \n●お問合せ：　大柿厚生文化センター　電話／0823-57-2071 \n●主　催：　文化センターまつり実行委員会 \n  \nPDFはこちら
URL:https://chihirosound.com/event/16728
LOCATION:〒737-2211 広島県江田島市大柿町柿浦２５７９−４\, 広島県\, 江田島市\, 広島県\, 737-2211\, 日本
CATEGORIES:オススメ,コンサート
ATTACH;FMTTYPE=image/jpeg:https://chihirosound.com/wp-content/uploads/2023/11/04876d54b53a452315950a4564674ad3-scaled.jpg
END:VEVENT
BEGIN:VEVENT
DTSTART;TZID=Asia/Tokyo:20231119T052500
DTEND;TZID=Asia/Tokyo:20231119T055500
DTSTAMP:20260421T024507
CREATED:20230424T045418Z
LAST-MODIFIED:20230921T055324Z
UID:16099-1700371500-1700373300@chihirosound.com
SUMMARY:全国放送Radio「みすゞさんと明るいほうへ」
DESCRIPTION:💐Radio・ちひろレギュラー全国放送番組💐\n金子みすゞの詩の朗読・みすゞヒストリー・放送各地のおススメの〇〇・リスナーメッセージ等 \nちひろがお届けする ❤ 30分番組です♪ \n  \n●番組名：　『みすゞさんと明るいほうへ』　　番組ホームページはこちら \n●パーソナリティ：　ちひろ \n  \n●レギュラー放送時間：　 \n☆毎週水曜日 11：00～／FM-NANAKO、FM AQUA、COME ON！FM、しゅうなんFM \n　　　　　　 11：30～／FMはつかいち　　13：00～／FMスマイルウエ～ブ \n☆毎週土曜日 朝9：00～／FMわっしょい \n★毎週日曜日 朝5：25～／全国放送（全国のコミュニティFM） \n☆毎週月曜日 20：00～／KOCOラジ＜郡山コミュニティ放送＞　　 \n　　　　　　 20：30～／ULTRA FM \n  \n●再放送：　FM-NANAKO／毎週土曜日 15：00～　　FM AQUA／毎週日曜日 11：00～ \n  \n●周波数：　JCBA（全国のコミュニティFM） \n●インターネットで聴く：　※全国どこでもインターネットでラジオが聴けるページです。 \n■JCBAインターネットサイマルラジオで聴く \n  \n中国地区の「COME ON! FM」  or  「しゅうなんFM」　の　「LISTEN♪」　をクリックしてください♪ \n■COME ON! FMをインターネットで聴く \n■FMはつかいちをインターネットで聴く \n■FMスマイルウエ～ブをインターネットで聴く \n■FMわっしょいをインターネットで聴く \n■ULTRA FMをインターネットで聴く \n  \n■サイマルラジオで聴く \n東北地区の「郡山コミュニティ放送」　の　「放送を聴く」　をクリックしてください♪ \n■KOCOラジ＜郡山コミュニティ放送＞をインターネットで聴く \n  \n●リクエスト＆メッセージ🎵：　番組フォーマット　or　misuzufm.0407@gmail.com \n 
URL:https://chihirosound.com/event/16099
LOCATION:三重県
CATEGORIES:オススメ,ラジオ
END:VEVENT
BEGIN:VEVENT
DTSTART;TZID=Asia/Tokyo:20231118T133000
DTEND;TZID=Asia/Tokyo:20231118T150000
DTSTAMP:20260421T024507
CREATED:20230905T080041Z
LAST-MODIFIED:20231027T104034Z
UID:17289-1700314200-1700319600@chihirosound.com
SUMMARY:Concert〔山口県〕
DESCRIPTION:【Title】第10回（通算15回）図書館フェスティバルプレイベント\nちひろコンサート　～明るいほうへ～\n●と　き：　11月18日（土） \n●ところ：　山陽小野田市立中央図書館　2F視聴覚ホール \n会場の地図はこちら \n●時　間：　13：30～15：00（開場13：00） \n●入　場：　チケット料金　一般　前売／2\,000円　当日／2\,500円 \n　　　　　　高校生以下または障がい者手帳をお持ちの方／無料（合わせて30名まで） \n●対　象：　小学生以上 \n●定　員：　80名 \n●お問合せ・お申込先：　山陽小野田市立中央図書館（こちらのページにE-mailもございます） \n　　　　　　　　　　　　電話／0836-83-2870　　FAX／0836-83-3564 \n  \n●主　催：　中央図書館フェスティバル実行委員会 \n●共　催：　山陽小野田市教育委員会 \n  \nPDFはこちら
URL:https://chihirosound.com/event/17289
LOCATION:山陽小野田市立中央図書館　2F視聴覚ホール\, 山口県山陽小野田市栄町９−１３\, 山陽小野田市\, 山口県\, 756-0802\, 日本
CATEGORIES:オススメ,コンサート
ATTACH;FMTTYPE=image/jpeg:https://chihirosound.com/wp-content/uploads/2023/10/3a3b128e3ce4c4b4cdd9163c3cc69995-scaled.jpg
END:VEVENT
END:VCALENDAR