BEGIN:VCALENDAR
VERSION:2.0
PRODID:-//ちひろ Official Website ～金子みすゞの心を歌う～  CHIHIRO Official Website - MISUZU KANEKO- - ECPv6.15.11//NONSGML v1.0//EN
CALSCALE:GREGORIAN
METHOD:PUBLISH
X-WR-CALNAME:ちひろ Official Website ～金子みすゞの心を歌う～  CHIHIRO Official Website - MISUZU KANEKO-
X-ORIGINAL-URL:https://chihirosound.com
X-WR-CALDESC:ちひろ Official Website ～金子みすゞの心を歌う～  CHIHIRO Official Website - MISUZU KANEKO- のイベント
REFRESH-INTERVAL;VALUE=DURATION:PT1H
X-Robots-Tag:noindex
X-PUBLISHED-TTL:PT1H
BEGIN:VTIMEZONE
TZID:Asia/Tokyo
BEGIN:STANDARD
TZOFFSETFROM:+0900
TZOFFSETTO:+0900
TZNAME:JST
DTSTART:20220101T000000
END:STANDARD
END:VTIMEZONE
BEGIN:VEVENT
DTSTART;TZID=Asia/Tokyo:20231116T140000
DTEND;TZID=Asia/Tokyo:20231116T144000
DTSTAMP:20260421T024509
CREATED:20230616T111734Z
LAST-MODIFIED:20231114T020103Z
UID:16726-1700143200-1700145600@chihirosound.com
SUMMARY:Concert〔広島県〕
DESCRIPTION:【Title】「秋のめぐみ法座」ちひろミニコンサート\n●と　き：　11月16日（木） \n●ところ：　勝善寺 本堂（広島県大竹市元町2丁目10-5） \n※会場の地図はこちら \n●時　間：　 14：00頃～　 \n●対　象：　どなたでもお参りいただけます \n●主　催：　勝善寺仏教婦人会
URL:https://chihirosound.com/event/16726
LOCATION:勝善寺\, 広島県大竹市元町２丁目１０−５\, 大竹市\, 広島県\, 739-0615\, 日本
CATEGORIES:オススメ,コンサート
END:VEVENT
BEGIN:VEVENT
DTSTART;TZID=Asia/Tokyo:20231115T140000
DTEND;TZID=Asia/Tokyo:20231115T155000
DTSTAMP:20260421T024509
CREATED:20230930T150009Z
LAST-MODIFIED:20231002T004842Z
UID:16724-1700056800-1700063400@chihirosound.com
SUMMARY:Concert〔長崎県〕
DESCRIPTION:【Title】ちひろコンサート 「みんなちがって、みんないい生き方を ～金子みすゞの心とともに～」\n●と　き：　11月15日（水） \n●ところ：　長崎市民会館文化ホール（長崎県長崎市魚の町5-1） \n※会場の地図はこちら \n●時　間：　14：00～15：50　開場／13：30 \n●入　場：　無料　600人（先着申込順） \n  \n●申　込：　長崎市ホームページ・電話・FAX・長崎市人権男女共同参画室窓口 \n　　　　　 （＊FAXで申込みの際は、氏名、電話番号を記載の上送信してください。） \n●その他：　一時保育、手話通訳・要約筆記あり \n　　　　　 （＊一時保育（1歳～就学前）希望の方は11月6日(月)までに申し込みを！（先着順）） \n●お問い合わせ：　長崎市人権男女共同参画室　電話／095-826-0026　FAX／095-826-0062 \n●主　催：　長崎市・長崎市教育委員会・長崎市PTA連合会 \n  \n 
URL:https://chihirosound.com/event/16724
LOCATION:長崎市民会館文化ホール\, 長崎県長崎市魚の町５−１\, 長崎市\, 長崎県\, 850-0874\, 日本
CATEGORIES:オススメ,コンサート
ATTACH;FMTTYPE=image/jpeg:https://chihirosound.com/wp-content/uploads/2023/06/b2ac0b12cb2a9bac30ce5e6add936d41-scaled.jpg
END:VEVENT
BEGIN:VEVENT
DTSTART;TZID=Asia/Tokyo:20231115T110000
DTEND;TZID=Asia/Tokyo:20231115T113000
DTSTAMP:20260421T024509
CREATED:20230424T061710Z
LAST-MODIFIED:20230921T054623Z
UID:16214-1700046000-1700047800@chihirosound.com
SUMMARY:Radio「みすゞさんと明るいほうへ」
DESCRIPTION:💐Radio・ちひろレギュラー全国放送番組💐\n金子みすゞの詩の朗読・みすゞヒストリー・放送各地のおススメの〇〇・リスナーメッセージ等 \nちひろがお届けする ❤ 30分番組です♪ \n  \n●番組名：　『みすゞさんと明るいほうへ』　　番組ホームページはこちら \n●パーソナリティ：　ちひろ \n  \n●レギュラー放送時間：　 \n☆毎週水曜日 11：00～／FM-NANAKO、FM AQUA、COME ON！FM、しゅうなんFM \n　　　　　　 11：30～／FMはつかいち　　13：00～／FMスマイルウエ～ブ \n☆毎週土曜日 朝9：00～／FMわっしょい \n★毎週日曜日 朝5：25～／全国放送（全国のコミュニティFM） \n☆毎週月曜日 20：00～／KOCOラジ＜郡山コミュニティ放送＞　　 \n　　　　　　 20：30～／ULTRA FM \n  \n●再放送：　FM-NANAKO／毎週土曜日 15：00～　　FM AQUA／毎週日曜日 11：00～ \n  \n●周波数：　JCBA（全国のコミュニティFM） \n●インターネットで聴く：　※全国どこでもインターネットでラジオが聴けるページです。 \n■JCBAインターネットサイマルラジオで聴く \n  \n中国地区の「COME ON! FM」  or  「しゅうなんFM」　の　「LISTEN♪」　をクリックしてください♪ \n■COME ON! FMをインターネットで聴く \n■FMはつかいちをインターネットで聴く \n■FMスマイルウエ～ブをインターネットで聴く \n■FMわっしょいをインターネットで聴く \n■ULTRA FMをインターネットで聴く \n  \n■サイマルラジオで聴く \n東北地区の「郡山コミュニティ放送」　の　「放送を聴く」　をクリックしてください♪ \n■KOCOラジ＜郡山コミュニティ放送＞をインターネットで聴く \n  \n●リクエスト＆メッセージ🎵：　番組フォーマット　or　misuzufm.0407@gmail.com \n 
URL:https://chihirosound.com/event/16214
LOCATION:三重県
CATEGORIES:オススメ,ラジオ
END:VEVENT
BEGIN:VEVENT
DTSTART;TZID=Asia/Tokyo:20231114T183000
DTEND;TZID=Asia/Tokyo:20231114T200000
DTSTAMP:20260421T024509
CREATED:20230915T151514Z
LAST-MODIFIED:20231027T075809Z
UID:17382-1699986600-1699992000@chihirosound.com
SUMMARY:Concert〔福岡県〕
DESCRIPTION:【Title】「男女共同参画講演会」ちひろコンサート\n　明るいほうへ ～金子みすゞ・マザーテレサのメッセージ～\n●と　き：　11月14日（火） \n●ところ：　コスモスプラザ ふれあいホール（福岡県朝倉郡筑前町篠隈373） \n※会場の地図はこちら \n●時　間：　18：00／開場　　18：30／開演　　20：00／終演 \n●対　象：　どなたでもOK \n●入場料：　無料 \n●託児申込：　無料　　10月31日（火）締切　男女共同参画センター「リプラ」　電話／0946-22-3996　 \n●主　催：　筑前町 \n●お問合せ：　筑前町 企画課 コミュニティ・男女共同参画係（電話／0946-42-6603） \nPDFはこちら \n \n 
URL:https://chihirosound.com/event/17382
LOCATION:コスモスプラザ ふれあいホール\, 福岡県朝倉郡筑前町篠隈３７３\, 筑前町\, 福岡県\, 838-0215\, 日本
CATEGORIES:オススメ,コンサート
ATTACH;FMTTYPE=image/jpeg:https://chihirosound.com/wp-content/uploads/2023/10/5e7eb9a9475fb6346dc08d4de9296235-scaled.jpg
END:VEVENT
BEGIN:VEVENT
DTSTART;TZID=Asia/Tokyo:20231112T143000
DTEND;TZID=Asia/Tokyo:20231112T150000
DTSTAMP:20260421T024509
CREATED:20230424T041710Z
LAST-MODIFIED:20230424T041710Z
UID:16042-1699799400-1699801200@chihirosound.com
SUMMARY:KRYラジオ「ちひろDEブレイク」
DESCRIPTION:♠♣♥♦毎週日曜日放送のちひろレギュラー番組♠♣♥♦\nコンサート会場での裏話、ＣＤアルバム制作秘話、名言コーナー、金子みすゞの詩をご紹介など、内容盛り沢山の30分です♪ \n  \n●毎週日曜日：　14：30～ \n●パーソナリティ：　ちひろ、瀬川 嘉 \n  \n●ちひろDEブレイク：　Official Website・ブログ・みすゞ心のメッセージ \n●周波数一覧 -KRY山口放送-：　こちら（AM・FMで聴く） \n●パソコン・スマホでKRYラジオが聴ける：　radiko.jp \n  \n●ご意見・ご感想はこちら \nメール：break@kry.co.jp\nＦＡＸ：0834-32-9000\nハガキ：〒745-8686　山口放送「ちひろDEブレイク」係 \nメッセージフォームはこちらから
URL:https://chihirosound.com/event/16042
LOCATION:三重県
CATEGORIES:オススメ,ラジオ
END:VEVENT
BEGIN:VEVENT
DTSTART;TZID=Asia/Tokyo:20231112T103000
DTEND;TZID=Asia/Tokyo:20231112T154500
DTSTAMP:20260421T024509
CREATED:20230616T111458Z
LAST-MODIFIED:20230906T070838Z
UID:16722-1699785000-1699803900@chihirosound.com
SUMMARY:Concert〔静岡県〕
DESCRIPTION:【Title】「第47回 方広寺秋季講座」ちひろコンサート ～金子みすゞと仏教のまなざし～\n●と　き：　11月12日（日） \n●ところ：　大本山方広寺 本堂（静岡県浜松市北区引佐町奥山1577-1） \n　　　　　　※会場の地図はこちら \n●時　間：　 9：30／受付　　 10:30／開講　　12：00～13：00／昼食　　15：45／閉講 \n●参加費：　●3\,000円（弁当付き）　●5\,000円（精進料理付き）　＊参加費は当日支払い \n●定　員：　300名 （申込順／定員になり次第受付終了） \n  \n●申し込み方法：　8月1日より電話、FAX、Eメールにて受付（電話受付時間／9：00～17：00） \n　　　　　　　　　電話／053-543-0003 　FAX／053-543-0249 　Eメール／info@houkouji.or.jp \n●主　催：　方広寺重要文化財活用委員会 \n●後　援：　浜松市・浜松市教育委員会・（公財）浜松・浜名湖ツーリズムビューロー \n＊気象・コロナ渦などによって変更または中止となる場合があります（方広寺ホームページで告知します） \n  \n \n \n 
URL:https://chihirosound.com/event/16722
LOCATION:方広寺\, 〒431-2224 静岡県浜松市北区引佐町奥山１５７７−１\, 浜松市\, 静岡県\, 431-2224\, 日本
CATEGORIES:オススメ,コンサート
ATTACH;FMTTYPE=image/jpeg:https://chihirosound.com/wp-content/uploads/2023/06/080d6086f28bd521ca6a24f252b9a37b-scaled.jpg
END:VEVENT
BEGIN:VEVENT
DTSTART;TZID=Asia/Tokyo:20231112T052500
DTEND;TZID=Asia/Tokyo:20231112T055500
DTSTAMP:20260421T024509
CREATED:20230424T045312Z
LAST-MODIFIED:20230921T055221Z
UID:16097-1699766700-1699768500@chihirosound.com
SUMMARY:全国放送Radio「みすゞさんと明るいほうへ」
DESCRIPTION:💐Radio・ちひろレギュラー全国放送番組💐\n金子みすゞの詩の朗読・みすゞヒストリー・放送各地のおススメの〇〇・リスナーメッセージ等 \nちひろがお届けする ❤ 30分番組です♪ \n  \n●番組名：　『みすゞさんと明るいほうへ』　　番組ホームページはこちら \n●パーソナリティ：　ちひろ \n  \n●レギュラー放送時間：　 \n☆毎週水曜日 11：00～／FM-NANAKO、FM AQUA、COME ON！FM、しゅうなんFM \n　　　　　　 11：30～／FMはつかいち　　13：00～／FMスマイルウエ～ブ \n☆毎週土曜日 朝9：00～／FMわっしょい \n★毎週日曜日 朝5：25～／全国放送（全国のコミュニティFM） \n☆毎週月曜日 20：00～／KOCOラジ＜郡山コミュニティ放送＞　　 \n　　　　　　 20：30～／ULTRA FM \n  \n●再放送：　FM-NANAKO／毎週土曜日 15：00～　　FM AQUA／毎週日曜日 11：00～ \n  \n●周波数：　JCBA（全国のコミュニティFM） \n●インターネットで聴く：　※全国どこでもインターネットでラジオが聴けるページです。 \n■JCBAインターネットサイマルラジオで聴く \n  \n中国地区の「COME ON! FM」  or  「しゅうなんFM」　の　「LISTEN♪」　をクリックしてください♪ \n■COME ON! FMをインターネットで聴く \n■FMはつかいちをインターネットで聴く \n■FMスマイルウエ～ブをインターネットで聴く \n■FMわっしょいをインターネットで聴く \n■ULTRA FMをインターネットで聴く \n  \n■サイマルラジオで聴く \n東北地区の「郡山コミュニティ放送」　の　「放送を聴く」　をクリックしてください♪ \n■KOCOラジ＜郡山コミュニティ放送＞をインターネットで聴く \n  \n●リクエスト＆メッセージ🎵：　番組フォーマット　or　misuzufm.0407@gmail.com \n 
URL:https://chihirosound.com/event/16097
LOCATION:三重県
CATEGORIES:オススメ,ラジオ
END:VEVENT
BEGIN:VEVENT
DTSTART;TZID=Asia/Tokyo:20231111T100000
DTEND;TZID=Asia/Tokyo:20231111T113000
DTSTAMP:20260421T024509
CREATED:20230616T111343Z
LAST-MODIFIED:20231004T063253Z
UID:16720-1699696800-1699702200@chihirosound.com
SUMMARY:Concert〔福岡県〕
DESCRIPTION:【Title】角田人権のつどい\nちひろコンサート 「みんなちがって、みんないい生き方を ～金子みすゞの心とともに～」\n●と　き：　11月11日（土） \n●ところ：　角田公民館・多目的ホール（福岡県豊前市中村412-2） \n※会場の地図はこちら \n●時　間：　10：00～11：30　 \n●入　場：　無料 \n●お問合せ：　角田公民館　電話／0979-82-2701 \n  \n●主　催：　角田地区人権のまちづくり協議会 \n●共　催：　角田地域づくり協議会 \n 
URL:https://chihirosound.com/event/16720
LOCATION:角田公民館\, 福岡県豊前市中村412-2\, 豊前市\, 福岡県\, 828-0003
CATEGORIES:オススメ,コンサート
END:VEVENT
BEGIN:VEVENT
DTSTART;TZID=Asia/Tokyo:20231108T110000
DTEND;TZID=Asia/Tokyo:20231108T113000
DTSTAMP:20260421T024509
CREATED:20230424T061630Z
LAST-MODIFIED:20230921T054522Z
UID:16212-1699441200-1699443000@chihirosound.com
SUMMARY:Radio「みすゞさんと明るいほうへ」
DESCRIPTION:💐Radio・ちひろレギュラー全国放送番組💐\n金子みすゞの詩の朗読・みすゞヒストリー・放送各地のおススメの〇〇・リスナーメッセージ等 \nちひろがお届けする ❤ 30分番組です♪ \n  \n●番組名：　『みすゞさんと明るいほうへ』　　番組ホームページはこちら \n●パーソナリティ：　ちひろ \n  \n●レギュラー放送時間：　 \n☆毎週水曜日 11：00～／FM-NANAKO、FM AQUA、COME ON！FM、しゅうなんFM \n　　　　　　 11：30～／FMはつかいち　　13：00～／FMスマイルウエ～ブ \n☆毎週土曜日 朝9：00～／FMわっしょい \n★毎週日曜日 朝5：25～／全国放送（全国のコミュニティFM） \n☆毎週月曜日 20：00～／KOCOラジ＜郡山コミュニティ放送＞　　 \n　　　　　　 20：30～／ULTRA FM \n  \n●再放送：　FM-NANAKO／毎週土曜日 15：00～　　FM AQUA／毎週日曜日 11：00～ \n  \n●周波数：　JCBA（全国のコミュニティFM） \n●インターネットで聴く：　※全国どこでもインターネットでラジオが聴けるページです。 \n■JCBAインターネットサイマルラジオで聴く \n  \n中国地区の「COME ON! FM」  or  「しゅうなんFM」　の　「LISTEN♪」　をクリックしてください♪ \n■COME ON! FMをインターネットで聴く \n■FMはつかいちをインターネットで聴く \n■FMスマイルウエ～ブをインターネットで聴く \n■FMわっしょいをインターネットで聴く \n■ULTRA FMをインターネットで聴く \n  \n■サイマルラジオで聴く \n東北地区の「郡山コミュニティ放送」　の　「放送を聴く」　をクリックしてください♪ \n■KOCOラジ＜郡山コミュニティ放送＞をインターネットで聴く \n  \n●リクエスト＆メッセージ🎵：　番組フォーマット　or　misuzufm.0407@gmail.com \n 
URL:https://chihirosound.com/event/16212
LOCATION:三重県
CATEGORIES:オススメ,ラジオ
END:VEVENT
BEGIN:VEVENT
DTSTART;TZID=Asia/Tokyo:20231105T143000
DTEND;TZID=Asia/Tokyo:20231105T150000
DTSTAMP:20260421T024509
CREATED:20230424T041618Z
LAST-MODIFIED:20230424T041618Z
UID:16040-1699194600-1699196400@chihirosound.com
SUMMARY:KRYラジオ「ちひろDEブレイク」
DESCRIPTION:♠♣♥♦毎週日曜日放送のちひろレギュラー番組♠♣♥♦\nコンサート会場での裏話、ＣＤアルバム制作秘話、名言コーナー、金子みすゞの詩をご紹介など、内容盛り沢山の30分です♪ \n  \n●毎週日曜日：　14：30～ \n●パーソナリティ：　ちひろ、瀬川 嘉 \n  \n●ちひろDEブレイク：　Official Website・ブログ・みすゞ心のメッセージ \n●周波数一覧 -KRY山口放送-：　こちら（AM・FMで聴く） \n●パソコン・スマホでKRYラジオが聴ける：　radiko.jp \n  \n●ご意見・ご感想はこちら \nメール：break@kry.co.jp\nＦＡＸ：0834-32-9000\nハガキ：〒745-8686　山口放送「ちひろDEブレイク」係 \nメッセージフォームはこちらから
URL:https://chihirosound.com/event/16040
LOCATION:三重県
CATEGORIES:オススメ,ラジオ
END:VEVENT
BEGIN:VEVENT
DTSTART;TZID=Asia/Tokyo:20231105T052500
DTEND;TZID=Asia/Tokyo:20231105T055500
DTSTAMP:20260421T024509
CREATED:20230424T045230Z
LAST-MODIFIED:20230921T055101Z
UID:16095-1699161900-1699163700@chihirosound.com
SUMMARY:全国放送Radio「みすゞさんと明るいほうへ」
DESCRIPTION:💐Radio・ちひろレギュラー全国放送番組💐\n金子みすゞの詩の朗読・みすゞヒストリー・放送各地のおススメの〇〇・リスナーメッセージ等 \nちひろがお届けする ❤ 30分番組です♪ \n  \n●番組名：　『みすゞさんと明るいほうへ』　　番組ホームページはこちら \n●パーソナリティ：　ちひろ \n  \n●レギュラー放送時間：　 \n☆毎週水曜日 11：00～／FM-NANAKO、FM AQUA、COME ON！FM、しゅうなんFM \n　　　　　　 11：30～／FMはつかいち　　13：00～／FMスマイルウエ～ブ \n☆毎週土曜日 朝9：00～／FMわっしょい \n★毎週日曜日 朝5：25～／全国放送（全国のコミュニティFM） \n☆毎週月曜日 20：00～／KOCOラジ＜郡山コミュニティ放送＞　　 \n　　　　　　 20：30～／ULTRA FM \n  \n●再放送：　FM-NANAKO／毎週土曜日 15：00～　　FM AQUA／毎週日曜日 11：00～ \n  \n●周波数：　JCBA（全国のコミュニティFM） \n●インターネットで聴く：　※全国どこでもインターネットでラジオが聴けるページです。 \n■JCBAインターネットサイマルラジオで聴く \n  \n中国地区の「COME ON! FM」  or  「しゅうなんFM」　の　「LISTEN♪」　をクリックしてください♪ \n■COME ON! FMをインターネットで聴く \n■FMはつかいちをインターネットで聴く \n■FMスマイルウエ～ブをインターネットで聴く \n■FMわっしょいをインターネットで聴く \n■ULTRA FMをインターネットで聴く \n  \n■サイマルラジオで聴く \n東北地区の「郡山コミュニティ放送」　の　「放送を聴く」　をクリックしてください♪ \n■KOCOラジ＜郡山コミュニティ放送＞をインターネットで聴く \n  \n●リクエスト＆メッセージ🎵：　番組フォーマット　or　misuzufm.0407@gmail.com \n 
URL:https://chihirosound.com/event/16095
LOCATION:三重県
CATEGORIES:オススメ,ラジオ
END:VEVENT
BEGIN:VEVENT
DTSTART;TZID=Asia/Tokyo:20231101T110000
DTEND;TZID=Asia/Tokyo:20231101T113000
DTSTAMP:20260421T024509
CREATED:20230424T061537Z
LAST-MODIFIED:20230921T054241Z
UID:16210-1698836400-1698838200@chihirosound.com
SUMMARY:Radio「みすゞさんと明るいほうへ」
DESCRIPTION:💐Radio・ちひろレギュラー全国放送番組💐\n金子みすゞの詩の朗読・みすゞヒストリー・放送各地のおススメの〇〇・リスナーメッセージ等 \nちひろがお届けする ❤ 30分番組です♪ \n  \n●番組名：　『みすゞさんと明るいほうへ』　　番組ホームページはこちら \n●パーソナリティ：　ちひろ \n  \n●レギュラー放送時間：　 \n☆毎週水曜日 11：00～／FM-NANAKO、FM AQUA、COME ON！FM、しゅうなんFM \n　　　　　　 11：30～／FMはつかいち　　13：00～／FMスマイルウエ～ブ \n☆毎週土曜日 朝9：00～／FMわっしょい \n★毎週日曜日 朝5：25～／全国放送（全国のコミュニティFM） \n☆毎週月曜日 20：00～／KOCOラジ＜郡山コミュニティ放送＞　　 \n　　　　　　 20：30～／ULTRA FM \n  \n●再放送：　FM-NANAKO／毎週土曜日 15：00～　　FM AQUA／毎週日曜日 11：00～ \n  \n●周波数：　JCBA（全国のコミュニティFM） \n●インターネットで聴く：　※全国どこでもインターネットでラジオが聴けるページです。 \n■JCBAインターネットサイマルラジオで聴く \n  \n中国地区の「COME ON! FM」  or  「しゅうなんFM」　の　「LISTEN♪」　をクリックしてください♪ \n■COME ON! FMをインターネットで聴く \n■FMはつかいちをインターネットで聴く \n■FMスマイルウエ～ブをインターネットで聴く \n■FMわっしょいをインターネットで聴く \n■ULTRA FMをインターネットで聴く \n  \n■サイマルラジオで聴く \n東北地区の「郡山コミュニティ放送」　の　「放送を聴く」　をクリックしてください♪ \n■KOCOラジ＜郡山コミュニティ放送＞をインターネットで聴く \n  \n●リクエスト＆メッセージ🎵：　番組フォーマット　or　misuzufm.0407@gmail.com \n 
URL:https://chihirosound.com/event/16210
LOCATION:三重県
CATEGORIES:オススメ,ラジオ
END:VEVENT
BEGIN:VEVENT
DTSTART;TZID=Asia/Tokyo:20231029T143000
DTEND;TZID=Asia/Tokyo:20231029T150000
DTSTAMP:20260421T024509
CREATED:20230424T041530Z
LAST-MODIFIED:20230424T041530Z
UID:16038-1698589800-1698591600@chihirosound.com
SUMMARY:KRYラジオ「ちひろDEブレイク」
DESCRIPTION:♠♣♥♦毎週日曜日放送のちひろレギュラー番組♠♣♥♦\nコンサート会場での裏話、ＣＤアルバム制作秘話、名言コーナー、金子みすゞの詩をご紹介など、内容盛り沢山の30分です♪ \n  \n●毎週日曜日：　14：30～ \n●パーソナリティ：　ちひろ、瀬川 嘉 \n  \n●ちひろDEブレイク：　Official Website・ブログ・みすゞ心のメッセージ \n●周波数一覧 -KRY山口放送-：　こちら（AM・FMで聴く） \n●パソコン・スマホでKRYラジオが聴ける：　radiko.jp \n  \n●ご意見・ご感想はこちら \nメール：break@kry.co.jp\nＦＡＸ：0834-32-9000\nハガキ：〒745-8686　山口放送「ちひろDEブレイク」係 \nメッセージフォームはこちらから
URL:https://chihirosound.com/event/16038
LOCATION:三重県
CATEGORIES:オススメ,ラジオ
END:VEVENT
BEGIN:VEVENT
DTSTART;TZID=Asia/Tokyo:20231029T052500
DTEND;TZID=Asia/Tokyo:20231029T055500
DTSTAMP:20260421T024509
CREATED:20230424T045034Z
LAST-MODIFIED:20230921T053757Z
UID:16093-1698557100-1698558900@chihirosound.com
SUMMARY:全国放送Radio「みすゞさんと明るいほうへ」
DESCRIPTION:💐Radio・ちひろレギュラー全国放送番組💐\n金子みすゞの詩の朗読・みすゞヒストリー・放送各地のおススメの〇〇・リスナーメッセージ等 \nちひろがお届けする ❤ 30分番組です♪ \n  \n●番組名：　『みすゞさんと明るいほうへ』　　番組ホームページはこちら \n●パーソナリティ：　ちひろ \n  \n●レギュラー放送時間：　 \n☆毎週水曜日 11：00～／FM-NANAKO、FM AQUA、COME ON！FM、しゅうなんFM \n　　　　　　 11：30～／FMはつかいち　　13：00～／FMスマイルウエ～ブ \n☆毎週土曜日 朝9：00～／FMわっしょい \n★毎週日曜日 朝5：25～／全国放送（全国のコミュニティFM） \n☆毎週月曜日 20：00～／KOCOラジ＜郡山コミュニティ放送＞　　 \n　　　　　　 20：30～／ULTRA FM \n  \n●再放送：　FM-NANAKO／毎週土曜日 15：00～　　FM AQUA／毎週日曜日 11：00～ \n  \n●周波数：　JCBA（全国のコミュニティFM） \n●インターネットで聴く：　※全国どこでもインターネットでラジオが聴けるページです。 \n■JCBAインターネットサイマルラジオで聴く \n  \n中国地区の「COME ON! FM」  or  「しゅうなんFM」　の　「LISTEN♪」　をクリックしてください♪ \n■COME ON! FMをインターネットで聴く \n■FMはつかいちをインターネットで聴く \n■FMスマイルウエ～ブをインターネットで聴く \n■FMわっしょいをインターネットで聴く \n■ULTRA FMをインターネットで聴く \n  \n■サイマルラジオで聴く \n東北地区の「郡山コミュニティ放送」　の　「放送を聴く」　をクリックしてください♪ \n■KOCOラジ＜郡山コミュニティ放送＞をインターネットで聴く \n  \n●リクエスト＆メッセージ🎵：　番組フォーマット　or　misuzufm.0407@gmail.com \n 
URL:https://chihirosound.com/event/16093
LOCATION:三重県
CATEGORIES:オススメ,ラジオ
END:VEVENT
BEGIN:VEVENT
DTSTART;TZID=Asia/Tokyo:20231028T133000
DTEND;TZID=Asia/Tokyo:20231028T153000
DTSTAMP:20260421T024509
CREATED:20230812T083116Z
LAST-MODIFIED:20231003T014427Z
UID:17120-1698499800-1698507000@chihirosound.com
SUMMARY:講座〔山口県〕
DESCRIPTION:【Title】「女性学級～聞かせて 女性の活躍～」\n ちひろ講座＆ミニコンサート ～今もう一度、金子みすゞのまなざしを！～\n●と　き：　10月28日（土） \n●ところ：　小郡地域交流センター （山口県山口市小郡下郷609-1）大ホール \n※会場の地図はこちら \n●時　間：　13：30～15：30 \n●入　場：　無料（要予約） \n●対　象：　どなたでもOK（男性の方の参加もOKです） \n●主　催：　女性学級、小郡地域交流センター \n●お申込・お問合せ：　女性学級（益田さん　phone／083-972-6497　Fax／083-973-1331 \n 
URL:https://chihirosound.com/event/17120
LOCATION:山口市小郡地域交流センター\, 山口県山口市小郡下郷６０９−１\, 山口市\, 山口県\, 754-0002\, 日本
CATEGORIES:オススメ,講演
END:VEVENT
BEGIN:VEVENT
DTSTART;TZID=Asia/Tokyo:20231025T110000
DTEND;TZID=Asia/Tokyo:20231025T113000
DTSTAMP:20260421T024509
CREATED:20230424T061436Z
LAST-MODIFIED:20230921T054124Z
UID:16208-1698231600-1698233400@chihirosound.com
SUMMARY:Radio「みすゞさんと明るいほうへ」
DESCRIPTION:💐Radio・ちひろレギュラー全国放送番組💐\n金子みすゞの詩の朗読・みすゞヒストリー・放送各地のおススメの〇〇・リスナーメッセージ等 \nちひろがお届けする ❤ 30分番組です♪ \n  \n●番組名：　『みすゞさんと明るいほうへ』　　番組ホームページはこちら \n●パーソナリティ：　ちひろ \n  \n●レギュラー放送時間：　 \n☆毎週水曜日 11：00～／FM-NANAKO、FM AQUA、COME ON！FM、しゅうなんFM \n　　　　　　 11：30～／FMはつかいち　　13：00～／FMスマイルウエ～ブ \n☆毎週土曜日 朝9：00～／FMわっしょい \n★毎週日曜日 朝5：25～／全国放送（全国のコミュニティFM） \n☆毎週月曜日 20：00～／KOCOラジ＜郡山コミュニティ放送＞　　 \n　　　　　　 20：30～／ULTRA FM \n  \n●再放送：　FM-NANAKO／毎週土曜日 15：00～　　FM AQUA／毎週日曜日 11：00～ \n  \n●周波数：　JCBA（全国のコミュニティFM） \n●インターネットで聴く：　※全国どこでもインターネットでラジオが聴けるページです。 \n■JCBAインターネットサイマルラジオで聴く \n  \n中国地区の「COME ON! FM」  or  「しゅうなんFM」　の　「LISTEN♪」　をクリックしてください♪ \n■COME ON! FMをインターネットで聴く \n■FMはつかいちをインターネットで聴く \n■FMスマイルウエ～ブをインターネットで聴く \n■FMわっしょいをインターネットで聴く \n■ULTRA FMをインターネットで聴く \n  \n■サイマルラジオで聴く \n東北地区の「郡山コミュニティ放送」　の　「放送を聴く」　をクリックしてください♪ \n■KOCOラジ＜郡山コミュニティ放送＞をインターネットで聴く \n  \n●リクエスト＆メッセージ🎵：　番組フォーマット　or　misuzufm.0407@gmail.com \n 
URL:https://chihirosound.com/event/16208
LOCATION:三重県
CATEGORIES:オススメ,ラジオ
END:VEVENT
BEGIN:VEVENT
DTSTART;TZID=Asia/Tokyo:20231023T165000
DTEND;TZID=Asia/Tokyo:20231023T175300
DTSTAMP:20260421T024509
CREATED:20230921T043331Z
LAST-MODIFIED:20230921T043331Z
UID:17433-1698079800-1698083580@chihirosound.com
SUMMARY:TV〔山口県〕
DESCRIPTION:【Title】KRY山口放送『熱血テレビ』ちひろがスタジオ生出演！\n  \n●と　き：　10月23日（月） \n●時　間：　16：50～17：53 \n●放送局：　KRY山口放送 \n●番　組：　『熱血テレビ』 \n●放送内容：　「生誕120年 今伝えたいみすゞの心」でちひろが詩の朗読を行います！スタジオに生出演！ \n  \n●ご意見・メッセージ：　メール：nekketu@kry.co.jp　FAX：0834-32-7760　　ハガキ：〒745-8686　山口放送「熱血テレビ」係 \n●放送エリア：　山口県内と周辺受信エリア
URL:https://chihirosound.com/event/17433
LOCATION:三重県
CATEGORIES:オススメ,テレビ
END:VEVENT
BEGIN:VEVENT
DTSTART;TZID=Asia/Tokyo:20231022T143000
DTEND;TZID=Asia/Tokyo:20231022T150000
DTSTAMP:20260421T024509
CREATED:20230424T041322Z
LAST-MODIFIED:20230424T041429Z
UID:16036-1697985000-1697986800@chihirosound.com
SUMMARY:KRYラジオ「ちひろDEブレイク」
DESCRIPTION:♠♣♥♦毎週日曜日放送のちひろレギュラー番組♠♣♥♦\nコンサート会場での裏話、ＣＤアルバム制作秘話、名言コーナー、金子みすゞの詩をご紹介など、内容盛り沢山の30分です♪ \n  \n●毎週日曜日：　14：30～ \n●パーソナリティ：　ちひろ、瀬川 嘉 \n  \n●ちひろDEブレイク：　Official Website・ブログ・みすゞ心のメッセージ \n●周波数一覧 -KRY山口放送-：　こちら（AM・FMで聴く） \n●パソコン・スマホでKRYラジオが聴ける：　radiko.jp \n  \n●ご意見・ご感想はこちら \nメール：break@kry.co.jp\nＦＡＸ：0834-32-9000\nハガキ：〒745-8686　山口放送「ちひろDEブレイク」係 \nメッセージフォームはこちらから
URL:https://chihirosound.com/event/16036
LOCATION:三重県
CATEGORIES:オススメ,ラジオ
END:VEVENT
BEGIN:VEVENT
DTSTART;TZID=Asia/Tokyo:20231022T133000
DTEND;TZID=Asia/Tokyo:20231022T160000
DTSTAMP:20260421T024509
CREATED:20230113T025106Z
LAST-MODIFIED:20231004T145131Z
UID:15405-1697981400-1697990400@chihirosound.com
SUMMARY:Concert〔山口県〕
DESCRIPTION:【Title】つなぐ　つながる　下関から未来へ　《詩人・金子みすゞ》生誕100年プロジェクト\nちひろミニコンサート\n●と　き：　10月22日（日） \n●ところ：　下関市役所エントランスホール（山口県下関市南部町1-1） \n※会場の地図はこちら \n●時　間：　9：00～（クイズラリー：無料） \n　　　　　 13：30～16：00（ステージイベント：無料） \n　　　　　◆ステージイベント 13：30～16：00 \n　　　　　・下関商業高等学校 吹奏楽部　演奏 \n　　　　　・養治小学校・文関小学校・名陵小学校による出演 \n　　　　　・スペシャルライブ　シンガーソングライター　ちひろ \n  \n●入　場：　無料 \n●お問合せ：　中東地区まちづくり協議会（電話・FAX／083-250-8380） \n●主　催：　中東地区まちづくり協議会 \n●共　催：　下関市、金子みすゞ・雅輔の会
URL:https://chihirosound.com/event/15405
LOCATION:下関市役所エントランスホール\, 山口県下関市南部町１−１\, 下関市\, 山口県\, 750-0006\, 日本
CATEGORIES:オススメ,コンサート
END:VEVENT
BEGIN:VEVENT
DTSTART;TZID=Asia/Tokyo:20231022T052500
DTEND;TZID=Asia/Tokyo:20231022T055500
DTSTAMP:20260421T024509
CREATED:20230424T044943Z
LAST-MODIFIED:20230921T053627Z
UID:16091-1697952300-1697954100@chihirosound.com
SUMMARY:全国放送Radio「みすゞさんと明るいほうへ」
DESCRIPTION:💐Radio・ちひろレギュラー全国放送番組💐\n金子みすゞの詩の朗読・みすゞヒストリー・放送各地のおススメの〇〇・リスナーメッセージ等 \nちひろがお届けする ❤ 30分番組です♪ \n  \n●番組名：　『みすゞさんと明るいほうへ』　　番組ホームページはこちら \n●パーソナリティ：　ちひろ \n  \n●レギュラー放送時間：　 \n☆毎週水曜日 11：00～／FM-NANAKO、FM AQUA、COME ON！FM、しゅうなんFM \n　　　　　　 11：30～／FMはつかいち　　13：00～／FMスマイルウエ～ブ \n☆毎週土曜日 朝9：00～／FMわっしょい \n★毎週日曜日 朝5：25～／全国放送（全国のコミュニティFM） \n☆毎週月曜日 20：00～／KOCOラジ＜郡山コミュニティ放送＞　　 \n　　　　　　 20：30～／ULTRA FM \n  \n●再放送：　FM-NANAKO／毎週土曜日 15：00～　　FM AQUA／毎週日曜日 11：00～ \n  \n●周波数：　JCBA（全国のコミュニティFM） \n●インターネットで聴く：　※全国どこでもインターネットでラジオが聴けるページです。 \n■JCBAインターネットサイマルラジオで聴く \n  \n中国地区の「COME ON! FM」  or  「しゅうなんFM」　の　「LISTEN♪」　をクリックしてください♪ \n■COME ON! FMをインターネットで聴く \n■FMはつかいちをインターネットで聴く \n■FMスマイルウエ～ブをインターネットで聴く \n■FMわっしょいをインターネットで聴く \n■ULTRA FMをインターネットで聴く \n  \n■サイマルラジオで聴く \n東北地区の「郡山コミュニティ放送」　の　「放送を聴く」　をクリックしてください♪ \n■KOCOラジ＜郡山コミュニティ放送＞をインターネットで聴く \n  \n●リクエスト＆メッセージ🎵：　番組フォーマット　or　misuzufm.0407@gmail.com \n 
URL:https://chihirosound.com/event/16091
LOCATION:三重県
CATEGORIES:オススメ,ラジオ
END:VEVENT
BEGIN:VEVENT
DTSTART;TZID=Asia/Tokyo:20231018T110000
DTEND;TZID=Asia/Tokyo:20231018T113000
DTSTAMP:20260421T024509
CREATED:20230424T061339Z
LAST-MODIFIED:20230921T054041Z
UID:16206-1697626800-1697628600@chihirosound.com
SUMMARY:Radio「みすゞさんと明るいほうへ」
DESCRIPTION:💐Radio・ちひろレギュラー全国放送番組💐\n金子みすゞの詩の朗読・みすゞヒストリー・放送各地のおススメの〇〇・リスナーメッセージ等 \nちひろがお届けする ❤ 30分番組です♪ \n  \n●番組名：　『みすゞさんと明るいほうへ』　　番組ホームページはこちら \n●パーソナリティ：　ちひろ \n  \n●レギュラー放送時間：　 \n☆毎週水曜日 11：00～／FM-NANAKO、FM AQUA、COME ON！FM、しゅうなんFM \n　　　　　　 11：30～／FMはつかいち　　13：00～／FMスマイルウエ～ブ \n☆毎週土曜日 朝9：00～／FMわっしょい \n★毎週日曜日 朝5：25～／全国放送（全国のコミュニティFM） \n☆毎週月曜日 20：00～／KOCOラジ＜郡山コミュニティ放送＞　　 \n　　　　　　 20：30～／ULTRA FM \n  \n●再放送：　FM-NANAKO／毎週土曜日 15：00～　　FM AQUA／毎週日曜日 11：00～ \n  \n●周波数：　JCBA（全国のコミュニティFM） \n●インターネットで聴く：　※全国どこでもインターネットでラジオが聴けるページです。 \n■JCBAインターネットサイマルラジオで聴く \n  \n中国地区の「COME ON! FM」  or  「しゅうなんFM」　の　「LISTEN♪」　をクリックしてください♪ \n■COME ON! FMをインターネットで聴く \n■FMはつかいちをインターネットで聴く \n■FMスマイルウエ～ブをインターネットで聴く \n■FMわっしょいをインターネットで聴く \n■ULTRA FMをインターネットで聴く \n  \n■サイマルラジオで聴く \n東北地区の「郡山コミュニティ放送」　の　「放送を聴く」　をクリックしてください♪ \n■KOCOラジ＜郡山コミュニティ放送＞をインターネットで聴く \n  \n●リクエスト＆メッセージ🎵：　番組フォーマット　or　misuzufm.0407@gmail.com \n 
URL:https://chihirosound.com/event/16206
LOCATION:三重県
CATEGORIES:オススメ,ラジオ
END:VEVENT
BEGIN:VEVENT
DTSTART;TZID=Asia/Tokyo:20231015T143000
DTEND;TZID=Asia/Tokyo:20231015T150000
DTSTAMP:20260421T024509
CREATED:20230424T041239Z
LAST-MODIFIED:20230424T041239Z
UID:16034-1697380200-1697382000@chihirosound.com
SUMMARY:KRYラジオ「ちひろDEブレイク」
DESCRIPTION:♠♣♥♦毎週日曜日放送のちひろレギュラー番組♠♣♥♦\nコンサート会場での裏話、ＣＤアルバム制作秘話、名言コーナー、金子みすゞの詩をご紹介など、内容盛り沢山の30分です♪ \n  \n●毎週日曜日：　14：30～ \n●パーソナリティ：　ちひろ、瀬川 嘉 \n  \n●ちひろDEブレイク：　Official Website・ブログ・みすゞ心のメッセージ \n●周波数一覧 -KRY山口放送-：　こちら（AM・FMで聴く） \n●パソコン・スマホでKRYラジオが聴ける：　radiko.jp \n  \n●ご意見・ご感想はこちら \nメール：break@kry.co.jp\nＦＡＸ：0834-32-9000\nハガキ：〒745-8686　山口放送「ちひろDEブレイク」係 \nメッセージフォームはこちらから
URL:https://chihirosound.com/event/16034
LOCATION:三重県
CATEGORIES:オススメ,ラジオ
END:VEVENT
BEGIN:VEVENT
DTSTART;TZID=Asia/Tokyo:20231015T052500
DTEND;TZID=Asia/Tokyo:20231015T055500
DTSTAMP:20260421T024509
CREATED:20230424T044852Z
LAST-MODIFIED:20230921T053520Z
UID:16089-1697347500-1697349300@chihirosound.com
SUMMARY:全国放送Radio「みすゞさんと明るいほうへ」
DESCRIPTION:💐Radio・ちひろレギュラー全国放送番組💐\n金子みすゞの詩の朗読・みすゞヒストリー・放送各地のおススメの〇〇・リスナーメッセージ等 \nちひろがお届けする ❤ 30分番組です♪ \n  \n●番組名：　『みすゞさんと明るいほうへ』　　番組ホームページはこちら \n●パーソナリティ：　ちひろ \n  \n●レギュラー放送時間：　 \n☆毎週水曜日 11：00～／FM-NANAKO、FM AQUA、COME ON！FM、しゅうなんFM \n　　　　　　 11：30～／FMはつかいち　　13：00～／FMスマイルウエ～ブ \n☆毎週土曜日 朝9：00～／FMわっしょい \n★毎週日曜日 朝5：25～／全国放送（全国のコミュニティFM） \n☆毎週月曜日 20：00～／KOCOラジ＜郡山コミュニティ放送＞　　 \n　　　　　　 20：30～／ULTRA FM \n  \n●再放送：　FM-NANAKO／毎週土曜日 15：00～　　FM AQUA／毎週日曜日 11：00～ \n  \n●周波数：　JCBA（全国のコミュニティFM） \n●インターネットで聴く：　※全国どこでもインターネットでラジオが聴けるページです。 \n■JCBAインターネットサイマルラジオで聴く \n  \n中国地区の「COME ON! FM」  or  「しゅうなんFM」　の　「LISTEN♪」　をクリックしてください♪ \n■COME ON! FMをインターネットで聴く \n■FMはつかいちをインターネットで聴く \n■FMスマイルウエ～ブをインターネットで聴く \n■FMわっしょいをインターネットで聴く \n■ULTRA FMをインターネットで聴く \n  \n■サイマルラジオで聴く \n東北地区の「郡山コミュニティ放送」　の　「放送を聴く」　をクリックしてください♪ \n■KOCOラジ＜郡山コミュニティ放送＞をインターネットで聴く \n  \n●リクエスト＆メッセージ🎵：　番組フォーマット　or　misuzufm.0407@gmail.com \n 
URL:https://chihirosound.com/event/16089
LOCATION:三重県
CATEGORIES:オススメ,ラジオ
END:VEVENT
BEGIN:VEVENT
DTSTART;TZID=Asia/Tokyo:20231014T133000
DTEND;TZID=Asia/Tokyo:20231014T151000
DTSTAMP:20260421T024509
CREATED:20230616T110708Z
LAST-MODIFIED:20230906T062034Z
UID:16714-1697290200-1697296200@chihirosound.com
SUMMARY:Concert〔山口県〕
DESCRIPTION:【Title】「令和５年度 周東学習講座 中央地区講座」\nちひろコンサート 「みんなちがって、みんないい生き方を ～金子みすゞの心とともに～」\n  \n●と　き：　10月14日（土） \n●ところ：　総合センター日向　多目的ホール（山口県岩国市周東町下久原1208番地1） \n※会場の地図はこちら \n●時　間：　13：30～15：10（開場／13：00～） \n●入　場：　無料　 \n  \n●お問合せ・お申込先：岩国市周東中央福祉会館（周東中央公民館 ） \n　　　　　　　　　　　電話／0827-84-7709 \n●主　催：　周東町人権学習推進委員会・周東中央福祉会館・周東中央公民館 \n●共　催：　青少年育成市民会議周東地区会議中央地区会議 \nPDFはこちら \n \n 
URL:https://chihirosound.com/event/16714
LOCATION:総合センター 日向（ひなた）\, 山口県岩国市周東町下久原１２０８−１\, 岩国市\, 山口県\, 742-0417\, 日本
CATEGORIES:オススメ,コンサート
ATTACH;FMTTYPE=image/jpeg:https://chihirosound.com/wp-content/uploads/2023/09/1a82414342b6c8f611e763bcf26c83ed-scaled.jpg
END:VEVENT
BEGIN:VEVENT
DTSTART;TZID=Asia/Tokyo:20231011T110000
DTEND;TZID=Asia/Tokyo:20231011T113000
DTSTAMP:20260421T024509
CREATED:20230424T061253Z
LAST-MODIFIED:20230921T053941Z
UID:16204-1697022000-1697023800@chihirosound.com
SUMMARY:Radio「みすゞさんと明るいほうへ」
DESCRIPTION:💐Radio・ちひろレギュラー全国放送番組💐\n金子みすゞの詩の朗読・みすゞヒストリー・放送各地のおススメの〇〇・リスナーメッセージ等 \nちひろがお届けする ❤ 30分番組です♪ \n  \n●番組名：　『みすゞさんと明るいほうへ』　　番組ホームページはこちら \n●パーソナリティ：　ちひろ \n  \n●レギュラー放送時間：　 \n☆毎週水曜日 11：00～／FM-NANAKO、FM AQUA、COME ON！FM、しゅうなんFM \n　　　　　　 11：30～／FMはつかいち　　13：00～／FMスマイルウエ～ブ \n☆毎週土曜日 朝9：00～／FMわっしょい \n★毎週日曜日 朝5：25～／全国放送（全国のコミュニティFM） \n☆毎週月曜日 20：00～／KOCOラジ＜郡山コミュニティ放送＞　　 \n　　　　　　 20：30～／ULTRA FM \n  \n●再放送：　FM-NANAKO／毎週土曜日 15：00～　　FM AQUA／毎週日曜日 11：00～ \n  \n●周波数：　JCBA（全国のコミュニティFM） \n●インターネットで聴く：　※全国どこでもインターネットでラジオが聴けるページです。 \n■JCBAインターネットサイマルラジオで聴く \n  \n中国地区の「COME ON! FM」  or  「しゅうなんFM」　の　「LISTEN♪」　をクリックしてください♪ \n■COME ON! FMをインターネットで聴く \n■FMはつかいちをインターネットで聴く \n■FMスマイルウエ～ブをインターネットで聴く \n■FMわっしょいをインターネットで聴く \n■ULTRA FMをインターネットで聴く \n  \n■サイマルラジオで聴く \n東北地区の「郡山コミュニティ放送」　の　「放送を聴く」　をクリックしてください♪ \n■KOCOラジ＜郡山コミュニティ放送＞をインターネットで聴く \n  \n●リクエスト＆メッセージ🎵：　番組フォーマット　or　misuzufm.0407@gmail.com \n 
URL:https://chihirosound.com/event/16204
LOCATION:三重県
CATEGORIES:オススメ,ラジオ
END:VEVENT
BEGIN:VEVENT
DTSTART;TZID=Asia/Tokyo:20231008T143000
DTEND;TZID=Asia/Tokyo:20231008T150000
DTSTAMP:20260421T024509
CREATED:20230424T041148Z
LAST-MODIFIED:20230424T041148Z
UID:16032-1696775400-1696777200@chihirosound.com
SUMMARY:KRYラジオ「ちひろDEブレイク」
DESCRIPTION:♠♣♥♦毎週日曜日放送のちひろレギュラー番組♠♣♥♦\nコンサート会場での裏話、ＣＤアルバム制作秘話、名言コーナー、金子みすゞの詩をご紹介など、内容盛り沢山の30分です♪ \n  \n●毎週日曜日：　14：30～ \n●パーソナリティ：　ちひろ、瀬川 嘉 \n  \n●ちひろDEブレイク：　Official Website・ブログ・みすゞ心のメッセージ \n●周波数一覧 -KRY山口放送-：　こちら（AM・FMで聴く） \n●パソコン・スマホでKRYラジオが聴ける：　radiko.jp \n  \n●ご意見・ご感想はこちら \nメール：break@kry.co.jp\nＦＡＸ：0834-32-9000\nハガキ：〒745-8686　山口放送「ちひろDEブレイク」係 \nメッセージフォームはこちらから
URL:https://chihirosound.com/event/16032
LOCATION:三重県
CATEGORIES:オススメ,ラジオ
END:VEVENT
BEGIN:VEVENT
DTSTART;TZID=Asia/Tokyo:20231008T052500
DTEND;TZID=Asia/Tokyo:20231008T055500
DTSTAMP:20260421T024509
CREATED:20230424T044741Z
LAST-MODIFIED:20230921T053327Z
UID:16087-1696742700-1696744500@chihirosound.com
SUMMARY:全国放送Radio「みすゞさんと明るいほうへ」
DESCRIPTION:💐Radio・ちひろレギュラー全国放送番組💐\n金子みすゞの詩の朗読・みすゞヒストリー・放送各地のおススメの〇〇・リスナーメッセージ等 \nちひろがお届けする ❤ 30分番組です♪ \n  \n●番組名：　『みすゞさんと明るいほうへ』　　番組ホームページはこちら \n●パーソナリティ：　ちひろ \n  \n●レギュラー放送時間：　 \n☆毎週水曜日 11：00～／FM-NANAKO、FM AQUA、COME ON！FM、しゅうなんFM \n　　　　　　 11：30～／FMはつかいち　　13：00～／FMスマイルウエ～ブ \n☆毎週土曜日 朝9：00～／FMわっしょい \n★毎週日曜日 朝5：25～／全国放送（全国のコミュニティFM） \n☆毎週月曜日 20：00～／KOCOラジ＜郡山コミュニティ放送＞　　 \n　　　　　　 20：30～／ULTRA FM \n  \n●再放送：　FM-NANAKO／毎週土曜日 15：00～　　FM AQUA／毎週日曜日 11：00～ \n  \n●周波数：　JCBA（全国のコミュニティFM） \n●インターネットで聴く：　※全国どこでもインターネットでラジオが聴けるページです。 \n■JCBAインターネットサイマルラジオで聴く \n  \n中国地区の「COME ON! FM」  or  「しゅうなんFM」　の　「LISTEN♪」　をクリックしてください♪ \n■COME ON! FMをインターネットで聴く \n■FMはつかいちをインターネットで聴く \n■FMスマイルウエ～ブをインターネットで聴く \n■FMわっしょいをインターネットで聴く \n■ULTRA FMをインターネットで聴く \n  \n■サイマルラジオで聴く \n東北地区の「郡山コミュニティ放送」　の　「放送を聴く」　をクリックしてください♪ \n■KOCOラジ＜郡山コミュニティ放送＞をインターネットで聴く \n  \n●リクエスト＆メッセージ🎵：　番組フォーマット　or　misuzufm.0407@gmail.com \n 
URL:https://chihirosound.com/event/16087
LOCATION:三重県
CATEGORIES:オススメ,ラジオ
END:VEVENT
BEGIN:VEVENT
DTSTART;TZID=Asia/Tokyo:20231006T170500
DTEND;TZID=Asia/Tokyo:20231006T175500
DTSTAMP:20260421T024509
CREATED:20230616T104903Z
LAST-MODIFIED:20231003T160433Z
UID:16704-1696611900-1696614900@chihirosound.com
SUMMARY:NHK「ラジオYAMAGUTIC」
DESCRIPTION:【Title】NHK「中国！ちゅーもく！ラジオYAMAGUTIC」”魅力再発見！山口の地酒”\n  \n●と　き：　10月6日（金） \n●時　間：　17：05～17：55 \n●ラジオ局：　NHKラジオ第1 \n●番　組：　中国！ちゅーもく！ラジオYAMAGUTIC \n  \n●メールやご意見募集：　こちら \n●放送受信エリア：　中国地方5県（山口県、広島県、岡山県、島根県、鳥取県） \n  \n●インターネットラジオ：　全国でお聴きいただけます！　　らじる★らじる \nパソコン・スマートフォン・タブレットなどで、全国どこでもお聴きいただけるサービスです。 \n  \n【聴取方法】＜スマートフォン・タブレットの場合は、まずアプリ（無料）をダウンロードしてください＞ \n■らじる★らじる にアクセス　→　ラジオ第1（R1） をクリック　→　放送局を選択　→　広島 \n※詳しくはこちら \n  \n●出　演：　NHK 長野 亮アナウンサー、ちひろ　
URL:https://chihirosound.com/event/16704
LOCATION:三重県
CATEGORIES:NHK,オススメ
ORGANIZER;CN="NHK%E5%B1%B1%E5%8F%A3%E6%94%BE%E9%80%81%E5%B1%80":MAILTO:https://www.nhk.or.jp/yamaguchi/contact/form.html
END:VEVENT
BEGIN:VEVENT
DTSTART;TZID=Asia/Tokyo:20231004T110000
DTEND;TZID=Asia/Tokyo:20231004T113000
DTSTAMP:20260421T024509
CREATED:20230424T061204Z
LAST-MODIFIED:20230921T051421Z
UID:16202-1696417200-1696419000@chihirosound.com
SUMMARY:Radio「みすゞさんと明るいほうへ」
DESCRIPTION:💐Radio・ちひろレギュラー全国放送番組💐\n金子みすゞの詩の朗読・みすゞヒストリー・放送各地のおススメの〇〇・リスナーメッセージ等 \nちひろがお届けする ❤ 30分番組です♪ \n  \n●番組名：　『みすゞさんと明るいほうへ』　　番組ホームページはこちら \n●パーソナリティ：　ちひろ \n  \n●レギュラー放送時間：　 \n☆毎週水曜日 11：00～／FM-NANAKO、FM AQUA、COME ON！FM、しゅうなんFM \n　　　　　　 11：30～／FMはつかいち　　13：00～／FMスマイルウエ～ブ \n☆毎週土曜日 朝9：00～／FMわっしょい \n★毎週日曜日 朝5：25～／全国放送（全国のコミュニティFM） \n☆毎週月曜日 20：00～／KOCOラジ＜郡山コミュニティ放送＞　　 \n　　　　　　 20：30～／ULTRA FM \n  \n●再放送：　FM-NANAKO／毎週土曜日 15：00～　　FM AQUA／毎週日曜日 11：00～ \n  \n●周波数：　JCBA（全国のコミュニティFM） \n●インターネットで聴く：　※全国どこでもインターネットでラジオが聴けるページです。 \n■JCBAインターネットサイマルラジオで聴く \n  \n中国地区の「COME ON! FM」  or  「しゅうなんFM」　の　「LISTEN♪」　をクリックしてください♪ \n■COME ON! FMをインターネットで聴く \n■FMはつかいちをインターネットで聴く \n■FMスマイルウエ～ブをインターネットで聴く \n■FMわっしょいをインターネットで聴く \n■ULTRA FMをインターネットで聴く \n  \n■サイマルラジオで聴く \n東北地区の「郡山コミュニティ放送」　の　「放送を聴く」　をクリックしてください♪ \n■KOCOラジ＜郡山コミュニティ放送＞をインターネットで聴く \n  \n●リクエスト＆メッセージ🎵：　番組フォーマット　or　misuzufm.0407@gmail.com \n 
URL:https://chihirosound.com/event/16202
LOCATION:三重県
CATEGORIES:オススメ,ラジオ
END:VEVENT
BEGIN:VEVENT
DTSTART;TZID=Asia/Tokyo:20231001T143000
DTEND;TZID=Asia/Tokyo:20231001T150000
DTSTAMP:20260421T024509
CREATED:20230424T041059Z
LAST-MODIFIED:20230424T041059Z
UID:16030-1696170600-1696172400@chihirosound.com
SUMMARY:KRYラジオ「ちひろDEブレイク」
DESCRIPTION:♠♣♥♦毎週日曜日放送のちひろレギュラー番組♠♣♥♦\nコンサート会場での裏話、ＣＤアルバム制作秘話、名言コーナー、金子みすゞの詩をご紹介など、内容盛り沢山の30分です♪ \n  \n●毎週日曜日：　14：30～ \n●パーソナリティ：　ちひろ、瀬川 嘉 \n  \n●ちひろDEブレイク：　Official Website・ブログ・みすゞ心のメッセージ \n●周波数一覧 -KRY山口放送-：　こちら（AM・FMで聴く） \n●パソコン・スマホでKRYラジオが聴ける：　radiko.jp \n  \n●ご意見・ご感想はこちら \nメール：break@kry.co.jp\nＦＡＸ：0834-32-9000\nハガキ：〒745-8686　山口放送「ちひろDEブレイク」係 \nメッセージフォームはこちらから
URL:https://chihirosound.com/event/16030
LOCATION:三重県
CATEGORIES:オススメ,ラジオ
END:VEVENT
END:VCALENDAR