BEGIN:VCALENDAR
VERSION:2.0
PRODID:-//ちひろ Official Website ～金子みすゞの心を歌う～  CHIHIRO Official Website - MISUZU KANEKO- - ECPv6.15.11//NONSGML v1.0//EN
CALSCALE:GREGORIAN
METHOD:PUBLISH
X-WR-CALNAME:ちひろ Official Website ～金子みすゞの心を歌う～  CHIHIRO Official Website - MISUZU KANEKO-
X-ORIGINAL-URL:https://chihirosound.com
X-WR-CALDESC:ちひろ Official Website ～金子みすゞの心を歌う～  CHIHIRO Official Website - MISUZU KANEKO- のイベント
REFRESH-INTERVAL;VALUE=DURATION:PT1H
X-Robots-Tag:noindex
X-PUBLISHED-TTL:PT1H
BEGIN:VTIMEZONE
TZID:Asia/Tokyo
BEGIN:STANDARD
TZOFFSETFROM:+0900
TZOFFSETTO:+0900
TZNAME:JST
DTSTART:20200101T000000
END:STANDARD
END:VTIMEZONE
BEGIN:VEVENT
DTSTART;TZID=Asia/Tokyo:20211130T190000
DTEND;TZID=Asia/Tokyo:20211130T200000
DTSTAMP:20260424T214608
CREATED:20211103T144805Z
LAST-MODIFIED:20211103T144805Z
UID:11580-1638298800-1638302400@chihirosound.com
SUMMARY:Radio〔山口県〕
DESCRIPTION:11月「湯田温泉にKON来ん？」がマンスリープッシュソングに♪\n  \n●と　き：　11月の毎週火曜日 \n●時　間：　夜7：00～ \n●ラジオ局：　FMわっしょい（防府市） \n  \n●番　組：　『火曜夜だよわっしょいしょい』のオープニングとエンディング \n●パーソナリティ：　松田 民三 さん \n  \n●周波数：　FMわっしょい／77.3MHz \n●放送エリア：　防府市を中心としたエリア、周辺受信エリア \n  \n●リクエスト＆メッセージ🎵：　こちら \n 
URL:https://chihirosound.com/event/11580
LOCATION:三重県
CATEGORIES:オススメ,ラジオ
ATTACH;FMTTYPE=image/jpeg:https://chihirosound.com/wp-content/uploads/2021/11/35c40a2b0f336e7769e0a5f96957e09b.jpg
END:VEVENT
BEGIN:VEVENT
DTSTART;TZID=Asia/Tokyo:20211128T140000
DTEND;TZID=Asia/Tokyo:20211128T143000
DTSTAMP:20260424T214608
CREATED:20210901T143439Z
LAST-MODIFIED:20210901T143439Z
UID:11032-1638108000-1638109800@chihirosound.com
SUMMARY:KRYラジオ「ちひろDEブレイク」
DESCRIPTION:♠♣♥♦毎週日曜日放送のちひろレギュラー番組♠♣♥♦\nコンサート会場での裏話、ＣＤアルバム制作秘話、名言コーナー、金子みすゞの詩をご紹介など、内容盛り沢山の30分です♪ \n  \n●毎週日曜日：　午後2：00～ \n●パーソナリティ：　ちひろ、瀬川嘉 \n  \n●ちひろDEブレイク：　Official Website・ブログ・みすゞ心のメッセージ \n●周波数一覧 -KRY山口放送-：　こちら（AM・FMで聴く） \n●パソコン・スマホでKRYラジオが聴ける：　radiko.jp \n  \n●ご意見・ご感想はこちら \nメール：break@kry.co.jp\nＦＡＸ：0834-32-9000\nハガキ：〒745-8686　山口放送「ちひろDEブレイク」係 \nメッセージフォームはこちらから
URL:https://chihirosound.com/event/11032
LOCATION:三重県
CATEGORIES:オススメ,ラジオ
END:VEVENT
BEGIN:VEVENT
DTSTART;TZID=Asia/Tokyo:20211127T090000
DTEND;TZID=Asia/Tokyo:20211127T093000
DTSTAMP:20260424T214608
CREATED:20210923T151540Z
LAST-MODIFIED:20210923T151540Z
UID:11300-1638003600-1638005400@chihirosound.com
SUMMARY:FMわっしょい〔山口県〕
DESCRIPTION:💐６局Radio放送 ちひろレギュラー番組「みすゞさんと明るいほうへ」💐\n金子みすゞの詩の朗読・ご紹介など、みすゞさんについてたっぷりお届け ❤ 30分番組です♪ \n※毎週水曜日に５局で放送している番組を ”毎週土曜日にFMわっしょい” でも放送！ \n  \n●と　き：　毎週土曜日 \n●時　間：　午前9：00～ \n●ラジオ局：　FMわっしょい（防府市） \n  \n●番　組：　『みすゞさんと明るいほうへ』　　 \n●パーソナリティ：　ちひろ \n  \n●周波数：　FMわっしょい／77.3MHz \n●放送エリア：　防府市を中心としたエリア、周辺受信エリア \n  \n●リクエスト＆メッセージ🎵：　misuzufm.0407@gmail.com \n●レギュラー放送：　 \n・毎週水曜日 午前11：00～ ／ FM-NANAKO（萩市）、FM AQUA（長門市）、COME！ON FM（下関市）、FMスマイルウエ～ブ（山陽小野田市）、しゅうんなんFM（周南・下松エリア）　　　　 \n・毎週土曜日 午前9：00～ ／ FMわっしょい（防府市）
URL:https://chihirosound.com/event/11300
LOCATION:三重県
CATEGORIES:オススメ,ラジオ
END:VEVENT
BEGIN:VEVENT
DTSTART;TZID=Asia/Tokyo:20211124T110000
DTEND;TZID=Asia/Tokyo:20211124T113000
DTSTAMP:20260424T214608
CREATED:20210901T151603Z
LAST-MODIFIED:20210923T090856Z
UID:11056-1637751600-1637753400@chihirosound.com
SUMMARY:６局Radio「みすゞさんと明るいほうへ」
DESCRIPTION:💐６局Radio放送・毎週水曜日放送のちひろレギュラー番組💐\n金子みすゞの詩の朗読・ご紹介など、みすゞさんについてたっぷりお届け ❤ 30分番組です♪ \n  \n●と　き：　毎週水曜日 \n●時　間：　午前11：00～ \n●ラジオ局：　６局放送（※FMわっしょいのみ毎週土曜日 午前9：00～）　 \n  \n□FM-NANAKO（萩市） \n□FM AQUA（長門市） \n□COME ON ! FM（下関市内及び山陽小野田市、北九州市門司区・小倉北区の各一部） \n□しゅうなんFM（周南市・下松市、光市の一部） \n□FMスマイルウエ～ブ（山陽小野田市、宇部市・美祢市・下関市の一部地域） \n□FMわっしょい（防府市） ※毎週土曜日 午前9：00～ \n  \n●番組詳細：　『みすゞさんと明るいほうへ』（FM-NANAKO） \n●パーソナリティ：　ちひろ \n  \n●周波数：　 \nFM-NANAKO／77.5MHz　　FM AQUA／87.8MHz　　COME ON！FM／76.4MHz \nしゅうなんFM／78.4MH　　FMスマイルウエ～ブ／89.7MHz　　FMわっしょい／77.3MHz \n  \n●インターネットで聴く：　※全国どこでもインターネットでラジオが聴けるページです。 \n  \n■サイマルラジオで聴く \n中国地区の「COME ON! FM」  or  「しゅうなんFM」　の　「LISTEN♪」　をクリックしてください♪ \n■COME ON! FMををインターネットで聴く \n■FMスマイルウエ～ブをインターネットで聴く \n■FMわっしょいをインターネットで聴く（土曜日 午前9:00～） \n  \n●リクエスト＆メッセージ🎵：　misuzufm.0407@gmail.com \nもしくは　FM-NANAKO／775@haginet.ne.jp　　FM AQUA／878@fmaqua.jp　　COME ON！FM／こちらから　　 \nしゅうなんFM／studio@fms784.co.jp　　　FMスマイルウエ～ブ／こちらから　　　FMわっしょい／こちらから \n  \n●再放送：　FM-NANAKO（萩市）／毎週土曜日 午後3：00～　　FM AQUA（長門市）／毎週日曜日午前11：00～
URL:https://chihirosound.com/event/11056
LOCATION:三重県
CATEGORIES:オススメ,ラジオ
END:VEVENT
BEGIN:VEVENT
DTSTART;TZID=Asia/Tokyo:20211123T190000
DTEND;TZID=Asia/Tokyo:20211123T200000
DTSTAMP:20260424T214608
CREATED:20211103T144438Z
LAST-MODIFIED:20211103T144559Z
UID:11573-1637694000-1637697600@chihirosound.com
SUMMARY:Radio〔山口県〕
DESCRIPTION:11月「湯田温泉にKON来ん？」がマンスリープッシュソングに♪\n  \n●と　き：　11月の毎週火曜日 \n●時　間：　夜7：00～ \n●ラジオ局：　FMわっしょい（防府市） \n  \n●番　組：　『火曜夜だよわっしょいしょい』のオープニングとエンディング \n●パーソナリティ：　松田 民三 さん \n  \n●周波数：　FMわっしょい／77.3MHz \n●放送エリア：　防府市を中心としたエリア、周辺受信エリア \n  \n●リクエスト＆メッセージ🎵：　こちら \n 
URL:https://chihirosound.com/event/11573
LOCATION:三重県
CATEGORIES:オススメ,ラジオ
ATTACH;FMTTYPE=image/jpeg:https://chihirosound.com/wp-content/uploads/2021/11/35c40a2b0f336e7769e0a5f96957e09b.jpg
END:VEVENT
BEGIN:VEVENT
DTSTART;TZID=Asia/Tokyo:20211121T140000
DTEND;TZID=Asia/Tokyo:20211121T143000
DTSTAMP:20260424T214608
CREATED:20210901T143311Z
LAST-MODIFIED:20210901T143515Z
UID:11030-1637503200-1637505000@chihirosound.com
SUMMARY:KRYラジオ「ちひろDEブレイク」
DESCRIPTION:♠♣♥♦毎週日曜日放送のちひろレギュラー番組♠♣♥♦\nコンサート会場での裏話、ＣＤアルバム制作秘話、名言コーナー、金子みすゞの詩をご紹介など、内容盛り沢山の30分です♪ \n  \n●毎週日曜日：　午後2：00～ \n●パーソナリティ：　ちひろ、瀬川嘉 \n  \n●ちひろDEブレイク：　Official Website・ブログ・みすゞ心のメッセージ \n●周波数一覧 -KRY山口放送-：　こちら（AM・FMで聴く） \n●パソコン・スマホでKRYラジオが聴ける：　radiko.jp \n  \n●ご意見・ご感想はこちら \nメール：break@kry.co.jp\nＦＡＸ：0834-32-9000\nハガキ：〒745-8686　山口放送「ちひろDEブレイク」係 \nメッセージフォームはこちらから
URL:https://chihirosound.com/event/11030
LOCATION:三重県
CATEGORIES:オススメ,ラジオ
END:VEVENT
BEGIN:VEVENT
DTSTART;TZID=Asia/Tokyo:20211120T090000
DTEND;TZID=Asia/Tokyo:20211120T093000
DTSTAMP:20260424T214608
CREATED:20210923T151455Z
LAST-MODIFIED:20210923T151455Z
UID:11298-1637398800-1637400600@chihirosound.com
SUMMARY:FMわっしょい〔山口県〕
DESCRIPTION:💐６局Radio放送 ちひろレギュラー番組「みすゞさんと明るいほうへ」💐\n金子みすゞの詩の朗読・ご紹介など、みすゞさんについてたっぷりお届け ❤ 30分番組です♪ \n※毎週水曜日に５局で放送している番組を ”毎週土曜日にFMわっしょい” でも放送！ \n  \n●と　き：　毎週土曜日 \n●時　間：　午前9：00～ \n●ラジオ局：　FMわっしょい（防府市） \n  \n●番　組：　『みすゞさんと明るいほうへ』　　 \n●パーソナリティ：　ちひろ \n  \n●周波数：　FMわっしょい／77.3MHz \n●放送エリア：　防府市を中心としたエリア、周辺受信エリア \n  \n●リクエスト＆メッセージ🎵：　misuzufm.0407@gmail.com \n●レギュラー放送：　 \n・毎週水曜日 午前11：00～ ／ FM-NANAKO（萩市）、FM AQUA（長門市）、COME！ON FM（下関市）、FMスマイルウエ～ブ（山陽小野田市）、しゅうんなんFM（周南・下松エリア）　　　　 \n・毎週土曜日 午前9：00～ ／ FMわっしょい（防府市）
URL:https://chihirosound.com/event/11298
LOCATION:三重県
CATEGORIES:オススメ,ラジオ
END:VEVENT
BEGIN:VEVENT
DTSTART;TZID=Asia/Tokyo:20211117T110000
DTEND;TZID=Asia/Tokyo:20211117T113000
DTSTAMP:20260424T214608
CREATED:20210901T151345Z
LAST-MODIFIED:20210923T090923Z
UID:11052-1637146800-1637148600@chihirosound.com
SUMMARY:６局Radio「みすゞさんと明るいほうへ」
DESCRIPTION:💐６局Radio放送・毎週水曜日放送のちひろレギュラー番組💐\n金子みすゞの詩の朗読・ご紹介など、みすゞさんについてたっぷりお届け ❤ 30分番組です♪ \n  \n●と　き：　毎週水曜日 \n●時　間：　午前11：00～ \n●ラジオ局：　６局放送（※FMわっしょいのみ毎週土曜日 午前9：00～）　 \n  \n□FM-NANAKO（萩市） \n□FM AQUA（長門市） \n□COME ON ! FM（下関市内及び山陽小野田市、北九州市門司区・小倉北区の各一部） \n□しゅうなんFM（周南市・下松市、光市の一部） \n□FMスマイルウエ～ブ（山陽小野田市、宇部市・美祢市・下関市の一部地域） \n□FMわっしょい（防府市） ※毎週土曜日 午前9：00～ \n  \n●番組詳細：　『みすゞさんと明るいほうへ』（FM-NANAKO） \n●パーソナリティ：　ちひろ \n  \n●周波数：　 \nFM-NANAKO／77.5MHz　　FM AQUA／87.8MHz　　COME ON！FM／76.4MHz \nしゅうなんFM／78.4MH　　FMスマイルウエ～ブ／89.7MHz　　FMわっしょい／77.3MHz \n  \n●インターネットで聴く：　※全国どこでもインターネットでラジオが聴けるページです。 \n  \n■サイマルラジオで聴く \n中国地区の「COME ON! FM」  or  「しゅうなんFM」　の　「LISTEN♪」　をクリックしてください♪ \n■COME ON! FMををインターネットで聴く \n■FMスマイルウエ～ブをインターネットで聴く \n■FMわっしょいをインターネットで聴く（土曜日 午前9:00～） \n  \n●リクエスト＆メッセージ🎵：　misuzufm.0407@gmail.com \nもしくは　FM-NANAKO／775@haginet.ne.jp　　FM AQUA／878@fmaqua.jp　　COME ON！FM／こちらから　　 \nしゅうなんFM／studio@fms784.co.jp　　　FMスマイルウエ～ブ／こちらから　　　FMわっしょい／こちらから \n  \n●再放送：　FM-NANAKO（萩市）／毎週土曜日 午後3：00～　　FM AQUA（長門市）／毎週日曜日午前11：00～
URL:https://chihirosound.com/event/11052
LOCATION:三重県
CATEGORIES:オススメ,ラジオ
END:VEVENT
BEGIN:VEVENT
DTSTART;TZID=Asia/Tokyo:20211116T190000
DTEND;TZID=Asia/Tokyo:20211116T200000
DTSTAMP:20260424T214608
CREATED:20211103T144323Z
LAST-MODIFIED:20211103T144625Z
UID:11571-1637089200-1637092800@chihirosound.com
SUMMARY:Radio〔山口県〕
DESCRIPTION:11月「湯田温泉にKON来ん？」がマンスリープッシュソングに♪\n  \n●と　き：　11月の毎週火曜日 \n●時　間：　夜7：00～ \n●ラジオ局：　FMわっしょい（防府市） \n  \n●番　組：　『火曜夜だよわっしょいしょい』のオープニングとエンディング \n●パーソナリティ：　松田 民三 さん \n  \n●周波数：　FMわっしょい／77.3MHz \n●放送エリア：　防府市を中心としたエリア、周辺受信エリア \n  \n●リクエスト＆メッセージ🎵：　こちら \n 
URL:https://chihirosound.com/event/11571
LOCATION:三重県
CATEGORIES:オススメ,ラジオ
ATTACH;FMTTYPE=image/jpeg:https://chihirosound.com/wp-content/uploads/2021/11/35c40a2b0f336e7769e0a5f96957e09b.jpg
END:VEVENT
BEGIN:VEVENT
DTSTART;TZID=Asia/Tokyo:20211115T151000
DTEND;TZID=Asia/Tokyo:20211115T155600
DTSTAMP:20260424T214608
CREATED:20211021T151616Z
LAST-MODIFIED:20211021T151616Z
UID:11465-1636989000-1636991760@chihirosound.com
SUMMARY:Radio〔山口県〕
DESCRIPTION:【Title】FM-NANAKO ＜エフエム萩＞ に ちひろ & 西川 満希子 スタジオゲスト出演！\n●と　き：　11月15日（月） \n●時　間：　ラジオ／午後3：10頃～3：56　　 \n  \n●ラジオ局：　FM-NANAKO \n●番　組：　『エフエム萩　アフタヌーン775』 \n●パーソナリティ：　下田 洋香（しもだひろか）　さん \n  \n●周波数：　77.5 MHz \n●放送エリア：　山口県萩市一円　※詳しくはこちら \n  \n●リクエスト＆メッセージ：　 \n★★★ゲストの方への質問、メッセージもお待ちしております♪★★★\nFacebook：エフエム萩\ntwitter：@FMnanako\nMail： 775@haginet.ne.jp
URL:https://chihirosound.com/event/11465
LOCATION:三重県
CATEGORIES:オススメ,ラジオ
ORGANIZER;CN="FM-NANAKO":MAILTO:775@haginet.ne.jp
END:VEVENT
BEGIN:VEVENT
DTSTART;TZID=Asia/Tokyo:20211114T140000
DTEND;TZID=Asia/Tokyo:20211114T143000
DTSTAMP:20260424T214608
CREATED:20210901T143210Z
LAST-MODIFIED:20210901T143210Z
UID:11028-1636898400-1636900200@chihirosound.com
SUMMARY:KRYラジオ「ちひろDEブレイク」
DESCRIPTION:♠♣♥♦毎週日曜日放送のちひろレギュラー番組♠♣♥♦\nコンサート会場での裏話、ＣＤアルバム制作秘話、名言コーナー、金子みすゞの詩をご紹介など、内容盛り沢山の30分です♪ \n  \n●毎週日曜日：　午後2：00～ \n●パーソナリティ：　ちひろ、瀬川嘉 \n  \n●ちひろDEブレイク：　Official Website・ブログ・みすゞ心のメッセージ \n●周波数一覧 -KRY山口放送-：　こちら（AM・FMで聴く） \n●パソコン・スマホでKRYラジオが聴ける：　radiko.jp \n  \n●ご意見・ご感想はこちら \nメール：break@kry.co.jp\nＦＡＸ：0834-32-9000\nハガキ：〒745-8686　山口放送「ちひろDEブレイク」係 \nメッセージフォームはこちらから
URL:https://chihirosound.com/event/11028
LOCATION:三重県
CATEGORIES:オススメ,ラジオ
END:VEVENT
BEGIN:VEVENT
DTSTART;TZID=Asia/Tokyo:20211113T090000
DTEND;TZID=Asia/Tokyo:20211113T093000
DTSTAMP:20260424T214608
CREATED:20210923T151409Z
LAST-MODIFIED:20210923T151409Z
UID:11296-1636794000-1636795800@chihirosound.com
SUMMARY:FMわっしょい〔山口県〕
DESCRIPTION:💐６局Radio放送 ちひろレギュラー番組「みすゞさんと明るいほうへ」💐\n金子みすゞの詩の朗読・ご紹介など、みすゞさんについてたっぷりお届け ❤ 30分番組です♪ \n※毎週水曜日に５局で放送している番組を ”毎週土曜日にFMわっしょい” でも放送！ \n  \n●と　き：　毎週土曜日 \n●時　間：　午前9：00～ \n●ラジオ局：　FMわっしょい（防府市） \n  \n●番　組：　『みすゞさんと明るいほうへ』　　 \n●パーソナリティ：　ちひろ \n  \n●周波数：　FMわっしょい／77.3MHz \n●放送エリア：　防府市を中心としたエリア、周辺受信エリア \n  \n●リクエスト＆メッセージ🎵：　misuzufm.0407@gmail.com \n●レギュラー放送：　 \n・毎週水曜日 午前11：00～ ／ FM-NANAKO（萩市）、FM AQUA（長門市）、COME！ON FM（下関市）、FMスマイルウエ～ブ（山陽小野田市）、しゅうんなんFM（周南・下松エリア）　　　　 \n・毎週土曜日 午前9：00～ ／ FMわっしょい（防府市）
URL:https://chihirosound.com/event/11296
LOCATION:三重県
CATEGORIES:オススメ,ラジオ
END:VEVENT
BEGIN:VEVENT
DTSTART;TZID=Asia/Tokyo:20211112T151000
DTEND;TZID=Asia/Tokyo:20211112T154500
DTSTAMP:20260424T214608
CREATED:20211105T051144Z
LAST-MODIFIED:20211110T053732Z
UID:11583-1636729800-1636731900@chihirosound.com
SUMMARY:Radio〔東京都〕
DESCRIPTION:【Title】TOKYO854 くるめラ（東京都東久留米市・小平市・清瀬市） に 電話ゲスト出演！\n  \n●と　き：　11月12日（金） \n●時　間：　午後3：10頃～3：45頃 \n●ラジオ局：　TOKYO854 くるめラ \n●番　組：　『アガる昼下がり！〜午後の玉手箱〜』 \n●パーソナリティ：　宮田 雄次 さん \n  \n●周波数：　85.4 MHz \n●放送エリア：　東久留米市の一部、小平市、清瀬市、周辺受信エリア \n●インターネットで聴く：　※全国どこでもインターネットでラジオが聴けるページです。 \n■スマホやパソコンで聴く♪ \n●リクエスト＆メッセージ：　こちらから
URL:https://chihirosound.com/event/11583
LOCATION:三重県
CATEGORIES:オススメ,ラジオ
ORGANIZER;CN="TOKYO854 %E3%81%8F%E3%82%8B%E3%82%81%E3%83%A9":MAILTO:854@tokyo854.com
END:VEVENT
BEGIN:VEVENT
DTSTART;TZID=Asia/Tokyo:20211110T110000
DTEND;TZID=Asia/Tokyo:20211110T113000
DTSTAMP:20260424T214608
CREATED:20210901T151442Z
LAST-MODIFIED:20210923T091020Z
UID:11054-1636542000-1636543800@chihirosound.com
SUMMARY:６局Radio「みすゞさんと明るいほうへ」
DESCRIPTION:💐６局Radio放送・毎週水曜日放送のちひろレギュラー番組💐\n金子みすゞの詩の朗読・ご紹介など、みすゞさんについてたっぷりお届け ❤ 30分番組です♪ \n  \n●と　き：　毎週水曜日 \n●時　間：　午前11：00～ \n●ラジオ局：　６局放送（※FMわっしょいのみ毎週土曜日 午前9：00～）　 \n  \n□FM-NANAKO（萩市） \n□FM AQUA（長門市） \n□COME ON ! FM（下関市内及び山陽小野田市、北九州市門司区・小倉北区の各一部） \n□しゅうなんFM（周南市・下松市、光市の一部） \n□FMスマイルウエ～ブ（山陽小野田市、宇部市・美祢市・下関市の一部地域） \n□FMわっしょい（防府市） ※毎週土曜日 午前9：00～ \n  \n●番組詳細：　『みすゞさんと明るいほうへ』（FM-NANAKO） \n●パーソナリティ：　ちひろ \n  \n●周波数：　 \nFM-NANAKO／77.5MHz　　FM AQUA／87.8MHz　　COME ON！FM／76.4MHz \nしゅうなんFM／78.4MH　　FMスマイルウエ～ブ／89.7MHz　　FMわっしょい／77.3MHz \n  \n●インターネットで聴く：　※全国どこでもインターネットでラジオが聴けるページです。 \n  \n■サイマルラジオで聴く \n中国地区の「COME ON! FM」  or  「しゅうなんFM」　の　「LISTEN♪」　をクリックしてください♪ \n■COME ON! FMををインターネットで聴く \n■FMスマイルウエ～ブをインターネットで聴く \n■FMわっしょいをインターネットで聴く（土曜日 午前9:00～） \n  \n●リクエスト＆メッセージ🎵：　misuzufm.0407@gmail.com \nもしくは　FM-NANAKO／775@haginet.ne.jp　　FM AQUA／878@fmaqua.jp　　COME ON！FM／こちらから　　 \nしゅうなんFM／studio@fms784.co.jp　　　FMスマイルウエ～ブ／こちらから　　　FMわっしょい／こちらから \n  \n●再放送：　FM-NANAKO（萩市）／毎週土曜日 午後3：00～　　FM AQUA（長門市）／毎週日曜日午前11：00～
URL:https://chihirosound.com/event/11054
LOCATION:三重県
CATEGORIES:オススメ,ラジオ
END:VEVENT
BEGIN:VEVENT
DTSTART;TZID=Asia/Tokyo:20211109T190000
DTEND;TZID=Asia/Tokyo:20211109T200000
DTSTAMP:20260424T214608
CREATED:20211103T144234Z
LAST-MODIFIED:20211103T144716Z
UID:11569-1636484400-1636488000@chihirosound.com
SUMMARY:Radio〔山口県〕
DESCRIPTION:11月「湯田温泉にKON来ん？」がマンスリープッシュソングに♪\n  \n●と　き：　11月の毎週火曜日 \n●時　間：　夜7：00～ \n●ラジオ局：　FMわっしょい（防府市） \n  \n●番　組：　『火曜夜だよわっしょいしょい』のオープニングとエンディング \n●パーソナリティ：　松田 民三 さん \n  \n●周波数：　FMわっしょい／77.3MHz \n●放送エリア：　防府市を中心としたエリア、周辺受信エリア \n  \n●リクエスト＆メッセージ🎵：　こちら \n 
URL:https://chihirosound.com/event/11569
LOCATION:三重県
CATEGORIES:オススメ,ラジオ
ATTACH;FMTTYPE=image/jpeg:https://chihirosound.com/wp-content/uploads/2021/11/35c40a2b0f336e7769e0a5f96957e09b.jpg
END:VEVENT
BEGIN:VEVENT
DTSTART;TZID=Asia/Tokyo:20211107T140000
DTEND;TZID=Asia/Tokyo:20211107T143000
DTSTAMP:20260424T214608
CREATED:20210901T143102Z
LAST-MODIFIED:20210901T143102Z
UID:11026-1636293600-1636295400@chihirosound.com
SUMMARY:KRYラジオ「ちひろDEブレイク」
DESCRIPTION:♠♣♥♦毎週日曜日放送のちひろレギュラー番組♠♣♥♦\nコンサート会場での裏話、ＣＤアルバム制作秘話、名言コーナー、金子みすゞの詩をご紹介など、内容盛り沢山の30分です♪ \n  \n●毎週日曜日：　午後2：00～ \n●パーソナリティ：　ちひろ、瀬川嘉 \n  \n●ちひろDEブレイク：　Official Website・ブログ・みすゞ心のメッセージ \n●周波数一覧 -KRY山口放送-：　こちら（AM・FMで聴く） \n●パソコン・スマホでKRYラジオが聴ける：　radiko.jp \n  \n●ご意見・ご感想はこちら \nメール：break@kry.co.jp\nＦＡＸ：0834-32-9000\nハガキ：〒745-8686　山口放送「ちひろDEブレイク」係 \nメッセージフォームはこちらから
URL:https://chihirosound.com/event/11026
LOCATION:三重県
CATEGORIES:オススメ,ラジオ
END:VEVENT
BEGIN:VEVENT
DTSTART;TZID=Asia/Tokyo:20211106T180000
DTEND;TZID=Asia/Tokyo:20211108T233000
DTSTAMP:20260424T214608
CREATED:20211107T045105Z
LAST-MODIFIED:20211107T045105Z
UID:11592-1636221600-1636414200@chihirosound.com
SUMMARY:Cable-TV〔山口県〕
DESCRIPTION:【Title】Kビジョン「タウン週末版」「タウンニュース」で放送！\n●と　き：　■11月6日（土）午後6：00～／初回放送　　■8日（月）の夜11：00放送まで \n●時　間：　①午後6：00～　②午後7：00～　③午後8：00～　④午後9：00～　⑤午後10：00～　⑥午後11：00～ \n●放送局：　Kビジョン（下松市、周南市、光市、平生町、上関町） \n●番　組：　「タウン週末版」「タウンニュース」 \n●概　要：　11月6日に開催された光市立光井中学校での人権講演会「ちひろ講演&コンサート」の模様がニュース番組で放送されます！ \n●ご視聴方法：　対象エリアの加入者
URL:https://chihirosound.com/event/11592
LOCATION:三重県
CATEGORIES:オススメ,テレビ
END:VEVENT
BEGIN:VEVENT
DTSTART;TZID=Asia/Tokyo:20211106T090000
DTEND;TZID=Asia/Tokyo:20211106T093000
DTSTAMP:20260424T214608
CREATED:20210923T145138Z
LAST-MODIFIED:20210923T145138Z
UID:11294-1636189200-1636191000@chihirosound.com
SUMMARY:FMわっしょい〔山口県〕
DESCRIPTION:💐６局Radio放送 ちひろレギュラー番組「みすゞさんと明るいほうへ」💐\n金子みすゞの詩の朗読・ご紹介など、みすゞさんについてたっぷりお届け ❤ 30分番組です♪ \n※毎週水曜日に５局で放送している番組を ”毎週土曜日にFMわっしょい” でも放送！ \n  \n●と　き：　毎週土曜日 \n●時　間：　午前9：00～ \n●ラジオ局：　FMわっしょい（防府市） \n  \n●番　組：　『みすゞさんと明るいほうへ』　　 \n●パーソナリティ：　ちひろ \n  \n●周波数：　FMわっしょい／77.3MHz \n●放送エリア：　防府市を中心としたエリア、周辺受信エリア \n  \n●リクエスト＆メッセージ🎵：　misuzufm.0407@gmail.com \n●レギュラー放送：　 \n・毎週水曜日 午前11：00～ ／ FM-NANAKO（萩市）、FM AQUA（長門市）、COME！ON FM（下関市）、FMスマイルウエ～ブ（山陽小野田市）、しゅうんなんFM（周南・下松エリア）　　　　 \n・毎週土曜日 午前9：00～ ／ FMわっしょい（防府市）
URL:https://chihirosound.com/event/11294
LOCATION:三重県
CATEGORIES:オススメ,ラジオ
END:VEVENT
BEGIN:VEVENT
DTSTART;TZID=Asia/Tokyo:20211103T110000
DTEND;TZID=Asia/Tokyo:20211103T113000
DTSTAMP:20260424T214608
CREATED:20210901T151156Z
LAST-MODIFIED:20210923T091250Z
UID:11050-1635937200-1635939000@chihirosound.com
SUMMARY:６局Radio「みすゞさんと明るいほうへ」
DESCRIPTION:💐６局Radio放送・毎週水曜日放送のちひろレギュラー番組💐\n金子みすゞの詩の朗読・ご紹介など、みすゞさんについてたっぷりお届け ❤ 30分番組です♪ \n  \n●と　き：　毎週水曜日 \n●時　間：　午前11：00～ \n●ラジオ局：　６局放送（※FMわっしょいのみ毎週土曜日 午前9：00～）　 \n  \n□FM-NANAKO（萩市） \n□FM AQUA（長門市） \n□COME ON ! FM（下関市内及び山陽小野田市、北九州市門司区・小倉北区の各一部） \n□しゅうなんFM（周南市・下松市、光市の一部） \n□FMスマイルウエ～ブ（山陽小野田市、宇部市・美祢市・下関市の一部地域） \n□FMわっしょい（防府市） ※毎週土曜日 午前9：00～ \n  \n●番組詳細：　『みすゞさんと明るいほうへ』（FM-NANAKO） \n●パーソナリティ：　ちひろ \n  \n●周波数：　 \nFM-NANAKO／77.5MHz　　FM AQUA／87.8MHz　　COME ON！FM／76.4MHz \nしゅうなんFM／78.4MH　　FMスマイルウエ～ブ／89.7MHz　　FMわっしょい／77.3MHz \n  \n●インターネットで聴く：　※全国どこでもインターネットでラジオが聴けるページです。 \n  \n■サイマルラジオで聴く \n中国地区の「COME ON! FM」  or  「しゅうなんFM」　の　「LISTEN♪」　をクリックしてください♪ \n■COME ON! FMををインターネットで聴く \n■FMスマイルウエ～ブをインターネットで聴く \n■FMわっしょいをインターネットで聴く（土曜日 午前9:00～） \n  \n●リクエスト＆メッセージ🎵：　misuzufm.0407@gmail.com \nもしくは　FM-NANAKO／775@haginet.ne.jp　　FM AQUA／878@fmaqua.jp　　COME ON！FM／こちらから　　 \nしゅうなんFM／studio@fms784.co.jp　　　FMスマイルウエ～ブ／こちらから　　　FMわっしょい／こちらから \n  \n●再放送：　FM-NANAKO（萩市）／毎週土曜日 午後3：00～　　FM AQUA（長門市）／毎週日曜日午前11：00～
URL:https://chihirosound.com/event/11050
LOCATION:三重県
CATEGORIES:オススメ,ラジオ
END:VEVENT
BEGIN:VEVENT
DTSTART;TZID=Asia/Tokyo:20211102T190000
DTEND;TZID=Asia/Tokyo:20211102T200000
DTSTAMP:20260424T214608
CREATED:20211103T143847Z
LAST-MODIFIED:20211103T144650Z
UID:11559-1635879600-1635883200@chihirosound.com
SUMMARY:Radio〔山口県〕
DESCRIPTION:11月「湯田温泉にKON来ん？」がマンスリープッシュソングに♪\n  \n●と　き：　11月の毎週火曜日 \n●時　間：　夜7：00～ \n●ラジオ局：　FMわっしょい（防府市） \n  \n●番　組：　『火曜夜だよわっしょいしょい』のオープニングとエンディング \n●パーソナリティ：　松田 民三 さん \n  \n●周波数：　FMわっしょい／77.3MHz \n●放送エリア：　防府市を中心としたエリア、周辺受信エリア \n  \n●リクエスト＆メッセージ🎵：　こちら \n  \n \n 
URL:https://chihirosound.com/event/11559
LOCATION:三重県
CATEGORIES:オススメ,ラジオ
ATTACH;FMTTYPE=image/jpeg:https://chihirosound.com/wp-content/uploads/2021/11/35c40a2b0f336e7769e0a5f96957e09b.jpg
END:VEVENT
BEGIN:VEVENT
DTSTART;TZID=Asia/Tokyo:20211031T140000
DTEND;TZID=Asia/Tokyo:20211031T143000
DTSTAMP:20260424T214608
CREATED:20210901T142731Z
LAST-MODIFIED:20210901T142731Z
UID:11022-1635688800-1635690600@chihirosound.com
SUMMARY:KRYラジオ「ちひろDEブレイク」
DESCRIPTION:♠♣♥♦毎週日曜日放送のちひろレギュラー番組♠♣♥♦\nコンサート会場での裏話、ＣＤアルバム制作秘話、名言コーナー、金子みすゞの詩をご紹介など、内容盛り沢山の30分です♪ \n  \n●毎週日曜日：　午後2：00～ \n●パーソナリティ：　ちひろ、瀬川嘉 \n  \n●ちひろDEブレイク：　Official Website・ブログ・みすゞ心のメッセージ \n●周波数一覧 -KRY山口放送-：　こちら（AM・FMで聴く） \n●パソコン・スマホでKRYラジオが聴ける：　radiko.jp \n  \n●ご意見・ご感想はこちら \nメール：break@kry.co.jp\nＦＡＸ：0834-32-9000\nハガキ：〒745-8686　山口放送「ちひろDEブレイク」係 \nメッセージフォームはこちらから
URL:https://chihirosound.com/event/11022
LOCATION:三重県
CATEGORIES:オススメ,ラジオ
END:VEVENT
BEGIN:VEVENT
DTSTART;TZID=Asia/Tokyo:20211030T090000
DTEND;TZID=Asia/Tokyo:20211030T093000
DTSTAMP:20260424T214608
CREATED:20210923T094645Z
LAST-MODIFIED:20210923T094645Z
UID:11292-1635584400-1635586200@chihirosound.com
SUMMARY:FMわっしょい〔山口県〕
DESCRIPTION:💐６局Radio放送 ちひろレギュラー番組「みすゞさんと明るいほうへ」💐\n金子みすゞの詩の朗読・ご紹介など、みすゞさんについてたっぷりお届け ❤ 30分番組です♪ \n※毎週水曜日に５局で放送している番組を ”毎週土曜日にFMわっしょい” でも放送！ \n  \n●と　き：　毎週土曜日 \n●時　間：　午前9：00～ \n●ラジオ局：　FMわっしょい（防府市） \n  \n●番　組：　『みすゞさんと明るいほうへ』　　 \n●パーソナリティ：　ちひろ \n  \n●周波数：　FMわっしょい／77.3MHz \n●放送エリア：　防府市を中心としたエリア、周辺受信エリア \n  \n●リクエスト＆メッセージ🎵：　misuzufm.0407@gmail.com \n●レギュラー放送：　 \n・毎週水曜日 午前11：00～ ／ FM-NANAKO（萩市）、FM AQUA（長門市）、COME！ON FM（下関市）、FMスマイルウエ～ブ（山陽小野田市）、しゅうんなんFM（周南・下松エリア）　　　　 \n・毎週土曜日 午前9：00～ ／ FMわっしょい（防府市）
URL:https://chihirosound.com/event/11292
LOCATION:三重県
CATEGORIES:オススメ,ラジオ
END:VEVENT
BEGIN:VEVENT
DTSTART;TZID=Asia/Tokyo:20211027T110000
DTEND;TZID=Asia/Tokyo:20211027T113000
DTSTAMP:20260424T214608
CREATED:20210901T145830Z
LAST-MODIFIED:20210923T091314Z
UID:11048-1635332400-1635334200@chihirosound.com
SUMMARY:６局Radio「みすゞさんと明るいほうへ」
DESCRIPTION:💐６局Radio放送・毎週水曜日放送のちひろレギュラー番組💐\n金子みすゞの詩の朗読・ご紹介など、みすゞさんについてたっぷりお届け ❤ 30分番組です♪ \n  \n●と　き：　毎週水曜日 \n●時　間：　午前11：00～ \n●ラジオ局：　６局放送（※FMわっしょいのみ毎週土曜日 午前9：00～）　 \n  \n□FM-NANAKO（萩市） \n□FM AQUA（長門市） \n□COME ON ! FM（下関市内及び山陽小野田市、北九州市門司区・小倉北区の各一部） \n□しゅうなんFM（周南市・下松市、光市の一部） \n□FMスマイルウエ～ブ（山陽小野田市、宇部市・美祢市・下関市の一部地域） \n□FMわっしょい（防府市） ※毎週土曜日 午前9：00～ \n  \n●番組詳細：　『みすゞさんと明るいほうへ』（FM-NANAKO） \n●パーソナリティ：　ちひろ \n  \n●周波数：　 \nFM-NANAKO／77.5MHz　　FM AQUA／87.8MHz　　COME ON！FM／76.4MHz \nしゅうなんFM／78.4MH　　FMスマイルウエ～ブ／89.7MHz　　FMわっしょい／77.3MHz \n  \n●インターネットで聴く：　※全国どこでもインターネットでラジオが聴けるページです。 \n  \n■サイマルラジオで聴く \n中国地区の「COME ON! FM」  or  「しゅうなんFM」　の　「LISTEN♪」　をクリックしてください♪ \n■COME ON! FMををインターネットで聴く \n■FMスマイルウエ～ブをインターネットで聴く \n■FMわっしょいをインターネットで聴く（土曜日 午前9:00～） \n  \n●リクエスト＆メッセージ🎵：　misuzufm.0407@gmail.com \nもしくは　FM-NANAKO／775@haginet.ne.jp　　FM AQUA／878@fmaqua.jp　　COME ON！FM／こちらから　　 \nしゅうなんFM／studio@fms784.co.jp　　　FMスマイルウエ～ブ／こちらから　　　FMわっしょい／こちらから \n  \n●再放送：　FM-NANAKO（萩市）／毎週土曜日 午後3：00～　　FM AQUA（長門市）／毎週日曜日午前11：00～
URL:https://chihirosound.com/event/11048
LOCATION:三重県
CATEGORIES:オススメ,ラジオ
END:VEVENT
BEGIN:VEVENT
DTSTART;TZID=Asia/Tokyo:20211025T181500
DTEND;TZID=Asia/Tokyo:20211025T190000
DTSTAMP:20260424T214608
CREATED:20211025T081135Z
LAST-MODIFIED:20211025T081149Z
UID:11484-1635185700-1635188400@chihirosound.com
SUMMARY:TV〔山口県〕
DESCRIPTION:【Title】NHK山口放送、KRY山口放送、tysテレビ山口、yab山口朝日放送のニュースで！\n●と　き：　10月25日（月）以降 ＜放送予定＞ \n●時　間：　夕方6：15～7：00 等 \n●放送局：　NHK山口放送、KRY山口放送、tysテレビ山口、yab山口朝日放送 \n●番　組：　各ニュース番組 \n●放送内容：　視覚障害者柔道「廣瀬 順子」、吉冨久悦さん、ちひろが山口市長を表敬訪問 \n●放送エリア：　山口県内と周辺受信エリア
URL:https://chihirosound.com/event/11484
LOCATION:三重県
CATEGORIES:オススメ,テレビ
END:VEVENT
BEGIN:VEVENT
DTSTART;TZID=Asia/Tokyo:20211024T140000
DTEND;TZID=Asia/Tokyo:20211024T143000
DTSTAMP:20260424T214608
CREATED:20210901T142626Z
LAST-MODIFIED:20210901T142626Z
UID:11020-1635084000-1635085800@chihirosound.com
SUMMARY:KRYラジオ「ちひろDEブレイク」
DESCRIPTION:♠♣♥♦毎週日曜日放送のちひろレギュラー番組♠♣♥♦\nコンサート会場での裏話、ＣＤアルバム制作秘話、名言コーナー、金子みすゞの詩をご紹介など、内容盛り沢山の30分です♪ \n  \n●毎週日曜日：　午後2：00～ \n●パーソナリティ：　ちひろ、瀬川嘉 \n  \n●ちひろDEブレイク：　Official Website・ブログ・みすゞ心のメッセージ \n●周波数一覧 -KRY山口放送-：　こちら（AM・FMで聴く） \n●パソコン・スマホでKRYラジオが聴ける：　radiko.jp \n  \n●ご意見・ご感想はこちら \nメール：break@kry.co.jp\nＦＡＸ：0834-32-9000\nハガキ：〒745-8686　山口放送「ちひろDEブレイク」係 \nメッセージフォームはこちらから
URL:https://chihirosound.com/event/11020
LOCATION:三重県
CATEGORIES:オススメ,ラジオ
END:VEVENT
BEGIN:VEVENT
DTSTART;TZID=Asia/Tokyo:20211023T133000
DTEND;TZID=Asia/Tokyo:20211023T150000
DTSTAMP:20260424T214608
CREATED:20210928T140445Z
LAST-MODIFIED:20210928T150747Z
UID:11356-1634995800-1635001200@chihirosound.com
SUMMARY:講演 & Concert〔山口県〕
DESCRIPTION:【Title】男女共同参画月間行事「秋を楽しむ」　記念講演（トーク&コンサート）\n本当の自分に出逢うために～女性のまなざしが社会を変える～\n  \n●と　き：　10月23日（土） \n●ところ：　山口県婦人教育文化会館＜カリエンテ山口＞（山口県山口市湯田温泉5丁目1-1） \n※会場の地図はこちら \n●時　間：　11：00／開会　　13：30～／ちひろ \n  \n●参加料：　1\,000円（お菓子と飲み物付）　※要申込 \n●申込方法：　往復ハガキか受付にて、住所・氏名・年齢・電話番号・職業の有無・託児の有無（生後6ヶ月以上1人300円必要）を記入のうえ下記までお申込下さい。 \n●お申込先：　 \n山口市働く婦人の家・（一財）山口県婦人教育文化会館 \n〒753-0056　山口市湯田温泉5丁目1-1 \n●申込締切：　令和3年10月16日（先着100名） \n  \n●対　象：　どなたでもOK \n●主　催：　（一財）山口県婦人教育文化会館・山口市働く婦人の家・山口県女性団体連絡協議会 \n  \n●展示・即売等：　1階や2階の会場にて様々な展示や発表、実習がございます。詳しくはチラシをご覧くださいませ \n●注意事項：　コロナウイルス感染症拡大が生じた場合には、行事を中止することもあります \n  \nPDFはこちら
URL:https://chihirosound.com/event/11356
LOCATION:山口市 働く婦人の家\, 山口県山口市湯田温泉５丁目１−１\, 山口市\, 山口県\, 753-0056\, Japan
CATEGORIES:オススメ,コンサート,講演
ATTACH;FMTTYPE=image/jpeg:https://chihirosound.com/wp-content/uploads/2021/09/1c5be1c513decb1c6c561e081d508998.jpg
END:VEVENT
BEGIN:VEVENT
DTSTART;TZID=Asia/Tokyo:20211023T090000
DTEND;TZID=Asia/Tokyo:20211023T093000
DTSTAMP:20260424T214608
CREATED:20210923T094552Z
LAST-MODIFIED:20210923T094552Z
UID:11290-1634979600-1634981400@chihirosound.com
SUMMARY:FMわっしょい〔山口県〕
DESCRIPTION:💐６局Radio放送 ちひろレギュラー番組「みすゞさんと明るいほうへ」💐\n金子みすゞの詩の朗読・ご紹介など、みすゞさんについてたっぷりお届け ❤ 30分番組です♪ \n※毎週水曜日に５局で放送している番組を ”毎週土曜日にFMわっしょい” でも放送！ \n  \n●と　き：　毎週土曜日 \n●時　間：　午前9：00～ \n●ラジオ局：　FMわっしょい（防府市） \n  \n●番　組：　『みすゞさんと明るいほうへ』　　 \n●パーソナリティ：　ちひろ \n  \n●周波数：　FMわっしょい／77.3MHz \n●放送エリア：　防府市を中心としたエリア、周辺受信エリア \n  \n●リクエスト＆メッセージ🎵：　misuzufm.0407@gmail.com \n●レギュラー放送：　 \n・毎週水曜日 午前11：00～ ／ FM-NANAKO（萩市）、FM AQUA（長門市）、COME！ON FM（下関市）、FMスマイルウエ～ブ（山陽小野田市）、しゅうんなんFM（周南・下松エリア）　　　　 \n・毎週土曜日 午前9：00～ ／ FMわっしょい（防府市）
URL:https://chihirosound.com/event/11290
LOCATION:三重県
CATEGORIES:オススメ,ラジオ
END:VEVENT
BEGIN:VEVENT
DTSTART;TZID=Asia/Tokyo:20211020T110000
DTEND;TZID=Asia/Tokyo:20211020T113000
DTSTAMP:20260424T214608
CREATED:20210901T144913Z
LAST-MODIFIED:20210923T091350Z
UID:11046-1634727600-1634729400@chihirosound.com
SUMMARY:６局Radio「みすゞさんと明るいほうへ」
DESCRIPTION:💐６局Radio放送・毎週水曜日放送のちひろレギュラー番組💐\n金子みすゞの詩の朗読・ご紹介など、みすゞさんについてたっぷりお届け ❤ 30分番組です♪ \n  \n●と　き：　毎週水曜日 \n●時　間：　午前11：00～ \n●ラジオ局：　６局放送（※FMわっしょいのみ毎週土曜日 午前9：00～）　 \n  \n□FM-NANAKO（萩市） \n□FM AQUA（長門市） \n□COME ON ! FM（下関市内及び山陽小野田市、北九州市門司区・小倉北区の各一部） \n□しゅうなんFM（周南市・下松市、光市の一部） \n□FMスマイルウエ～ブ（山陽小野田市、宇部市・美祢市・下関市の一部地域） \n□FMわっしょい（防府市） ※毎週土曜日 午前9：00～ \n  \n●番組詳細：　『みすゞさんと明るいほうへ』（FM-NANAKO） \n●パーソナリティ：　ちひろ \n  \n●周波数：　 \nFM-NANAKO／77.5MHz　　FM AQUA／87.8MHz　　COME ON！FM／76.4MHz \nしゅうなんFM／78.4MH　　FMスマイルウエ～ブ／89.7MHz　　FMわっしょい／77.3MHz \n  \n●インターネットで聴く：　※全国どこでもインターネットでラジオが聴けるページです。 \n  \n■サイマルラジオで聴く \n中国地区の「COME ON! FM」  or  「しゅうなんFM」　の　「LISTEN♪」　をクリックしてください♪ \n■COME ON! FMををインターネットで聴く \n■FMスマイルウエ～ブをインターネットで聴く \n■FMわっしょいをインターネットで聴く（土曜日 午前9:00～） \n  \n●リクエスト＆メッセージ🎵：　misuzufm.0407@gmail.com \nもしくは　FM-NANAKO／775@haginet.ne.jp　　FM AQUA／878@fmaqua.jp　　COME ON！FM／こちらから　　 \nしゅうなんFM／studio@fms784.co.jp　　　FMスマイルウエ～ブ／こちらから　　　FMわっしょい／こちらから \n  \n●再放送：　FM-NANAKO（萩市）／毎週土曜日 午後3：00～　　FM AQUA（長門市）／毎週日曜日午前11：00～
URL:https://chihirosound.com/event/11046
LOCATION:三重県
CATEGORIES:オススメ,ラジオ
END:VEVENT
BEGIN:VEVENT
DTSTART;TZID=Asia/Tokyo:20211018T140000
DTEND;TZID=Asia/Tokyo:20211018T153000
DTSTAMP:20260424T214608
CREATED:20210529T133107Z
LAST-MODIFIED:20210909T134329Z
UID:10336-1634565600-1634571000@chihirosound.com
SUMMARY:Concert〔山口県〕
DESCRIPTION:【Title】「防府市人権学習講演会」ちひろコンサート\n金子みすゞを語り 歌う ～みんなちがって、みんないい生き方を～\n  \n●と　き：　10月18日（月） \n●ところ：　アスピラート 音楽ホール（山口県防府市戎町1丁目1-28 3F） \n※会場の地図はこちら \n●時　間：　午後2時～ \n  \n●対　象：　どなたでもOK \n●定　員：　300名（先着順） \n  \n●入場料：　無料　※事前申込が必要です \n●お申込：　10月6日（水）17時までに、お電話、メールまたは所定の申込用紙で郵便・FAXにてお申し込みください。 \n●要約筆記 / 手話通訳：　有り \n  \n●主　催：　防府市人権学習推進市民会議、防府市、防府市教育委員会、山口人権啓発活動地域ネットワーク協議会 \n●お問合せ：　防府市教育委員会 教育部 生涯学習課　人権推進室 \n電話／0835-23-3016　FAX／0835-23-3011　E-mail：mamoruayumi@yahoo.co.jp \n●注意事項：　新型コロナウイルス感染症対策のため、マスクの着用、体温の測定、手指の消毒、3密を避ける運営に御協力ください。 \nPDFはこちら \n \n 
URL:https://chihirosound.com/event/10336
LOCATION:アスピラート\, 山口県防府市戎町１丁目１−２８\, 防府市\, 山口県\, 747-0036\, 日本
CATEGORIES:オススメ,コンサート
ATTACH;FMTTYPE=image/jpeg:https://chihirosound.com/wp-content/uploads/2021/09/36c6a4c1da116564ca09f66fc6249a79.jpg
END:VEVENT
BEGIN:VEVENT
DTSTART;TZID=Asia/Tokyo:20211017T140000
DTEND;TZID=Asia/Tokyo:20211017T143000
DTSTAMP:20260424T214608
CREATED:20210901T142531Z
LAST-MODIFIED:20210901T142531Z
UID:11018-1634479200-1634481000@chihirosound.com
SUMMARY:KRYラジオ「ちひろDEブレイク」
DESCRIPTION:♠♣♥♦毎週日曜日放送のちひろレギュラー番組♠♣♥♦\nコンサート会場での裏話、ＣＤアルバム制作秘話、名言コーナー、金子みすゞの詩をご紹介など、内容盛り沢山の30分です♪ \n  \n●毎週日曜日：　午後2：00～ \n●パーソナリティ：　ちひろ、瀬川嘉 \n  \n●ちひろDEブレイク：　Official Website・ブログ・みすゞ心のメッセージ \n●周波数一覧 -KRY山口放送-：　こちら（AM・FMで聴く） \n●パソコン・スマホでKRYラジオが聴ける：　radiko.jp \n  \n●ご意見・ご感想はこちら \nメール：break@kry.co.jp\nＦＡＸ：0834-32-9000\nハガキ：〒745-8686　山口放送「ちひろDEブレイク」係 \nメッセージフォームはこちらから
URL:https://chihirosound.com/event/11018
LOCATION:三重県
CATEGORIES:オススメ,ラジオ
END:VEVENT
END:VCALENDAR