BEGIN:VCALENDAR
VERSION:2.0
PRODID:-//ちひろ Official Website ～金子みすゞの心を歌う～  CHIHIRO Official Website - MISUZU KANEKO- - ECPv6.15.11//NONSGML v1.0//EN
CALSCALE:GREGORIAN
METHOD:PUBLISH
X-WR-CALNAME:ちひろ Official Website ～金子みすゞの心を歌う～  CHIHIRO Official Website - MISUZU KANEKO-
X-ORIGINAL-URL:https://chihirosound.com
X-WR-CALDESC:ちひろ Official Website ～金子みすゞの心を歌う～  CHIHIRO Official Website - MISUZU KANEKO- のイベント
REFRESH-INTERVAL;VALUE=DURATION:PT1H
X-Robots-Tag:noindex
X-PUBLISHED-TTL:PT1H
BEGIN:VTIMEZONE
TZID:Asia/Tokyo
BEGIN:STANDARD
TZOFFSETFROM:+0900
TZOFFSETTO:+0900
TZNAME:JST
DTSTART:20220101T000000
END:STANDARD
END:VTIMEZONE
BEGIN:VEVENT
DTSTART;TZID=Asia/Tokyo:20230702T110000
DTEND;TZID=Asia/Tokyo:20230702T113000
DTSTAMP:20260423T074039
CREATED:20230424T043054Z
LAST-MODIFIED:20230424T043054Z
UID:16058-1688295600-1688297400@chihirosound.com
SUMMARY:Radio〔再放送〕
DESCRIPTION:💐９局Radio放送 ちひろレギュラー番組「みすゞさんと明るいほうへ」💐\n金子みすゞの詩の朗読・ご紹介など、みすゞさんについてたっぷりお届け ❤ 30分番組です♪ \n※毎週水曜日に放送している番組を再放送！ \n  \n●と　き：　毎週日曜日 \n●時　間：　午前11：00～ \n●ラジオ局：　FM AQUA \n  \n●番組詳細：　『みすゞさんと明るいほうへ』 \n●パーソナリティ：　ちひろ \n  \n●周波数：　FM AQUA／87.8MHz \n●放送エリア：　長門市を中心としたエリア、周辺受信エリア \n  \n●リクエスト＆メッセージ🎵：　FM AQUA／878@fmaqua.jp \n●レギュラー放送：　 \n・毎週水曜日 午前11：00～ ／ FM-NANAKO（萩市）、FM AQUA（長門市）、COME！ON FM（下関市）、しゅうんなんFM（周南・下松エリア）　 \n・毎週水曜日 午前11：30～ ／ FMはつかいち（広島県廿日市市） \n・毎週水曜日 午後1：00～ ／ FMスマイルウエ～ブ（山陽小野田市）　　　 \n・毎週水曜日 夜10：00～ ／ KOCOラジ＜郡山コミュニティ放送＞（福島県郡山市） \n・毎週土曜日 午前9：00～ ／ FMわっしょい（防府市）
URL:https://chihirosound.com/event/16058
CATEGORIES:オススメ,ラジオ
END:VEVENT
BEGIN:VEVENT
DTSTART;TZID=Asia/Tokyo:20230630T190000
DTEND;TZID=Asia/Tokyo:20230630T203000
DTSTAMP:20260423T074039
CREATED:20230220T021725Z
LAST-MODIFIED:20230619T012652Z
UID:15598-1688151600-1688157000@chihirosound.com
SUMMARY:対談&Concert〔東京都中央区〕
DESCRIPTION:【Title】築地本願寺 GINZAサロン「KOKOROアカデミー」対談 & ミニコンサート\n～金子みすゞの心に学ぶ～\n●と　き：　6月30日（金） \n●ところ：　築地本願寺 GINZA SALON（東京都中央区銀座2丁目6-4 竹中銀座ビルディング5階） \n※会場の地図はこちら \n●時　間：　19：00～20：30 \n●出演者：　大來 尚順（超勝寺住職）、ちひろ \n  \n●参加方法：　会場参加 or ライブ配信 \n●金　額：　会場参加・ライブ配信　共に　2\,000円 \n●お申込開始：　5月1日（月）～ \n●お申込方法：　『築地本願寺倶楽部』にご入会のうえご参加いただくこととなります。入会金・年会費は無料です。 \nご入会申し込みはこちらから（ページ中ほどの「築地本願寺倶楽部未入会の方」より） \n6月30日「金子みすゞの心に学ぶ」　 \n●お問合せ：　電話／03-6263-0430 \n●主　催：　築地本願寺 GINZA SALON \n \nEPSON MFP image
URL:https://chihirosound.com/event/15598
LOCATION:築地本願寺 GINZA SALON\, 東京都中央区銀座2丁目6-4\, 中央区\, 東京都\, 104-0061\, 日本
CATEGORIES:オススメ,コンサート
ATTACH;FMTTYPE=image/png:https://chihirosound.com/wp-content/uploads/2023/02/787dbc85d4702df7029f57878f1d657a.png
END:VEVENT
BEGIN:VEVENT
DTSTART;TZID=Asia/Tokyo:20230628T110000
DTEND;TZID=Asia/Tokyo:20230628T113000
DTSTAMP:20260423T074039
CREATED:20221213T051204Z
LAST-MODIFIED:20221213T051204Z
UID:15044-1687950000-1687951800@chihirosound.com
SUMMARY:９局Radio「みすゞさんと明るいほうへ」
DESCRIPTION:💐９局Radio放送・ちひろレギュラー番組💐\n金子みすゞの詩の朗読・ご紹介など、みすゞさんについてたっぷりお届け ❤ 30分番組です♪ \n  \n●番組詳細：　『みすゞさんと明るいほうへ』 \n●パーソナリティ：　ちひろ \n  \n●レギュラー放送時間：　 \n毎週水曜日 午前11：00～／FM-NANAKO、FM AQUA、COME ON！FM、しゅうなんFM \n毎週水曜日 午前11：30～／FMはつかいち \n毎週水曜日 午後1：00～／FMスマイルウエ～ブ \n毎週水曜日 夜10：00～／KOCOラジ＜郡山コミュニティ放送＞ \n毎週土曜日 午前9：00～／FMわっしょい \n  \n●再放送：　FM-NANAKO／毎週土曜日 午後3：00～　　FM AQUA／毎週日曜日午前11：00～ \n  \n●周波数：　 \nFM-NANAKO／77.5MHz　　FM AQUA／87.8MHz　　COME ON！FM／76.4MHz \nしゅうなんFM／78.4MHz　　FMスマイルウエ～ブ／89.7MHz　　FMわっしょい／77.3MHz \nFMはつかいち／76.1MHz　KOCOラジ／79.1MHz \n  \n●インターネットで聴く：　※全国どこでもインターネットでラジオが聴けるページです。 \n  \n■JCBAインターネットサイマルラジオで聴く \n中国地区の「COME ON! FM」  or  「しゅうなんFM」　の　「LISTEN♪」　をクリックしてください♪ \n■COME ON! FMをインターネットで聴く \n■FMはつかいちをインターネットで聴く \n■FMスマイルウエ～ブをインターネットで聴く \n■FMわっしょいをインターネットで聴く（土曜日 午前9:00～） \n  \n■サイマルラジオで聴く \n東北地区の「郡山コミュニティ放送」　の　「放送を聴く」　をクリックしてください♪ \n■KOCOラジ＜郡山コミュニティ放送＞をインターネットで聴く（水曜日 夜10：00～） \n  \n  \n●リクエスト＆メッセージ🎵：　misuzufm.0407@gmail.com \nもしくは　FM-NANAKO／775@haginet.ne.jp　　FM AQUA／878@fmaqua.jp　　COME ON！FM／こちらから　　 \nしゅうなんFM／studio@fms784.co.jp　　　FMスマイルウエ～ブ／こちらから　　　FMわっしょい／こちらから \nFMはつかいち／こちらから　　KOCOラジ＜郡山コミュニティ放送＞／こちらから \n  \n●各局website： \n□FM-NANAKO（萩市） \n□FM AQUA（長門市） \n□COME ON ! FM（下関市内及び山陽小野田市、北九州市門司区・小倉北区の各一部） \n□しゅうなんFM（周南市・下松市、光市の一部） \n□FMはつかいち（広島県廿日市市）※水曜日 午前11：30～ \n□FMスマイルウエ～ブ（山陽小野田市、宇部市・美祢市・下関市の一部地域） ※水曜日 午後1：00～ \n□KOCOラジ（福島県郡山市） ※水曜日 夜10：00～ \n□FMわっしょい（防府市） ※土曜日 午前9：00～
URL:https://chihirosound.com/event/15044
CATEGORIES:オススメ,ラジオ
END:VEVENT
BEGIN:VEVENT
DTSTART;TZID=Asia/Tokyo:20230625T143000
DTEND;TZID=Asia/Tokyo:20230625T150000
DTSTAMP:20260423T074039
CREATED:20221213T021112Z
LAST-MODIFIED:20221213T021112Z
UID:14937-1687703400-1687705200@chihirosound.com
SUMMARY:KRYラジオ「ちひろDEブレイク」
DESCRIPTION:♠♣♥♦毎週日曜日放送のちひろレギュラー番組♠♣♥♦\nコンサート会場での裏話、ＣＤアルバム制作秘話、名言コーナー、金子みすゞの詩をご紹介など、内容盛り沢山の30分です♪ \n  \n●毎週日曜日：　14：30～ \n●パーソナリティ：　ちひろ、瀬川 嘉 \n  \n●ちひろDEブレイク：　Official Website・ブログ・みすゞ心のメッセージ \n●周波数一覧 -KRY山口放送-：　こちら（AM・FMで聴く） \n●パソコン・スマホでKRYラジオが聴ける：　radiko.jp \n  \n●ご意見・ご感想はこちら \nメール：break@kry.co.jp\nＦＡＸ：0834-32-9000\nハガキ：〒745-8686　山口放送「ちひろDEブレイク」係 \nメッセージフォームはこちらから
URL:https://chihirosound.com/event/14937
CATEGORIES:オススメ,ラジオ
END:VEVENT
BEGIN:VEVENT
DTSTART;TZID=Asia/Tokyo:20230624T140000
DTEND;TZID=Asia/Tokyo:20230624T160000
DTSTAMP:20260423T074039
CREATED:20230113T024323Z
LAST-MODIFIED:20230220T023107Z
UID:15395-1687615200-1687622400@chihirosound.com
SUMMARY:Concert〔千葉県〕
DESCRIPTION:【Title】「第26回 公開仏教文化講演会」ちひろコンサート\n～金子みすゞと仏教のまなざし～\n●と　き：　6月24日（土） \n●ところ：　アミュゼ柏 2階 クリスタルホール（千葉県柏市柏6丁目2-22） \n※会場の地図はこちら \n●時　間：　開場／13：00　開演／14：00～16：00 \n●対　象：　どなたでもOK \n●参加費：　無料 \n●定　員：　先着400名 \n●主　催：　浄土真宗東葛仏教会 \n●後　援：　築地本願寺、東本願寺真宗会館 \n 
URL:https://chihirosound.com/event/15395
LOCATION:アミュゼ柏 クリスタルホール\, 千葉県柏市柏６丁目２−２２\, 柏市\, 千葉県\, 277-0005\, 日本
CATEGORIES:オススメ,コンサート
ATTACH;FMTTYPE=image/jpeg:https://chihirosound.com/wp-content/uploads/2023/02/7ae73397e50ecab9b7733478b858c8a6-scaled.jpg
END:VEVENT
BEGIN:VEVENT
DTSTART;TZID=Asia/Tokyo:20230621T110000
DTEND;TZID=Asia/Tokyo:20230621T113000
DTSTAMP:20260423T074039
CREATED:20221213T050010Z
LAST-MODIFIED:20221213T051302Z
UID:15042-1687345200-1687347000@chihirosound.com
SUMMARY:９局Radio「みすゞさんと明るいほうへ」
DESCRIPTION:💐９局Radio放送・ちひろレギュラー番組💐\n金子みすゞの詩の朗読・ご紹介など、みすゞさんについてたっぷりお届け ❤ 30分番組です♪ \n  \n●番組詳細：　『みすゞさんと明るいほうへ』 \n●パーソナリティ：　ちひろ \n  \n●レギュラー放送時間：　 \n毎週水曜日 午前11：00～／FM-NANAKO、FM AQUA、COME ON！FM、しゅうなんFM \n毎週水曜日 午前11：30～／FMはつかいち \n毎週水曜日 午後1：00～／FMスマイルウエ～ブ \n毎週水曜日 夜10：00～／KOCOラジ＜郡山コミュニティ放送＞ \n毎週土曜日 午前9：00～／FMわっしょい \n  \n●再放送：　FM-NANAKO／毎週土曜日 午後3：00～　　FM AQUA／毎週日曜日午前11：00～ \n  \n●周波数：　 \nFM-NANAKO／77.5MHz　　FM AQUA／87.8MHz　　COME ON！FM／76.4MHz \nしゅうなんFM／78.4MHz　　FMスマイルウエ～ブ／89.7MHz　　FMわっしょい／77.3MHz \nFMはつかいち／76.1MHz　KOCOラジ／79.1MHz \n  \n●インターネットで聴く：　※全国どこでもインターネットでラジオが聴けるページです。 \n  \n■JCBAインターネットサイマルラジオで聴く \n中国地区の「COME ON! FM」  or  「しゅうなんFM」　の　「LISTEN♪」　をクリックしてください♪ \n■COME ON! FMをインターネットで聴く \n■FMはつかいちをインターネットで聴く \n■FMスマイルウエ～ブをインターネットで聴く \n■FMわっしょいをインターネットで聴く（土曜日 午前9:00～） \n  \n■サイマルラジオで聴く \n東北地区の「郡山コミュニティ放送」　の　「放送を聴く」　をクリックしてください♪ \n■KOCOラジ＜郡山コミュニティ放送＞をインターネットで聴く（水曜日 夜10：00～） \n  \n  \n●リクエスト＆メッセージ🎵：　misuzufm.0407@gmail.com \nもしくは　FM-NANAKO／775@haginet.ne.jp　　FM AQUA／878@fmaqua.jp　　COME ON！FM／こちらから　　 \nしゅうなんFM／studio@fms784.co.jp　　　FMスマイルウエ～ブ／こちらから　　　FMわっしょい／こちらから \nFMはつかいち／こちらから　　KOCOラジ＜郡山コミュニティ放送＞／こちらから \n  \n●各局website： \n□FM-NANAKO（萩市） \n□FM AQUA（長門市） \n□COME ON ! FM（下関市内及び山陽小野田市、北九州市門司区・小倉北区の各一部） \n□しゅうなんFM（周南市・下松市、光市の一部） \n□FMはつかいち（広島県廿日市市）※水曜日 午前11：30～ \n□FMスマイルウエ～ブ（山陽小野田市、宇部市・美祢市・下関市の一部地域） ※水曜日 午後1：00～ \n□KOCOラジ（福島県郡山市） ※水曜日 夜10：00～ \n□FMわっしょい（防府市） ※土曜日 午前9：00～
URL:https://chihirosound.com/event/15042
CATEGORIES:オススメ,ラジオ
END:VEVENT
BEGIN:VEVENT
DTSTART;TZID=Asia/Tokyo:20230620T170000
DTEND;TZID=Asia/Tokyo:20230623T170000
DTSTAMP:20260423T074039
CREATED:20230613T133009Z
LAST-MODIFIED:20230619T015008Z
UID:16651-1687280400-1687539600@chihirosound.com
SUMMARY:Cable TV〔山口県〕
DESCRIPTION:【Title】J:COM チャンネル下関「WEEKLYトピックス-SHIMONOSEKI-」で放送！\n  \n●と　き：　 \n■6月20日（火）17：00／初回放送　①17：00～　②20：30～　③22：00～ \n※21（水）、22（木）、 23日（金）17：00まで計18回の再放送 \n　21日・22日：　①11：00～　②14：00～　③16：00～　④17：00～　⑤20：30～　⑥22：00～ \n23日：　①11：00～　②14：00～　③16：00～ \n  \n●放送局：　J:COM チャンネル下関 \n●番　組：　「WEEKLYトピックス-SHIMONOSEKI-」 \n●キャスター：　 \n●概　要：　6月10日に開催された「令和5年度 暮らしと人権セミナー」ちひろコンサートの様子がニュースとして放送されます！ \n  \n●ご視聴方法：　対象エリアの加入者（下関市  ※菊川町／豊浦町は一部） \n地域情報アプリ「ど・ろーかる」でどなたでもご覧いただけます
URL:https://chihirosound.com/event/16651
CATEGORIES:オススメ,テレビ
ATTACH;FMTTYPE=image/jpeg:https://chihirosound.com/wp-content/uploads/2023/06/IMG_8566-1-scaled.jpg
END:VEVENT
BEGIN:VEVENT
DTSTART;TZID=Asia/Tokyo:20230618T143000
DTEND;TZID=Asia/Tokyo:20230618T150000
DTSTAMP:20260423T074039
CREATED:20221213T020958Z
LAST-MODIFIED:20221213T020958Z
UID:14935-1687098600-1687100400@chihirosound.com
SUMMARY:KRYラジオ「ちひろDEブレイク」
DESCRIPTION:♠♣♥♦毎週日曜日放送のちひろレギュラー番組♠♣♥♦\nコンサート会場での裏話、ＣＤアルバム制作秘話、名言コーナー、金子みすゞの詩をご紹介など、内容盛り沢山の30分です♪ \n  \n●毎週日曜日：　14：30～ \n●パーソナリティ：　ちひろ、瀬川 嘉 \n  \n●ちひろDEブレイク：　Official Website・ブログ・みすゞ心のメッセージ \n●周波数一覧 -KRY山口放送-：　こちら（AM・FMで聴く） \n●パソコン・スマホでKRYラジオが聴ける：　radiko.jp \n  \n●ご意見・ご感想はこちら \nメール：break@kry.co.jp\nＦＡＸ：0834-32-9000\nハガキ：〒745-8686　山口放送「ちひろDEブレイク」係 \nメッセージフォームはこちらから
URL:https://chihirosound.com/event/14935
CATEGORIES:オススメ,ラジオ
END:VEVENT
BEGIN:VEVENT
DTSTART;TZID=Asia/Tokyo:20230616T130000
DTEND;TZID=Asia/Tokyo:20230616T131500
DTSTAMP:20260423T074039
CREATED:20230606T062725Z
LAST-MODIFIED:20230606T062725Z
UID:16587-1686920400-1686921300@chihirosound.com
SUMMARY:Radio〔福島県〕
DESCRIPTION:【Title】KOCOラジ（郡山コミュニティ放送）に電話ゲスト出演！\n  \n●と　き：　6月16日（金） \n●時　間：　13：00～ \n●ラジオ局：　KOCOラジ（郡山コミュニティ放送） \n●番　組：　『ひるココ』 \n●パーソナリティ：　宗方 和子　さん \n  \n●周波数：　79.1MHHz \n●放送エリア：　郡山駅から20kmの範囲 \n●インターネットで聴く：　サイマルラジオ \n※全国どこでもインターネットでラジオが聴けるページです。 \nページ途中の、郡山コミュニティ放送「放送を聴く」をクリックしてください♪ \n●リクエスト＆メッセージ：　Eメール＜koco@kocofm.jp＞　　F A X ＜024-953-6161＞
URL:https://chihirosound.com/event/16587
CATEGORIES:オススメ,ラジオ
ORGANIZER;CN="%E9%83%A1%E5%B1%B1%E3%82%B3%E3%83%9F%E3%83%A5%E3%83%8B%E3%83%86%E3%82%A3%E6%94%BE%E9%80%81":MAILTO:koco@kocofm.jp
END:VEVENT
BEGIN:VEVENT
DTSTART;TZID=Asia/Tokyo:20230614T165000
DTEND;TZID=Asia/Tokyo:20230614T175300
DTSTAMP:20260423T074039
CREATED:20230606T135500Z
LAST-MODIFIED:20230606T135500Z
UID:16600-1686761400-1686765180@chihirosound.com
SUMMARY:TV〔山口県〕
DESCRIPTION:【Title】KRY山口放送『熱血テレビ』ちひろがスタジオ生出演！\n  \n●と　き：　6月14日（水） \n●時　間：　16：50～17：53 \n●放送局：　KRY山口放送 \n●番　組：　『熱血テレビ』 \n●放送内容：　「生誕120年 今伝えたいみすゞの心」でちひろが詩の朗読を行います！スタジオに生出演！ \n  \n●ご意見・メッセージ：　メール：nekketu@kry.co.jp　FAX：0834-32-7760　　ハガキ：〒745-8686　山口放送「熱血テレビ」係 \n●放送エリア：　山口県内と周辺受信エリア
URL:https://chihirosound.com/event/16600
CATEGORIES:オススメ,テレビ
END:VEVENT
BEGIN:VEVENT
DTSTART;TZID=Asia/Tokyo:20230614T110000
DTEND;TZID=Asia/Tokyo:20230614T113000
DTSTAMP:20260423T074039
CREATED:20221213T051441Z
LAST-MODIFIED:20221213T051441Z
UID:15046-1686740400-1686742200@chihirosound.com
SUMMARY:９局Radio「みすゞさんと明るいほうへ」
DESCRIPTION:💐９局Radio放送・ちひろレギュラー番組💐\n金子みすゞの詩の朗読・ご紹介など、みすゞさんについてたっぷりお届け ❤ 30分番組です♪ \n  \n●番組詳細：　『みすゞさんと明るいほうへ』 \n●パーソナリティ：　ちひろ \n  \n●レギュラー放送時間：　 \n毎週水曜日 午前11：00～／FM-NANAKO、FM AQUA、COME ON！FM、しゅうなんFM \n毎週水曜日 午前11：30～／FMはつかいち \n毎週水曜日 午後1：00～／FMスマイルウエ～ブ \n毎週水曜日 夜10：00～／KOCOラジ＜郡山コミュニティ放送＞ \n毎週土曜日 午前9：00～／FMわっしょい \n  \n●再放送：　FM-NANAKO／毎週土曜日 午後3：00～　　FM AQUA／毎週日曜日午前11：00～ \n  \n●周波数：　 \nFM-NANAKO／77.5MHz　　FM AQUA／87.8MHz　　COME ON！FM／76.4MHz \nしゅうなんFM／78.4MHz　　FMスマイルウエ～ブ／89.7MHz　　FMわっしょい／77.3MHz \nFMはつかいち／76.1MHz　KOCOラジ／79.1MHz \n  \n●インターネットで聴く：　※全国どこでもインターネットでラジオが聴けるページです。 \n  \n■JCBAインターネットサイマルラジオで聴く \n中国地区の「COME ON! FM」  or  「しゅうなんFM」　の　「LISTEN♪」　をクリックしてください♪ \n■COME ON! FMをインターネットで聴く \n■FMはつかいちをインターネットで聴く \n■FMスマイルウエ～ブをインターネットで聴く \n■FMわっしょいをインターネットで聴く（土曜日 午前9:00～） \n  \n■サイマルラジオで聴く \n東北地区の「郡山コミュニティ放送」　の　「放送を聴く」　をクリックしてください♪ \n■KOCOラジ＜郡山コミュニティ放送＞をインターネットで聴く（水曜日 夜10：00～） \n  \n  \n●リクエスト＆メッセージ🎵：　misuzufm.0407@gmail.com \nもしくは　FM-NANAKO／775@haginet.ne.jp　　FM AQUA／878@fmaqua.jp　　COME ON！FM／こちらから　　 \nしゅうなんFM／studio@fms784.co.jp　　　FMスマイルウエ～ブ／こちらから　　　FMわっしょい／こちらから \nFMはつかいち／こちらから　　KOCOラジ＜郡山コミュニティ放送＞／こちらから \n  \n●各局website： \n□FM-NANAKO（萩市） \n□FM AQUA（長門市） \n□COME ON ! FM（下関市内及び山陽小野田市、北九州市門司区・小倉北区の各一部） \n□しゅうなんFM（周南市・下松市、光市の一部） \n□FMはつかいち（広島県廿日市市）※水曜日 午前11：30～ \n□FMスマイルウエ～ブ（山陽小野田市、宇部市・美祢市・下関市の一部地域） ※水曜日 午後1：00～ \n□KOCOラジ（福島県郡山市） ※水曜日 夜10：00～ \n□FMわっしょい（防府市） ※土曜日 午前9：00～
URL:https://chihirosound.com/event/15046
CATEGORIES:オススメ,ラジオ
END:VEVENT
BEGIN:VEVENT
DTSTART;TZID=Asia/Tokyo:20230611T143000
DTEND;TZID=Asia/Tokyo:20230611T150000
DTSTAMP:20260423T074039
CREATED:20221213T020849Z
LAST-MODIFIED:20221213T020849Z
UID:14933-1686493800-1686495600@chihirosound.com
SUMMARY:KRYラジオ「ちひろDEブレイク」
DESCRIPTION:♠♣♥♦毎週日曜日放送のちひろレギュラー番組♠♣♥♦\nコンサート会場での裏話、ＣＤアルバム制作秘話、名言コーナー、金子みすゞの詩をご紹介など、内容盛り沢山の30分です♪ \n  \n●毎週日曜日：　14：30～ \n●パーソナリティ：　ちひろ、瀬川 嘉 \n  \n●ちひろDEブレイク：　Official Website・ブログ・みすゞ心のメッセージ \n●周波数一覧 -KRY山口放送-：　こちら（AM・FMで聴く） \n●パソコン・スマホでKRYラジオが聴ける：　radiko.jp \n  \n●ご意見・ご感想はこちら \nメール：break@kry.co.jp\nＦＡＸ：0834-32-9000\nハガキ：〒745-8686　山口放送「ちひろDEブレイク」係 \nメッセージフォームはこちらから
URL:https://chihirosound.com/event/14933
CATEGORIES:オススメ,ラジオ
END:VEVENT
BEGIN:VEVENT
DTSTART;TZID=Asia/Tokyo:20230610T140000
DTEND;TZID=Asia/Tokyo:20230610T153000
DTSTAMP:20260423T074039
CREATED:20230322T070318Z
LAST-MODIFIED:20230530T022930Z
UID:15753-1686405600-1686411000@chihirosound.com
SUMMARY:Concert〔山口県〕
DESCRIPTION:6月10日「第1回」分は、おかげさまで満席のお申込みをいただき、受付を締め切りました。 \n9月30日「第2回」分は、お申込み継続中ですので、ご参加をお待ちしております！ \n \n【Title】「令和5年度 暮らしと人権セミナー」ちひろコンサート＜第1回＞\n金子みすゞ生誕120年、詩作100年　金子みすゞを語り、歌う \n  \n●と　き：　6月10日（土） \n●ところ：　勝山公民館 音楽ホール（山口県下関市秋根南町二丁目4番33号） \n※会場の地図はこちら \n※第2回の会場とは日にち・会場が異なりますのでご注意くださいませ♪ \n●時　間：　午後2：00～3：30 \n  \n●入　場：　無料 \n●定　員：　100名　　申込〆切 6月2日（金） \n●事前申込制：　※先着順　 \n●対　象：　下関市内在住・在学・在勤の方 \n  \n●お問合せ・お申込先：　下関市 市民部 人権・男女共同参画課 \n電話、FAX（裏面）、ホームページのお申込みフォーム（QRコード）のいずれかでお申込みください \n電話／083-222-0827　　FAX／083-231-1437　　HP お申込みフォームはこちら \n●主　催：　下関市 市民部 人権・男女共同参画課 \n  \nPDFはこちら（表） \nPDFはこちら（裏）
URL:https://chihirosound.com/event/15753
LOCATION:勝山公民館\, 山口県下関市秋根南町２丁目４−３３\, 下関市\, 山口県\, 751-0872\, 日本
CATEGORIES:オススメ,コンサート
ATTACH;FMTTYPE=image/jpeg:https://chihirosound.com/wp-content/uploads/2023/04/f78320fbf909f0f1c5c9f3fd2244a163.jpg
END:VEVENT
BEGIN:VEVENT
DTSTART;TZID=Asia/Tokyo:20230607T181500
DTEND;TZID=Asia/Tokyo:20230607T184500
DTSTAMP:20260423T074039
CREATED:20230606T062303Z
LAST-MODIFIED:20230606T062303Z
UID:16583-1686161700-1686163500@chihirosound.com
SUMMARY:Radio〔福島県〕
DESCRIPTION:【Title】ULTRA FM（福島県須賀川市）に電話ゲスト出演！\n●と　き：　6月7日（水） \n●時　間：　18：15～ \n●ラジオ局：　ULTRA FM \n●番　組：　『サンセットRADIO』 \n●パーソナリティ：　浅野 敦子 さん \n●周波数：　86.8MHz \n●放送エリア：　須賀川市及び周辺エリア \n●インターネットで聴く：　サイマルラジオ \n※全国どこでもインターネットでラジオが聴けるページです。 \n●リクエスト＆メッセージ：　メールはこちら　　F A X ＜0248-63-7003＞
URL:https://chihirosound.com/event/16583
CATEGORIES:オススメ,ラジオ
END:VEVENT
BEGIN:VEVENT
DTSTART;TZID=Asia/Tokyo:20230607T110000
DTEND;TZID=Asia/Tokyo:20230607T113000
DTSTAMP:20260423T074039
CREATED:20221213T045710Z
LAST-MODIFIED:20221213T045710Z
UID:15040-1686135600-1686137400@chihirosound.com
SUMMARY:９局Radio「みすゞさんと明るいほうへ」
DESCRIPTION:💐９局Radio放送・ちひろレギュラー番組💐\n金子みすゞの詩の朗読・ご紹介など、みすゞさんについてたっぷりお届け ❤ 30分番組です♪ \n  \n●番組詳細：　『みすゞさんと明るいほうへ』 \n●パーソナリティ：　ちひろ \n  \n●レギュラー放送時間：　 \n毎週水曜日 午前11：00～／FM-NANAKO、FM AQUA、COME ON！FM、しゅうなんFM \n毎週水曜日 午前11：30～／FMはつかいち \n毎週水曜日 午後1：00～／FMスマイルウエ～ブ \n毎週水曜日 夜10：00～／KOCOラジ＜郡山コミュニティ放送＞ \n毎週土曜日 午前9：00～／FMわっしょい \n  \n●再放送：　FM-NANAKO／毎週土曜日 午後3：00～　　FM AQUA／毎週日曜日午前11：00～ \n  \n●周波数：　 \nFM-NANAKO／77.5MHz　　FM AQUA／87.8MHz　　COME ON！FM／76.4MHz \nしゅうなんFM／78.4MHz　　FMスマイルウエ～ブ／89.7MHz　　FMわっしょい／77.3MHz \nFMはつかいち／76.1MHz　KOCOラジ／79.1MHz \n  \n●インターネットで聴く：　※全国どこでもインターネットでラジオが聴けるページです。 \n  \n■JCBAインターネットサイマルラジオで聴く \n中国地区の「COME ON! FM」  or  「しゅうなんFM」　の　「LISTEN♪」　をクリックしてください♪ \n■COME ON! FMをインターネットで聴く \n■FMはつかいちをインターネットで聴く \n■FMスマイルウエ～ブをインターネットで聴く \n■FMわっしょいをインターネットで聴く（土曜日 午前9:00～） \n  \n■サイマルラジオで聴く \n東北地区の「郡山コミュニティ放送」　の　「放送を聴く」　をクリックしてください♪ \n■KOCOラジ＜郡山コミュニティ放送＞をインターネットで聴く（水曜日 夜10：00～） \n  \n  \n●リクエスト＆メッセージ🎵：　misuzufm.0407@gmail.com \nもしくは　FM-NANAKO／775@haginet.ne.jp　　FM AQUA／878@fmaqua.jp　　COME ON！FM／こちらから　　 \nしゅうなんFM／studio@fms784.co.jp　　　FMスマイルウエ～ブ／こちらから　　　FMわっしょい／こちらから \nFMはつかいち／こちらから　　KOCOラジ＜郡山コミュニティ放送＞／こちらから \n  \n●各局website： \n□FM-NANAKO（萩市） \n□FM AQUA（長門市） \n□COME ON ! FM（下関市内及び山陽小野田市、北九州市門司区・小倉北区の各一部） \n□しゅうなんFM（周南市・下松市、光市の一部） \n□FMはつかいち（広島県廿日市市）※水曜日 午前11：30～ \n□FMスマイルウエ～ブ（山陽小野田市、宇部市・美祢市・下関市の一部地域） ※水曜日 午後1：00～ \n□KOCOラジ（福島県郡山市） ※水曜日 夜10：00～ \n□FMわっしょい（防府市） ※土曜日 午前9：00～
URL:https://chihirosound.com/event/15040
CATEGORIES:オススメ,ラジオ
END:VEVENT
BEGIN:VEVENT
DTSTART;TZID=Asia/Tokyo:20230604T143000
DTEND;TZID=Asia/Tokyo:20230604T150000
DTSTAMP:20260423T074039
CREATED:20221213T020732Z
LAST-MODIFIED:20221213T020732Z
UID:14931-1685889000-1685890800@chihirosound.com
SUMMARY:KRYラジオ「ちひろDEブレイク」
DESCRIPTION:♠♣♥♦毎週日曜日放送のちひろレギュラー番組♠♣♥♦\nコンサート会場での裏話、ＣＤアルバム制作秘話、名言コーナー、金子みすゞの詩をご紹介など、内容盛り沢山の30分です♪ \n  \n●毎週日曜日：　14：30～ \n●パーソナリティ：　ちひろ、瀬川 嘉 \n  \n●ちひろDEブレイク：　Official Website・ブログ・みすゞ心のメッセージ \n●周波数一覧 -KRY山口放送-：　こちら（AM・FMで聴く） \n●パソコン・スマホでKRYラジオが聴ける：　radiko.jp \n  \n●ご意見・ご感想はこちら \nメール：break@kry.co.jp\nＦＡＸ：0834-32-9000\nハガキ：〒745-8686　山口放送「ちひろDEブレイク」係 \nメッセージフォームはこちらから
URL:https://chihirosound.com/event/14931
CATEGORIES:オススメ,ラジオ
END:VEVENT
BEGIN:VEVENT
DTSTART;TZID=Asia/Tokyo:20230602T170500
DTEND;TZID=Asia/Tokyo:20230602T175500
DTSTAMP:20260423T074039
CREATED:20230528T124837Z
LAST-MODIFIED:20230529T045035Z
UID:16491-1685725500-1685728500@chihirosound.com
SUMMARY:NHK「ラジオYAMAGUTIC」
DESCRIPTION:【Title】NHK「中国！ちゅーもく！ラジオYAMAGUTIC」\n  \n●と　き：　6月2日（金） \n●時　間：　17：05～17：55 \n●ラジオ局：　NHKラジオ第1 \n●番　組：　中国！ちゅーもく！ラジオYAMAGUTIC \n  \n●メールやご意見募集：　こちら \n●放送受信エリア：　中国地方5県（山口県、広島県、岡山県、島根県、鳥取県） \n  \n●インターネットラジオ：　全国でお聴きいただけます！　　らじる★らじる \nパソコン・スマートフォン・タブレットなどで、全国どこでもお聴きいただけるサービスです。 \n  \n【聴取方法】＜スマートフォン・タブレットの場合は、まずアプリ（無料）をダウンロードしてください＞ \n■らじる★らじる にアクセス　→　ラジオ第1（R1） をクリック　→　放送局を選択　→　広島 \n※詳しくはこちら \n  \n●出　演：　横山 真里奈キャスター、長野 亮アナウンサー、ちひろ　 \n●ゲスト：　
URL:https://chihirosound.com/event/16491
CATEGORIES:オススメ,ラジオ
END:VEVENT
BEGIN:VEVENT
DTSTART;TZID=Asia/Tokyo:20230531T110000
DTEND;TZID=Asia/Tokyo:20230531T113000
DTSTAMP:20260423T074039
CREATED:20221213T045506Z
LAST-MODIFIED:20221213T045506Z
UID:15038-1685530800-1685532600@chihirosound.com
SUMMARY:９局Radio「みすゞさんと明るいほうへ」
DESCRIPTION:💐９局Radio放送・ちひろレギュラー番組💐\n金子みすゞの詩の朗読・ご紹介など、みすゞさんについてたっぷりお届け ❤ 30分番組です♪ \n  \n●番組詳細：　『みすゞさんと明るいほうへ』 \n●パーソナリティ：　ちひろ \n  \n●レギュラー放送時間：　 \n毎週水曜日 午前11：00～／FM-NANAKO、FM AQUA、COME ON！FM、しゅうなんFM \n毎週水曜日 午前11：30～／FMはつかいち \n毎週水曜日 午後1：00～／FMスマイルウエ～ブ \n毎週水曜日 夜10：00～／KOCOラジ＜郡山コミュニティ放送＞ \n毎週土曜日 午前9：00～／FMわっしょい \n  \n●再放送：　FM-NANAKO／毎週土曜日 午後3：00～　　FM AQUA／毎週日曜日午前11：00～ \n  \n●周波数：　 \nFM-NANAKO／77.5MHz　　FM AQUA／87.8MHz　　COME ON！FM／76.4MHz \nしゅうなんFM／78.4MHz　　FMスマイルウエ～ブ／89.7MHz　　FMわっしょい／77.3MHz \nFMはつかいち／76.1MHz　KOCOラジ／79.1MHz \n  \n●インターネットで聴く：　※全国どこでもインターネットでラジオが聴けるページです。 \n  \n■JCBAインターネットサイマルラジオで聴く \n中国地区の「COME ON! FM」  or  「しゅうなんFM」　の　「LISTEN♪」　をクリックしてください♪ \n■COME ON! FMをインターネットで聴く \n■FMはつかいちをインターネットで聴く \n■FMスマイルウエ～ブをインターネットで聴く \n■FMわっしょいをインターネットで聴く（土曜日 午前9:00～） \n  \n■サイマルラジオで聴く \n東北地区の「郡山コミュニティ放送」　の　「放送を聴く」　をクリックしてください♪ \n■KOCOラジ＜郡山コミュニティ放送＞をインターネットで聴く（水曜日 夜10：00～） \n  \n  \n●リクエスト＆メッセージ🎵：　misuzufm.0407@gmail.com \nもしくは　FM-NANAKO／775@haginet.ne.jp　　FM AQUA／878@fmaqua.jp　　COME ON！FM／こちらから　　 \nしゅうなんFM／studio@fms784.co.jp　　　FMスマイルウエ～ブ／こちらから　　　FMわっしょい／こちらから \nFMはつかいち／こちらから　　KOCOラジ＜郡山コミュニティ放送＞／こちらから \n  \n●各局website： \n□FM-NANAKO（萩市） \n□FM AQUA（長門市） \n□COME ON ! FM（下関市内及び山陽小野田市、北九州市門司区・小倉北区の各一部） \n□しゅうなんFM（周南市・下松市、光市の一部） \n□FMはつかいち（広島県廿日市市）※水曜日 午前11：30～ \n□FMスマイルウエ～ブ（山陽小野田市、宇部市・美祢市・下関市の一部地域） ※水曜日 午後1：00～ \n□KOCOラジ（福島県郡山市） ※水曜日 夜10：00～ \n□FMわっしょい（防府市） ※土曜日 午前9：00～
URL:https://chihirosound.com/event/15038
CATEGORIES:オススメ,ラジオ
END:VEVENT
BEGIN:VEVENT
DTSTART;TZID=Asia/Tokyo:20230528T143000
DTEND;TZID=Asia/Tokyo:20230528T150000
DTSTAMP:20260423T074039
CREATED:20221213T052608Z
LAST-MODIFIED:20221213T052653Z
UID:15051-1685284200-1685286000@chihirosound.com
SUMMARY:KRYラジオ「ちひろDEブレイク」
DESCRIPTION:♠♣♥♦毎週日曜日放送のちひろレギュラー番組♠♣♥♦\nコンサート会場での裏話、ＣＤアルバム制作秘話、名言コーナー、金子みすゞの詩をご紹介など、内容盛り沢山の30分です♪ \n  \n●毎週日曜日：　14：30～ \n●パーソナリティ：　ちひろ、瀬川 嘉 \n  \n●ちひろDEブレイク：　Official Website・ブログ・みすゞ心のメッセージ \n●周波数一覧 -KRY山口放送-：　こちら（AM・FMで聴く） \n●パソコン・スマホでKRYラジオが聴ける：　radiko.jp \n  \n●ご意見・ご感想はこちら \nメール：break@kry.co.jp\nＦＡＸ：0834-32-9000\nハガキ：〒745-8686　山口放送「ちひろDEブレイク」係 \nメッセージフォームはこちらから
URL:https://chihirosound.com/event/15051
CATEGORIES:オススメ,ラジオ
END:VEVENT
BEGIN:VEVENT
DTSTART;TZID=Asia/Tokyo:20230524T165000
DTEND;TZID=Asia/Tokyo:20230524T175300
DTSTAMP:20260423T074039
CREATED:20230519T144446Z
LAST-MODIFIED:20230523T135324Z
UID:16429-1684947000-1684950780@chihirosound.com
SUMMARY:TV〔山口県〕
DESCRIPTION:【Title】KRY山口放送『熱血テレビ』ちひろがスタジオ生出演！\n  \n●と　き：　5月24日（水） \n●時　間：　16：50～17：53 \n●放送局：　KRY山口放送 \n●番　組：　『熱血テレビ』 \n●放送内容：　「生誕120年 今伝えたいみすゞの心」でちひろが詩の朗読を行います！スタジオに生出演！ \n  \n●ご意見・メッセージ：　メール：nekketu@kry.co.jp　FAX：0834-32-7760　　ハガキ：〒745-8686　山口放送「熱血テレビ」係 \n●放送エリア：　山口県内と周辺受信エリア \n 
URL:https://chihirosound.com/event/16429
CATEGORIES:オススメ,テレビ
END:VEVENT
BEGIN:VEVENT
DTSTART;TZID=Asia/Tokyo:20230524T080000
DTEND;TZID=Asia/Tokyo:20230524T170000
DTSTAMP:20260423T074039
CREATED:20221213T045316Z
LAST-MODIFIED:20221213T045316Z
UID:15036-1684915200-1684947600@chihirosound.com
SUMMARY:９局Radio「みすゞさんと明るいほうへ」
DESCRIPTION:💐９局Radio放送・ちひろレギュラー番組💐\n金子みすゞの詩の朗読・ご紹介など、みすゞさんについてたっぷりお届け ❤ 30分番組です♪ \n  \n●番組詳細：　『みすゞさんと明るいほうへ』 \n●パーソナリティ：　ちひろ \n  \n●レギュラー放送時間：　 \n毎週水曜日 午前11：00～／FM-NANAKO、FM AQUA、COME ON！FM、しゅうなんFM \n毎週水曜日 午前11：30～／FMはつかいち \n毎週水曜日 午後1：00～／FMスマイルウエ～ブ \n毎週水曜日 夜10：00～／KOCOラジ＜郡山コミュニティ放送＞ \n毎週土曜日 午前9：00～／FMわっしょい \n  \n●再放送：　FM-NANAKO／毎週土曜日 午後3：00～　　FM AQUA／毎週日曜日午前11：00～ \n  \n●周波数：　 \nFM-NANAKO／77.5MHz　　FM AQUA／87.8MHz　　COME ON！FM／76.4MHz \nしゅうなんFM／78.4MHz　　FMスマイルウエ～ブ／89.7MHz　　FMわっしょい／77.3MHz \nFMはつかいち／76.1MHz　KOCOラジ／79.1MHz \n  \n●インターネットで聴く：　※全国どこでもインターネットでラジオが聴けるページです。 \n  \n■JCBAインターネットサイマルラジオで聴く \n中国地区の「COME ON! FM」  or  「しゅうなんFM」　の　「LISTEN♪」　をクリックしてください♪ \n■COME ON! FMをインターネットで聴く \n■FMはつかいちをインターネットで聴く \n■FMスマイルウエ～ブをインターネットで聴く \n■FMわっしょいをインターネットで聴く（土曜日 午前9:00～） \n  \n■サイマルラジオで聴く \n東北地区の「郡山コミュニティ放送」　の　「放送を聴く」　をクリックしてください♪ \n■KOCOラジ＜郡山コミュニティ放送＞をインターネットで聴く（水曜日 夜10：00～） \n  \n  \n●リクエスト＆メッセージ🎵：　misuzufm.0407@gmail.com \nもしくは　FM-NANAKO／775@haginet.ne.jp　　FM AQUA／878@fmaqua.jp　　COME ON！FM／こちらから　　 \nしゅうなんFM／studio@fms784.co.jp　　　FMスマイルウエ～ブ／こちらから　　　FMわっしょい／こちらから \nFMはつかいち／こちらから　　KOCOラジ＜郡山コミュニティ放送＞／こちらから \n  \n●各局website： \n□FM-NANAKO（萩市） \n□FM AQUA（長門市） \n□COME ON ! FM（下関市内及び山陽小野田市、北九州市門司区・小倉北区の各一部） \n□しゅうなんFM（周南市・下松市、光市の一部） \n□FMはつかいち（広島県廿日市市）※水曜日 午前11：30～ \n□FMスマイルウエ～ブ（山陽小野田市、宇部市・美祢市・下関市の一部地域） ※水曜日 午後1：00～ \n□KOCOラジ（福島県郡山市） ※水曜日 夜10：00～ \n□FMわっしょい（防府市） ※土曜日 午前9：00～
URL:https://chihirosound.com/event/15036
CATEGORIES:オススメ,ラジオ
END:VEVENT
BEGIN:VEVENT
DTSTART;TZID=Asia/Tokyo:20230521T143000
DTEND;TZID=Asia/Tokyo:20230521T150000
DTSTAMP:20260423T074039
CREATED:20221213T020504Z
LAST-MODIFIED:20221213T020504Z
UID:14927-1684679400-1684681200@chihirosound.com
SUMMARY:KRYラジオ「ちひろDEブレイク」
DESCRIPTION:♠♣♥♦毎週日曜日放送のちひろレギュラー番組♠♣♥♦\nコンサート会場での裏話、ＣＤアルバム制作秘話、名言コーナー、金子みすゞの詩をご紹介など、内容盛り沢山の30分です♪ \n  \n●毎週日曜日：　14：30～ \n●パーソナリティ：　ちひろ、瀬川 嘉 \n  \n●ちひろDEブレイク：　Official Website・ブログ・みすゞ心のメッセージ \n●周波数一覧 -KRY山口放送-：　こちら（AM・FMで聴く） \n●パソコン・スマホでKRYラジオが聴ける：　radiko.jp \n  \n●ご意見・ご感想はこちら \nメール：break@kry.co.jp\nＦＡＸ：0834-32-9000\nハガキ：〒745-8686　山口放送「ちひろDEブレイク」係 \nメッセージフォームはこちらから
URL:https://chihirosound.com/event/14927
CATEGORIES:オススメ,ラジオ
END:VEVENT
BEGIN:VEVENT
DTSTART;TZID=Asia/Tokyo:20230521T130000
DTEND;TZID=Asia/Tokyo:20230521T140000
DTSTAMP:20260423T074039
CREATED:20230113T024135Z
LAST-MODIFIED:20230318T062748Z
UID:15393-1684674000-1684677600@chihirosound.com
SUMMARY:Concert〔山口県〕
DESCRIPTION:【Title】「宗祖親鸞聖人降誕会法要」ちひろコンサート\n●と　き：　5月21日（日） \n●ところ：　浄念寺 本堂（山口県宇部市棚井744） \n※会場の地図はこちら \n●時　間：　13：00～14：00／ちひろコンサート \n●対　象：　門信徒、一般どなたでもOK \n●入場料：　無料 \n●主　催：　浄念寺
URL:https://chihirosound.com/event/15393
LOCATION:浄念寺\, 山口県宇部市棚井７４４\, 宇部市\, 山口県\, 759-0121\, 日本
CATEGORIES:オススメ,コンサート
END:VEVENT
BEGIN:VEVENT
DTSTART;TZID=Asia/Tokyo:20230519T190000
DTEND;TZID=Asia/Tokyo:20230519T192500
DTSTAMP:20260423T074039
CREATED:20230519T142221Z
LAST-MODIFIED:20230519T142221Z
UID:16421-1684522800-1684524300@chihirosound.com
SUMMARY:Cable-TV〔山口県〕
DESCRIPTION:【Title】山口ケーブルビジョン「まちかどNEWS」で「山口市立大殿小学校・開校150周年記念式典」ちひろ記念コンサートの様子が紹介されます！\n  \n●と　き：　5月19日（金）19：00／初回放送　～ 　再放送とともに土・日は「週刊ダイジェスト」でも♪ \n●時　間：　①19：00～　②20：00～　③23：00～　等 \n  \n●放送局：　山口ケーブルビジョン \n●番　組：　「まちかどNEWS」 \n●概　要：　「山口市立大殿小学校・開校150周年記念式典」と ちひろ記念コンサートの様子が紹介されます！ \n●ご視聴方法：　対象エリアの加入者（山口市・防府市・美祢市・宇部市）
URL:https://chihirosound.com/event/16421
CATEGORIES:オススメ,テレビ
ORGANIZER;CN="%E5%B1%B1%E5%8F%A3%E3%82%B1%E3%83%BC%E3%83%96%E3%83%AB%E3%83%93%E3%82%B8%E3%83%A7%E3%83%B3":MAILTO:news@c-able.co.jp
END:VEVENT
BEGIN:VEVENT
DTSTART;TZID=Asia/Tokyo:20230519T114500
DTEND;TZID=Asia/Tokyo:20230519T115500
DTSTAMP:20260423T074039
CREATED:20230519T141420Z
LAST-MODIFIED:20230519T141420Z
UID:16418-1684496700-1684497300@chihirosound.com
SUMMARY:TV〔山口県〕
DESCRIPTION:【Title】tysテレビ山口 ニュースで「山口市立大殿小学校 開校150周年記念式典」ちひろ記念コンサートの様子が放送されます！\n●と　き：　5月19日（金） \n●時　間：　11：45～11：55の中で \n●放送局：　tysテレビ山口 \n●番　組：　tysニュース \n●放送内容：　5月18日に開催された「山口市立大殿小学校 開校150周年記念式典」と、卒業生でもあるちひろの記念コンサートの様子が放送される予定です \n●放送エリア：　山口県内と周辺受信エリア
URL:https://chihirosound.com/event/16418
CATEGORIES:オススメ,テレビ
ORGANIZER;CN="tys%E3%83%86%E3%83%AC%E3%83%93%E5%B1%B1%E5%8F%A3":MAILTO:mix@tys.co.jp
END:VEVENT
BEGIN:VEVENT
DTSTART;TZID=Asia/Tokyo:20230518T100000
DTEND;TZID=Asia/Tokyo:20230518T110000
DTSTAMP:20260423T074039
CREATED:20230113T023901Z
LAST-MODIFIED:20230318T062142Z
UID:15391-1684404000-1684407600@chihirosound.com
SUMMARY:Concert〔山口県〕
DESCRIPTION:【Title】「山口市立大殿小学校150周年記念事業」ちひろコンサート\n●と　き：　5月18日（木） \n●ところ：　山口市立大殿小学校  体育館（山口県山口市大殿大路213） \n※会場の地図はこちら \n●時　間：　10：00／開会　　合唱部や児童の発表　　10：15～／ちひろ記念コンサート \n  \n●対　象：　児童、来賓、保護者・地域の方々 \n●主　催：　山口市立大殿小学校150周年記念事業実行委員会
URL:https://chihirosound.com/event/15391
LOCATION:山口市立大殿小学校\, 山口県山口市大殿大路２１３\, 山口市\, 山口県\, 753-0093\, 日本
CATEGORIES:オススメ,コンサート
END:VEVENT
BEGIN:VEVENT
DTSTART;TZID=Asia/Tokyo:20230517T110000
DTEND;TZID=Asia/Tokyo:20230517T113000
DTSTAMP:20260423T074039
CREATED:20221213T051952Z
LAST-MODIFIED:20221213T051952Z
UID:15048-1684321200-1684323000@chihirosound.com
SUMMARY:９局Radio「みすゞさんと明るいほうへ」
DESCRIPTION:💐９局Radio放送・ちひろレギュラー番組💐\n金子みすゞの詩の朗読・ご紹介など、みすゞさんについてたっぷりお届け ❤ 30分番組です♪ \n  \n●番組詳細：　『みすゞさんと明るいほうへ』 \n●パーソナリティ：　ちひろ \n  \n●レギュラー放送時間：　 \n毎週水曜日 午前11：00～／FM-NANAKO、FM AQUA、COME ON！FM、しゅうなんFM \n毎週水曜日 午前11：30～／FMはつかいち \n毎週水曜日 午後1：00～／FMスマイルウエ～ブ \n毎週水曜日 夜10：00～／KOCOラジ＜郡山コミュニティ放送＞ \n毎週土曜日 午前9：00～／FMわっしょい \n  \n●再放送：　FM-NANAKO／毎週土曜日 午後3：00～　　FM AQUA／毎週日曜日午前11：00～ \n  \n●周波数：　 \nFM-NANAKO／77.5MHz　　FM AQUA／87.8MHz　　COME ON！FM／76.4MHz \nしゅうなんFM／78.4MHz　　FMスマイルウエ～ブ／89.7MHz　　FMわっしょい／77.3MHz \nFMはつかいち／76.1MHz　KOCOラジ／79.1MHz \n  \n●インターネットで聴く：　※全国どこでもインターネットでラジオが聴けるページです。 \n  \n■JCBAインターネットサイマルラジオで聴く \n中国地区の「COME ON! FM」  or  「しゅうなんFM」　の　「LISTEN♪」　をクリックしてください♪ \n■COME ON! FMをインターネットで聴く \n■FMはつかいちをインターネットで聴く \n■FMスマイルウエ～ブをインターネットで聴く \n■FMわっしょいをインターネットで聴く（土曜日 午前9:00～） \n  \n■サイマルラジオで聴く \n東北地区の「郡山コミュニティ放送」　の　「放送を聴く」　をクリックしてください♪ \n■KOCOラジ＜郡山コミュニティ放送＞をインターネットで聴く（水曜日 夜10：00～） \n  \n  \n●リクエスト＆メッセージ🎵：　misuzufm.0407@gmail.com \nもしくは　FM-NANAKO／775@haginet.ne.jp　　FM AQUA／878@fmaqua.jp　　COME ON！FM／こちらから　　 \nしゅうなんFM／studio@fms784.co.jp　　　FMスマイルウエ～ブ／こちらから　　　FMわっしょい／こちらから \nFMはつかいち／こちらから　　KOCOラジ＜郡山コミュニティ放送＞／こちらから \n  \n●各局website： \n□FM-NANAKO（萩市） \n□FM AQUA（長門市） \n□COME ON ! FM（下関市内及び山陽小野田市、北九州市門司区・小倉北区の各一部） \n□しゅうなんFM（周南市・下松市、光市の一部） \n□FMはつかいち（広島県廿日市市）※水曜日 午前11：30～ \n□FMスマイルウエ～ブ（山陽小野田市、宇部市・美祢市・下関市の一部地域） ※水曜日 午後1：00～ \n□KOCOラジ（福島県郡山市） ※水曜日 夜10：00～ \n□FMわっしょい（防府市） ※土曜日 午前9：00～
URL:https://chihirosound.com/event/15048
CATEGORIES:オススメ,ラジオ
END:VEVENT
BEGIN:VEVENT
DTSTART;TZID=Asia/Tokyo:20230514T143000
DTEND;TZID=Asia/Tokyo:20230514T150000
DTSTAMP:20260423T074039
CREATED:20221213T020354Z
LAST-MODIFIED:20221213T020354Z
UID:14925-1684074600-1684076400@chihirosound.com
SUMMARY:KRYラジオ「ちひろDEブレイク」
DESCRIPTION:♠♣♥♦毎週日曜日放送のちひろレギュラー番組♠♣♥♦\nコンサート会場での裏話、ＣＤアルバム制作秘話、名言コーナー、金子みすゞの詩をご紹介など、内容盛り沢山の30分です♪ \n  \n●毎週日曜日：　14：30～ \n●パーソナリティ：　ちひろ、瀬川 嘉 \n  \n●ちひろDEブレイク：　Official Website・ブログ・みすゞ心のメッセージ \n●周波数一覧 -KRY山口放送-：　こちら（AM・FMで聴く） \n●パソコン・スマホでKRYラジオが聴ける：　radiko.jp \n  \n●ご意見・ご感想はこちら \nメール：break@kry.co.jp\nＦＡＸ：0834-32-9000\nハガキ：〒745-8686　山口放送「ちひろDEブレイク」係 \nメッセージフォームはこちらから
URL:https://chihirosound.com/event/14925
CATEGORIES:オススメ,ラジオ
END:VEVENT
BEGIN:VEVENT
DTSTART;TZID=Asia/Tokyo:20230512T104500
DTEND;TZID=Asia/Tokyo:20230512T111000
DTSTAMP:20260423T074039
CREATED:20230113T023452Z
LAST-MODIFIED:20230113T023452Z
UID:15387-1683888300-1683889800@chihirosound.com
SUMMARY:Concert〔京都市左京区〕
DESCRIPTION:【Title】「第17回 世界仏教婦人会大会」ちひろ記念公演\n●大会ホームページ：　こちら \n  \n●と　き：　5月12日（金） \n●ところ：　国立京都国際会館（京都市左京区岩倉大鷺町422） \n※会場の地図はこちら \n●時　間：　10：45～11：10 \n  \n●対　象：　参加者（募集人数2\,400人） \n●主　催：　浄土真宗本願寺派 仏教婦人会総連盟
URL:https://chihirosound.com/event/15387
LOCATION:国立京都国際会館\, 京都府京都市左京区岩倉大鷺町４２２\, 京都市\, 京都府\, 606-0001\, 日本
CATEGORIES:オススメ,コンサート
END:VEVENT
BEGIN:VEVENT
DTSTART;VALUE=DATE:20230511
DTEND;VALUE=DATE:20230512
DTSTAMP:20260423T074039
CREATED:20230113T023043Z
LAST-MODIFIED:20230318T061340Z
UID:15383-1683763200-1683849599@chihirosound.com
SUMMARY:Stage〔京都市左京区〕
DESCRIPTION:【Title】「第17回 世界仏教婦人会大会」ちひろステージ\n●大会ホームページ：　こちら \n  \n●と　き：　5月11日（木） \n●ところ：　国立京都国際会館（京都市左京区岩倉大鷺町422） \n※会場の地図はこちら \n●時　間：　 \n  \n●対　象：　参加者 \n●主　催：　浄土真宗本願寺派 仏教婦人会総連盟 \n※詳細は分かり次第お知らせいたします
URL:https://chihirosound.com/event/15383
LOCATION:国立京都国際会館\, 京都府京都市左京区岩倉大鷺町４２２\, 京都市\, 京都府\, 606-0001\, 日本
CATEGORIES:オススメ,コンサート
END:VEVENT
END:VCALENDAR