BEGIN:VCALENDAR
VERSION:2.0
PRODID:-//ちひろ Official Website ～金子みすゞの心を歌う～  CHIHIRO Official Website - MISUZU KANEKO- - ECPv6.15.11//NONSGML v1.0//EN
CALSCALE:GREGORIAN
METHOD:PUBLISH
X-WR-CALNAME:ちひろ Official Website ～金子みすゞの心を歌う～  CHIHIRO Official Website - MISUZU KANEKO-
X-ORIGINAL-URL:https://chihirosound.com
X-WR-CALDESC:ちひろ Official Website ～金子みすゞの心を歌う～  CHIHIRO Official Website - MISUZU KANEKO- のイベント
REFRESH-INTERVAL;VALUE=DURATION:PT1H
X-Robots-Tag:noindex
X-PUBLISHED-TTL:PT1H
BEGIN:VTIMEZONE
TZID:Asia/Tokyo
BEGIN:STANDARD
TZOFFSETFROM:+0900
TZOFFSETTO:+0900
TZNAME:JST
DTSTART:20210101T000000
END:STANDARD
END:VTIMEZONE
BEGIN:VEVENT
DTSTART;TZID=Asia/Tokyo:20220415T170500
DTEND;TZID=Asia/Tokyo:20220415T175500
DTSTAMP:20260424T074333
CREATED:20220411T144927Z
LAST-MODIFIED:20220411T144927Z
UID:12915-1650042300-1650045300@chihirosound.com
SUMMARY:NHK「ラジオYAMAGUTIC」
DESCRIPTION:【Title】NHK「中国！ちゅーもく！ラジオYAMAGUTIC」\n魅力いっぱい！山口の魚\n  \n●と　き：　4月15日（金） \n●時　間：　夕方5：05～5：55 \n●ラジオ局：　NHKラジオ第1 \n●番　組：　ラジオYAMAGUTIC \n  \n●メールやご意見募集：　こちら \n●放送受信エリア：　中国地方5県（山口県、広島県、岡山県、島根県、鳥取県） \n  \n●インターネットラジオ：　全国でお聴きいただけます！　　らじる★らじる \nパソコン・スマートフォン・タブレットなどで、全国どこでもお聴きいただけるサービスです。 \n  \n【聴取方法】＜スマートフォン・タブレットの場合は、まずアプリ（無料）をダウンロードしてください＞ \n■らじる★らじる にアクセス　→　ラジオ第1（R1） をクリック　→　放送局を選択　→　広島 \n※詳しくはこちら \n  \n●出　演：　平﨑 貴昭アナウンサー、ちひろ \n●電話ゲスト：　 \n 
URL:https://chihirosound.com/event/12915
CATEGORIES:オススメ,ラジオ
ORGANIZER;CN="NHK%E5%B1%B1%E5%8F%A3%E6%94%BE%E9%80%81%E5%B1%80":MAILTO:https://www.nhk.or.jp/yamaguchi/contact/form.html
END:VEVENT
BEGIN:VEVENT
DTSTART;TZID=Asia/Tokyo:20220413T110000
DTEND;TZID=Asia/Tokyo:20220413T113000
DTSTAMP:20260424T074333
CREATED:20220331T163343Z
LAST-MODIFIED:20220331T163343Z
UID:12764-1649847600-1649849400@chihirosound.com
SUMMARY:７局Radio「みすゞさんと明るいほうへ」
DESCRIPTION:💐７局Radio放送・ちひろレギュラー番組💐\n金子みすゞの詩の朗読・ご紹介など、みすゞさんについてたっぷりお届け ❤ 30分番組です♪ \n  \n●番組詳細：　『みすゞさんと明るいほうへ』 \n●パーソナリティ：　ちひろ \n  \n●レギュラー放送時間：　 \n毎週水曜日 午前11：00～／FM-NANAKO、FM AQUA、COME ON！FM、しゅうなんFM \n毎週水曜日 午後1：00～／FMスマイルウエ～ブ \n毎週水曜日 夜10：00～／KOCOラジ＜郡山コミュニティ放送＞ \n毎週土曜日 午前9：00～／FMわっしょい \n  \n●再放送：　FM-NANAKO／毎週土曜日 午後3：00～　　FM AQUA／毎週日曜日午前11：00～ \n  \n●周波数：　 \nFM-NANAKO／77.5MHz　　FM AQUA／87.8MHz　　COME ON！FM／76.4MHz \nしゅうなんFM／78.4MHz　　FMスマイルウエ～ブ／89.7MHz　　FMわっしょい／77.3MHz \nKOCOラジ／79.1MHz \n  \n●インターネットで聴く：　※全国どこでもインターネットでラジオが聴けるページです。 \n  \n■JCBAインターネットサイマルラジオで聴く \n中国地区の「COME ON! FM」  or  「しゅうなんFM」　の　「LISTEN♪」　をクリックしてください♪ \n■COME ON! FMをインターネットで聴く \n■FMスマイルウエ～ブをインターネットで聴く \n■FMわっしょいをインターネットで聴く（土曜日 午前9:00～） \n  \n■サイマルラジオで聴く \n東北地区の「郡山コミュニティ放送」　の　「放送を聴く」　をクリックしてください♪ \n■KOCOラジ＜郡山コミュニティ放送＞をインターネットで聴く（水曜日 夜10：00～） \n  \n  \n●リクエスト＆メッセージ🎵：　misuzufm.0407@gmail.com \nもしくは　FM-NANAKO／775@haginet.ne.jp　　FM AQUA／878@fmaqua.jp　　COME ON！FM／こちらから　　 \nしゅうなんFM／studio@fms784.co.jp　　　FMスマイルウエ～ブ／こちらから　　　FMわっしょい／こちらから \nKOCOラジ＜郡山コミュニティ放送＞／こちらから \n  \n●各局website： \n□FM-NANAKO（萩市） \n□FM AQUA（長門市） \n□COME ON ! FM（下関市内及び山陽小野田市、北九州市門司区・小倉北区の各一部） \n□しゅうなんFM（周南市・下松市、光市の一部） \n□FMスマイルウエ～ブ（山陽小野田市、宇部市・美祢市・下関市の一部地域） ※水曜日 午後1：00～ \n□KOCOラジ（福島県郡山市） ※水曜日 夜10：00～ \n□FMわっしょい（防府市） ※土曜日 午前9：00～ \n 
URL:https://chihirosound.com/event/12764
CATEGORIES:オススメ,ラジオ
END:VEVENT
BEGIN:VEVENT
DTSTART;TZID=Asia/Tokyo:20220410T140000
DTEND;TZID=Asia/Tokyo:20220410T143000
DTSTAMP:20260424T074333
CREATED:20220331T163800Z
LAST-MODIFIED:20220331T163800Z
UID:12772-1649599200-1649601000@chihirosound.com
SUMMARY:KRYラジオ「ちひろDEブレイク」
DESCRIPTION:♠♣♥♦毎週日曜日放送のちひろレギュラー番組♠♣♥♦\nコンサート会場での裏話、ＣＤアルバム制作秘話、名言コーナー、金子みすゞの詩をご紹介など、内容盛り沢山の30分です♪ \n  \n●毎週日曜日：　午後2：00～ \n●パーソナリティ：　ちひろ、瀬川 嘉 \n  \n●ちひろDEブレイク：　Official Website・ブログ・みすゞ心のメッセージ \n●周波数一覧 -KRY山口放送-：　こちら（AM・FMで聴く） \n●パソコン・スマホでKRYラジオが聴ける：　radiko.jp \n  \n●ご意見・ご感想はこちら \nメール：break@kry.co.jp\nＦＡＸ：0834-32-9000\nハガキ：〒745-8686　山口放送「ちひろDEブレイク」係 \nメッセージフォームはこちらから
URL:https://chihirosound.com/event/12772
CATEGORIES:オススメ,ラジオ
END:VEVENT
BEGIN:VEVENT
DTSTART;TZID=Asia/Tokyo:20220410T104500
DTEND;TZID=Asia/Tokyo:20220410T105500
DTSTAMP:20260424T074333
CREATED:20220406T110147Z
LAST-MODIFIED:20220406T110147Z
UID:12862-1649587500-1649588100@chihirosound.com
SUMMARY:Radio〔兵庫県〕
DESCRIPTION:【Title】さくらFM（兵庫県西宮市・芦屋市）『桜咲くまち』（作詞 作曲 ちひろ）が4月の毎週日曜日にON AIR！\n  \n●と　き：　4月の毎週日曜日 \n●時　間：　午前10：45～ \n●ラジオ局：　さくらFM \n●番組名：　「まちたびラヂヲ」 \n●コーナー：　まちたびマンスリーミュージック \n●パーソナリティ：　ささきみほ さん \n  \n●周波数：　78.7 MHz \n●放送エリア：　西宮市・芦屋市 その周辺受信エリア \n●インターネットで聴く：　こちらから \n●リクエスト＆メッセージ：　こちらから　　or　　787@sakura-fm.co.jp
URL:https://chihirosound.com/event/12862
CATEGORIES:オススメ,ラジオ
ORGANIZER;CN="%E3%81%95%E3%81%8F%E3%82%89FM":MAILTO:info＠sakura-fm.co.jp
END:VEVENT
BEGIN:VEVENT
DTSTART;VALUE=DATE:20220410
DTEND;VALUE=DATE:20220411
DTSTAMP:20260424T074333
CREATED:20211210T150853Z
LAST-MODIFIED:20220301T141323Z
UID:11840-1649548800-1649635199@chihirosound.com
SUMMARY:Concert〔山口県〕
DESCRIPTION:【Title】ちひろコンサート\n●と　き：　4月10日（日） \n●ところ：　山口県 \n●時　間：　 \n●入場料：　 \n●対　象：　 \n●主　催：　 \n※詳細は分かり次第お知らせいたします。
URL:https://chihirosound.com/event/11840
CATEGORIES:オススメ,コンサート
END:VEVENT
BEGIN:VEVENT
DTSTART;VALUE=DATE:20220408
DTEND;VALUE=DATE:20220409
DTSTAMP:20260424T074333
CREATED:20211210T150754Z
LAST-MODIFIED:20220301T141344Z
UID:11838-1649376000-1649462399@chihirosound.com
SUMMARY:Concert〔広島県〕
DESCRIPTION:【Title】ちひろコンサート\n●と　き：　4月8日（金） \n●ところ：　広島県 \n●時　間：　 \n●入場料：　 \n●対　象：　 \n●主　催：　 \n※詳細は分かり次第お知らせいたします。
URL:https://chihirosound.com/event/11838
CATEGORIES:オススメ,コンサート
END:VEVENT
BEGIN:VEVENT
DTSTART;TZID=Asia/Tokyo:20220406T110000
DTEND;TZID=Asia/Tokyo:20220406T113000
DTSTAMP:20260424T074333
CREATED:20220331T163051Z
LAST-MODIFIED:20220331T163051Z
UID:12760-1649242800-1649244600@chihirosound.com
SUMMARY:７局Radio「みすゞさんと明るいほうへ」
DESCRIPTION:💐７局Radio放送・ちひろレギュラー番組💐\n金子みすゞの詩の朗読・ご紹介など、みすゞさんについてたっぷりお届け ❤ 30分番組です♪ \n  \n●番組詳細：　『みすゞさんと明るいほうへ』 \n●パーソナリティ：　ちひろ \n  \n●レギュラー放送時間：　 \n毎週水曜日 午前11：00～／FM-NANAKO、FM AQUA、COME ON！FM、しゅうなんFM \n毎週水曜日 午後1：00～／FMスマイルウエ～ブ \n毎週水曜日 夜10：00～／KOCOラジ＜郡山コミュニティ放送＞ \n毎週土曜日 午前9：00～／FMわっしょい \n  \n●再放送：　FM-NANAKO／毎週土曜日 午後3：00～　　FM AQUA／毎週日曜日午前11：00～ \n  \n●周波数：　 \nFM-NANAKO／77.5MHz　　FM AQUA／87.8MHz　　COME ON！FM／76.4MHz \nしゅうなんFM／78.4MHz　　FMスマイルウエ～ブ／89.7MHz　　FMわっしょい／77.3MHz \nKOCOラジ／79.1MHz \n  \n●インターネットで聴く：　※全国どこでもインターネットでラジオが聴けるページです。 \n  \n■JCBAインターネットサイマルラジオで聴く \n中国地区の「COME ON! FM」  or  「しゅうなんFM」　の　「LISTEN♪」　をクリックしてください♪ \n■COME ON! FMをインターネットで聴く \n■FMスマイルウエ～ブをインターネットで聴く \n■FMわっしょいをインターネットで聴く（土曜日 午前9:00～） \n  \n■サイマルラジオで聴く \n東北地区の「郡山コミュニティ放送」　の　「放送を聴く」　をクリックしてください♪ \n■KOCOラジ＜郡山コミュニティ放送＞をインターネットで聴く（水曜日 夜10：00～） \n  \n  \n●リクエスト＆メッセージ🎵：　misuzufm.0407@gmail.com \nもしくは　FM-NANAKO／775@haginet.ne.jp　　FM AQUA／878@fmaqua.jp　　COME ON！FM／こちらから　　 \nしゅうなんFM／studio@fms784.co.jp　　　FMスマイルウエ～ブ／こちらから　　　FMわっしょい／こちらから \nKOCOラジ＜郡山コミュニティ放送＞／こちらから \n  \n●各局website： \n□FM-NANAKO（萩市） \n□FM AQUA（長門市） \n□COME ON ! FM（下関市内及び山陽小野田市、北九州市門司区・小倉北区の各一部） \n□しゅうなんFM（周南市・下松市、光市の一部） \n□FMスマイルウエ～ブ（山陽小野田市、宇部市・美祢市・下関市の一部地域） ※水曜日 午後1：00～ \n□KOCOラジ（福島県郡山市） ※水曜日 夜10：00～ \n□FMわっしょい（防府市） ※土曜日 午前9：00～ \n 
URL:https://chihirosound.com/event/12760
CATEGORIES:オススメ,ラジオ
END:VEVENT
BEGIN:VEVENT
DTSTART;TZID=Asia/Tokyo:20220405T160000
DTEND;TZID=Asia/Tokyo:20220406T140000
DTSTAMP:20260424T074333
CREATED:20220407T064749Z
LAST-MODIFIED:20230613T132837Z
UID:12901-1649174400-1649253600@chihirosound.com
SUMMARY:Cable TV〔山口県〕
DESCRIPTION:【Title】J:COM チャンネル下関「WEEKLYトピックス-SHIMONOSEKI-」でちひろミニコンサートの様子が放映！\n  \n●と　き：　■4月5日（火）午後4：00／初回放送　～ 4日（金）午後2：00まで計12回の再放送 \n●時　間：　①午後4：00～　②午後5：00～　③午後8：30～　④午後11：00～　⑤翌日午前11：00～　⑥午後2：00～ \n  \n●放送局：　J:COM チャンネル下関 \n●番　組：　「WEEKLYトピックス-SHIMONOSEKI-」 \n●キャスター：　 \n●概　要：　スペシャルオリンピックス日本・山口「アスリートアンバサダー就任式」ちひろミニコンサートの模様がON AIRされます！ \n●ご視聴方法：　対象エリアの加入者（下関市） \n 
URL:https://chihirosound.com/event/12901
CATEGORIES:オススメ,テレビ
END:VEVENT
BEGIN:VEVENT
DTSTART;TZID=Asia/Tokyo:20220403T143000
DTEND;TZID=Asia/Tokyo:20220403T153000
DTSTAMP:20260424T074333
CREATED:20220301T140439Z
LAST-MODIFIED:20220321T132352Z
UID:12551-1648996200-1648999800@chihirosound.com
SUMMARY:Stage〔山口県〕
DESCRIPTION:【Title】2022「湯田温泉白狐まつり」ちひろステージ\n●と　き：　4月3日（日）　 \nお祭りは2日（土）もございます！ちひろステージ・総踊りは3日（日）に開催です♪ \n●ところ：　井上公園 （山口県山口市湯田温泉2丁目5） \n※会場の地図はこちら \n  \n●時　間：　午後2：30～／ちひろステージ　　午後3：00～／総踊り \n※総踊りでちひろが生歌でお届けする『湯田温泉にKON来ん？』（作詞作曲/ちひろ）をみんなで踊ります♪ \n  \n●対　象：　どなたでもOK \n●主　催：　湯田温泉白狐まつり実行委員会 \n●お問合せ：　湯田温泉白狐まつり実行委員会 \n  \n \n 
URL:https://chihirosound.com/event/12551
LOCATION:井上公園\, 山口県山口市湯田温泉２丁目５\, 山口市\, 山口県\, 753-0056\, Japan
CATEGORIES:オススメ,コンサート
ATTACH;FMTTYPE=image/jpeg:https://chihirosound.com/wp-content/uploads/2022/03/275668927_2697391683738892_1211138924428188827_n.jpg
END:VEVENT
BEGIN:VEVENT
DTSTART;TZID=Asia/Tokyo:20220403T143000
DTEND;TZID=Asia/Tokyo:20220403T153000
DTSTAMP:20260424T074333
CREATED:20220301T140439Z
LAST-MODIFIED:20220301T140439Z
UID:13175-1648996200-1648999800@chihirosound.com
SUMMARY:Stage〔山口県〕
DESCRIPTION:【Title】2022「湯田温泉白狐まつり」ちひろステージ & 総踊り・フィナーレ\n●と　き：　4月3日（日）　 \nお祭りは2日（土）もございます！ちひろステージ・総踊りは3日（日）に開催です♪ \n●ところ：　井上公園 （山口県山口市湯田温泉2丁目5） \n※会場の地図はこちら \n  \n●時　間：　午後2：30～／ちひろステージ　　午後3：00～／総踊り \n※総踊りでちひろが生歌でお届けする『湯田温泉にKON来ん？』（作詞作曲/ちひろ）をみんなで踊ります♪ \n  \n●対　象：　どなたでもOK \n●主　催：　湯田温泉白狐まつり実行委員会 \n●お問合せ：　湯田温泉白狐まつり実行委員会 \nPDFはこちら \n \n \n \n  \n 
URL:https://chihirosound.com/event/13175
LOCATION:井上公園\, 山口県山口市湯田温泉２丁目５\, 山口市\, 山口県\, 753-0056\, Japan
CATEGORIES:オススメ,コンサート
ATTACH;FMTTYPE=image/jpeg:https://chihirosound.com/wp-content/uploads/2022/03/2022-yuda_page-0002.jpg
END:VEVENT
BEGIN:VEVENT
DTSTART;TZID=Asia/Tokyo:20220403T140000
DTEND;TZID=Asia/Tokyo:20220403T143000
DTSTAMP:20260424T074333
CREATED:20220331T163706Z
LAST-MODIFIED:20220331T163706Z
UID:12770-1648994400-1648996200@chihirosound.com
SUMMARY:KRYラジオ「ちひろDEブレイク」
DESCRIPTION:♠♣♥♦毎週日曜日放送のちひろレギュラー番組♠♣♥♦\nコンサート会場での裏話、ＣＤアルバム制作秘話、名言コーナー、金子みすゞの詩をご紹介など、内容盛り沢山の30分です♪ \n  \n●毎週日曜日：　午後2：00～ \n●パーソナリティ：　ちひろ、瀬川 嘉 \n  \n●ちひろDEブレイク：　Official Website・ブログ・みすゞ心のメッセージ \n●周波数一覧 -KRY山口放送-：　こちら（AM・FMで聴く） \n●パソコン・スマホでKRYラジオが聴ける：　radiko.jp \n  \n●ご意見・ご感想はこちら \nメール：break@kry.co.jp\nＦＡＸ：0834-32-9000\nハガキ：〒745-8686　山口放送「ちひろDEブレイク」係 \nメッセージフォームはこちらから
URL:https://chihirosound.com/event/12770
CATEGORIES:オススメ,ラジオ
END:VEVENT
BEGIN:VEVENT
DTSTART;TZID=Asia/Tokyo:20220403T104500
DTEND;TZID=Asia/Tokyo:20220403T105500
DTSTAMP:20260424T074333
CREATED:20220406T105950Z
LAST-MODIFIED:20220406T105950Z
UID:12859-1648982700-1648983300@chihirosound.com
SUMMARY:Radio〔兵庫県〕
DESCRIPTION:【Title】さくらFM（兵庫県西宮市・芦屋市）『桜咲くまち』（作詞 作曲 ちひろ）が4月の毎週日曜日にON AIR！\n  \n●と　き：　4月の毎週日曜日 \n●時　間：　午前10：45～ \n●ラジオ局：　さくらFM \n●番組名：　「まちたびラヂヲ」 \n●コーナー：　まちたびマンスリーミュージック \n●パーソナリティ：　ささきみほ さん \n  \n●周波数：　78.7 MHz \n●放送エリア：　西宮市・芦屋市 その周辺受信エリア \n●インターネットで聴く：　こちらから \n●リクエスト＆メッセージ：　こちらから　　or　　787@sakura-fm.co.jp
URL:https://chihirosound.com/event/12859
CATEGORIES:オススメ,ラジオ
ORGANIZER;CN="%E3%81%95%E3%81%8F%E3%82%89FM":MAILTO:info＠sakura-fm.co.jp
END:VEVENT
BEGIN:VEVENT
DTSTART;TZID=Asia/Tokyo:20220401T124500
DTEND;TZID=Asia/Tokyo:20220401T130000
DTSTAMP:20260424T074333
CREATED:20220331T093422Z
LAST-MODIFIED:20220331T093422Z
UID:13182-1648817100-1648818000@chihirosound.com
SUMMARY:Cable-TV〔山口県〕
DESCRIPTION:【Title】シティケーブル周南 & 山口ケーブルビジョンで西川満希子さんの『ズッキーニ』放送開始！\n4月のゲスト「ちひろ」（前半）\n  \n●と　き：　4月1日（金）～16日（土）　 \n◇放送局：　シティケーブル周南 \n●時　間：　①午前8：00～　　②午後2：00～　　③夜11：45～ \n  \n◇放送局：　山口ケーブルビジョン \n●時　間：　お昼12：45～ \n  \n●番　組：　『ズッキーニ』 \n●レギュラー：　西川 満希子さん \n●ゲスト：　ちひろ \n●概　要：　シティケーブル周南で放送中の番組が山口ケーブルビジョンでも放送開始！ \n●ご視聴方法：　対象エリアの加入者（山口市・防府市・美祢市・宇部市） \n  \n \n  \n 
URL:https://chihirosound.com/event/13182
CATEGORIES:オススメ,テレビ
ATTACH;FMTTYPE=image/jpeg:https://chihirosound.com/wp-content/uploads/2022/03/IMG_2799-scaled-1.jpg
END:VEVENT
BEGIN:VEVENT
DTSTART;TZID=Asia/Tokyo:20220401T124000
DTEND;TZID=Asia/Tokyo:20220401T130000
DTSTAMP:20260424T074333
CREATED:20220330T061638Z
LAST-MODIFIED:20220330T061638Z
UID:12738-1648816800-1648818000@chihirosound.com
SUMMARY:Radio〔福島県〕
DESCRIPTION:【Title】KOCOラジ（郡山コミュニティ放送）に電話ゲスト出演！\n  \n●と　き：　4月1日（金） \n●時　間：　お昼12：40～ \n●ラジオ局：　KOCOラジ（郡山コミュニティ放送） \n●番　組：　『ひるココ』 \n●パーソナリティ：　宗方 和子　さん \n  \n●周波数：　79.1MHHz \n●放送エリア：　郡山駅から20kmの範囲 \n●インターネットで聴く：　サイマルラジオ \n※全国どこでもインターネットでラジオが聴けるページです。 \nページ途中の、郡山コミュニティ放送「放送を聴く」をクリックしてください♪ \n●リクエスト＆メッセージ：　Eメール＜koco@kocofm.jp＞　　F A X ＜024-953-6161＞
URL:https://chihirosound.com/event/12738
CATEGORIES:オススメ,ラジオ
ORGANIZER;CN="%E9%83%A1%E5%B1%B1%E3%82%B3%E3%83%9F%E3%83%A5%E3%83%8B%E3%83%86%E3%82%A3%E6%94%BE%E9%80%81":MAILTO:koco@kocofm.jp
END:VEVENT
BEGIN:VEVENT
DTSTART;TZID=Asia/Tokyo:20220330T110000
DTEND;TZID=Asia/Tokyo:20220330T113000
DTSTAMP:20260424T074333
CREATED:20220225T074331Z
LAST-MODIFIED:20220225T074331Z
UID:12490-1648638000-1648639800@chihirosound.com
SUMMARY:６局Radio「みすゞさんと明るいほうへ」
DESCRIPTION:💐６局Radio放送・ちひろレギュラー番組💐\n金子みすゞの詩の朗読・ご紹介など、みすゞさんについてたっぷりお届け ❤ 30分番組です♪ \n  \n●番組詳細：　『みすゞさんと明るいほうへ』（FM-NANAKO） \n●パーソナリティ：　ちひろ \n  \n●レギュラー放送時間：　 \n毎週水曜日 午前11：00～／FM-NANAKO、FM AQUA、COME ON！FM、しゅうなんFM \n毎週水曜日 午後1：00～／FMスマイルウエ～ブ \n毎週土曜日 午前9：00～／FMわっしょい \n  \n●再放送：　FM-NANAKO／毎週土曜日 午後3：00～　　FM AQUA／毎週日曜日午前11：00～ \n  \n●周波数：　 \nFM-NANAKO／77.5MHz　　FM AQUA／87.8MHz　　COME ON！FM／76.4MHz \nしゅうなんFM／78.4MH　　FMスマイルウエ～ブ／89.7MHz　　FMわっしょい／77.3MHz \n  \n●インターネットで聴く：　※全国どこでもインターネットでラジオが聴けるページです。 \n  \n■サイマルラジオで聴く \n中国地区の「COME ON! FM」  or  「しゅうなんFM」　の　「LISTEN♪」　をクリックしてください♪ \n■COME ON! FMををインターネットで聴く \n■FMスマイルウエ～ブをインターネットで聴く \n■FMわっしょいをインターネットで聴く（土曜日 午前9:00～） \n  \n●リクエスト＆メッセージ🎵：　misuzufm.0407@gmail.com \nもしくは　FM-NANAKO／775@haginet.ne.jp　　FM AQUA／878@fmaqua.jp　　COME ON！FM／こちらから　　 \nしゅうなんFM／studio@fms784.co.jp　　　FMスマイルウエ～ブ／こちらから　　　FMわっしょい／こちらから \n  \n●各局website： \n□FM-NANAKO（萩市） \n□FM AQUA（長門市） \n□COME ON ! FM（下関市内及び山陽小野田市、北九州市門司区・小倉北区の各一部） \n□しゅうなんFM（周南市・下松市、光市の一部） \n□FMスマイルウエ～ブ（山陽小野田市、宇部市・美祢市・下関市の一部地域） ※水曜日 午後1：00～ \n□FMわっしょい（防府市） ※土曜日 午前9：00～ \n 
URL:https://chihirosound.com/event/12490
CATEGORIES:オススメ,ラジオ
END:VEVENT
BEGIN:VEVENT
DTSTART;TZID=Asia/Tokyo:20220327T140000
DTEND;TZID=Asia/Tokyo:20220327T153000
DTSTAMP:20260424T074333
CREATED:20220225T080620Z
LAST-MODIFIED:20220225T080620Z
UID:12515-1648389600-1648395000@chihirosound.com
SUMMARY:KRYラジオ「ちひろDEブレイク」
DESCRIPTION:♠♣♥♦毎週日曜日放送のちひろレギュラー番組♠♣♥♦\nコンサート会場での裏話、ＣＤアルバム制作秘話、名言コーナー、金子みすゞの詩をご紹介など、内容盛り沢山の30分です♪ \n  \n●毎週日曜日：　午後2：00～ \n●パーソナリティ：　ちひろ、瀬川 嘉 \n  \n●ちひろDEブレイク：　Official Website・ブログ・みすゞ心のメッセージ \n●周波数一覧 -KRY山口放送-：　こちら（AM・FMで聴く） \n●パソコン・スマホでKRYラジオが聴ける：　radiko.jp \n  \n●ご意見・ご感想はこちら \nメール：break@kry.co.jp\nＦＡＸ：0834-32-9000\nハガキ：〒745-8686　山口放送「ちひろDEブレイク」係 \nメッセージフォームはこちらから
URL:https://chihirosound.com/event/12515
CATEGORIES:オススメ,ラジオ
END:VEVENT
BEGIN:VEVENT
DTSTART;TZID=Asia/Tokyo:20220325T180000
DTEND;TZID=Asia/Tokyo:20220325T193000
DTSTAMP:20260424T074333
CREATED:20220202T093606Z
LAST-MODIFIED:20220303T161730Z
UID:12324-1648231200-1648236600@chihirosound.com
SUMMARY:Concert〔山口県〕
DESCRIPTION:【Title】「光と色の音楽会」 ～ 春のおとずれ ～\n  \n●と　き：　3月25日（金） \n●ところ：　KDDI 維新ホール メインホール（山口県山口市小郡令和1丁目1番1号） \n※会場の地図はこちら \n●時　間：　開場／午後5：00　　開演／午後6：00 \n  \n●出　演：　ちひろ \n●ゲスト：　 \n加藤舞踊学院（モダンダンス） \n認定こども園野田学園幼稚園（うた） \n坂本ファミリー（うた / 第36回童謡こどもの歌コンクールグランプリ大会 ファミリー部門金賞） \n  \n●入場料：　無料　　※チケットなし \n●対　象：　どなたでもOK　　※未就学児入場可（親子室あります） \n  \n●主　催：　KDDI維新ホール \n●協　力：　加藤舞踊学院、認定こども園野田学園幼稚園、JULA出版局、金子みすゞ顕彰会、株式会社ベルミューズ、KDDI株式会社 \n●後　援：　金子みすゞ記念館 \n●お問合せ：　KDDI維新ホール ホール運営事務室　TEL：083-902-6727 （受付時間9：00～17:00）　※3/8・3/22は休館日 \n  \n◆ご確認事項◆\n＊本公演は新型コロナウイルス感染拡大予防ガイドラインに沿って実施いたします。\n＊出演者、プログラム内容、開場・開演時間などは変更になる場合もございます。予めご了承下さい。\n＊マスク着用での入場および鑑賞をお願いいたします。\n＊着席での鑑賞となります。立っての鑑賞は出来ません。\n＊公演中のご声援、呼びかけ等はご遠慮ください。\n＊開催当日、会場内での感染予防対策にご協力をお願いいたします。\n＊アルコール類の持込、及び飲酒しての入場は固くお断りいたします。 \n  \nPDFはこちら（表） \nPDFはこちら（裏） \n  \n \n 
URL:https://chihirosound.com/event/12324
LOCATION:KDDI 維新ホール\, 山口県山口市小郡令和1丁目1番1号\, 山口市\, 山口県\, 754-0041\, 日本
CATEGORIES:オススメ,コンサート
ATTACH;FMTTYPE=image/jpeg:https://chihirosound.com/wp-content/uploads/2022/02/325ongakukai-fix-f-scaled.jpg
END:VEVENT
BEGIN:VEVENT
DTSTART;TZID=Asia/Tokyo:20220323T110000
DTEND;TZID=Asia/Tokyo:20220323T113000
DTSTAMP:20260424T074333
CREATED:20220225T074242Z
LAST-MODIFIED:20220225T074242Z
UID:12488-1648033200-1648035000@chihirosound.com
SUMMARY:６局Radio「みすゞさんと明るいほうへ」
DESCRIPTION:💐６局Radio放送・ちひろレギュラー番組💐\n金子みすゞの詩の朗読・ご紹介など、みすゞさんについてたっぷりお届け ❤ 30分番組です♪ \n  \n●番組詳細：　『みすゞさんと明るいほうへ』（FM-NANAKO） \n●パーソナリティ：　ちひろ \n  \n●レギュラー放送時間：　 \n毎週水曜日 午前11：00～／FM-NANAKO、FM AQUA、COME ON！FM、しゅうなんFM \n毎週水曜日 午後1：00～／FMスマイルウエ～ブ \n毎週土曜日 午前9：00～／FMわっしょい \n  \n●再放送：　FM-NANAKO／毎週土曜日 午後3：00～　　FM AQUA／毎週日曜日午前11：00～ \n  \n●周波数：　 \nFM-NANAKO／77.5MHz　　FM AQUA／87.8MHz　　COME ON！FM／76.4MHz \nしゅうなんFM／78.4MH　　FMスマイルウエ～ブ／89.7MHz　　FMわっしょい／77.3MHz \n  \n●インターネットで聴く：　※全国どこでもインターネットでラジオが聴けるページです。 \n  \n■サイマルラジオで聴く \n中国地区の「COME ON! FM」  or  「しゅうなんFM」　の　「LISTEN♪」　をクリックしてください♪ \n■COME ON! FMををインターネットで聴く \n■FMスマイルウエ～ブをインターネットで聴く \n■FMわっしょいをインターネットで聴く（土曜日 午前9:00～） \n  \n●リクエスト＆メッセージ🎵：　misuzufm.0407@gmail.com \nもしくは　FM-NANAKO／775@haginet.ne.jp　　FM AQUA／878@fmaqua.jp　　COME ON！FM／こちらから　　 \nしゅうなんFM／studio@fms784.co.jp　　　FMスマイルウエ～ブ／こちらから　　　FMわっしょい／こちらから \n  \n●各局website： \n□FM-NANAKO（萩市） \n□FM AQUA（長門市） \n□COME ON ! FM（下関市内及び山陽小野田市、北九州市門司区・小倉北区の各一部） \n□しゅうなんFM（周南市・下松市、光市の一部） \n□FMスマイルウエ～ブ（山陽小野田市、宇部市・美祢市・下関市の一部地域） ※水曜日 午後1：00～ \n□FMわっしょい（防府市） ※土曜日 午前9：00～ \n 
URL:https://chihirosound.com/event/12488
CATEGORIES:オススメ,ラジオ
END:VEVENT
BEGIN:VEVENT
DTSTART;TZID=Asia/Tokyo:20220320T140000
DTEND;TZID=Asia/Tokyo:20220320T143000
DTSTAMP:20260424T074333
CREATED:20220225T080521Z
LAST-MODIFIED:20220225T080521Z
UID:12513-1647784800-1647786600@chihirosound.com
SUMMARY:KRYラジオ「ちひろDEブレイク」
DESCRIPTION:♠♣♥♦毎週日曜日放送のちひろレギュラー番組♠♣♥♦\nコンサート会場での裏話、ＣＤアルバム制作秘話、名言コーナー、金子みすゞの詩をご紹介など、内容盛り沢山の30分です♪ \n  \n●毎週日曜日：　午後2：00～ \n●パーソナリティ：　ちひろ、瀬川 嘉 \n  \n●ちひろDEブレイク：　Official Website・ブログ・みすゞ心のメッセージ \n●周波数一覧 -KRY山口放送-：　こちら（AM・FMで聴く） \n●パソコン・スマホでKRYラジオが聴ける：　radiko.jp \n  \n●ご意見・ご感想はこちら \nメール：break@kry.co.jp\nＦＡＸ：0834-32-9000\nハガキ：〒745-8686　山口放送「ちひろDEブレイク」係 \nメッセージフォームはこちらから
URL:https://chihirosound.com/event/12513
CATEGORIES:オススメ,ラジオ
END:VEVENT
BEGIN:VEVENT
DTSTART;TZID=Asia/Tokyo:20220320T110000
DTEND;TZID=Asia/Tokyo:20220321T135500
DTSTAMP:20260424T074333
CREATED:20220201T054319Z
LAST-MODIFIED:20220201T054319Z
UID:12312-1647774000-1647870900@chihirosound.com
SUMMARY:Concert〔山口県〕
DESCRIPTION:【Title】童謡詩人 金子みすゞ 展示会記念　\nちひろコンサート ～みんなちがって、みんないい。～\n  \n●と　き：　3月20日（日）・21日（月・祝）の2日間 \n●ところ：　きらら浜自然観察公園 ビジターセンター（山口県山口市阿知須509-53） \n※会場の地図はこちら \n●時　間：　①11：00～　　②13：15～　＜2日間とも同じ時間です＞ \n  \n●入場料：　入館料200円（18才以下は無料。20名以上の団体は160円） \n●定　員：　各先着50名程度 \n●申込み：　基本的にメールにて1月12日（水）より開始 \n●E-mail：　kirara-m@gaea.ocn.ne.jp \n  \n●対　象：　どなたでもOK \n●主　催：　きらら浜自然観察公園 \n●お問合せ：　0836-66-2030 \n  \nPDFはこちら \n \n  \nPDFはこちら
URL:https://chihirosound.com/event/12312
LOCATION:きらら浜自然観察公園ビジターセンター\, 山口県山口市阿知須 きらら浜５０９−５３\, 山口市\, 山口県\, 754-1277\, 日本
CATEGORIES:オススメ,コンサート
ATTACH;FMTTYPE=image/jpeg:https://chihirosound.com/wp-content/uploads/2022/02/86e3d7c6dfbd485d75af22a016dc008e.jpg
END:VEVENT
BEGIN:VEVENT
DTSTART;TZID=Asia/Tokyo:20220316T080000
DTEND;TZID=Asia/Tokyo:20220316T170000
DTSTAMP:20260424T074333
CREATED:20220225T074155Z
LAST-MODIFIED:20220225T074155Z
UID:12486-1647417600-1647450000@chihirosound.com
SUMMARY:６局Radio「みすゞさんと明るいほうへ」
DESCRIPTION:💐６局Radio放送・ちひろレギュラー番組💐\n金子みすゞの詩の朗読・ご紹介など、みすゞさんについてたっぷりお届け ❤ 30分番組です♪ \n  \n●番組詳細：　『みすゞさんと明るいほうへ』（FM-NANAKO） \n●パーソナリティ：　ちひろ \n  \n●レギュラー放送時間：　 \n毎週水曜日 午前11：00～／FM-NANAKO、FM AQUA、COME ON！FM、しゅうなんFM \n毎週水曜日 午後1：00～／FMスマイルウエ～ブ \n毎週土曜日 午前9：00～／FMわっしょい \n  \n●再放送：　FM-NANAKO／毎週土曜日 午後3：00～　　FM AQUA／毎週日曜日午前11：00～ \n  \n●周波数：　 \nFM-NANAKO／77.5MHz　　FM AQUA／87.8MHz　　COME ON！FM／76.4MHz \nしゅうなんFM／78.4MH　　FMスマイルウエ～ブ／89.7MHz　　FMわっしょい／77.3MHz \n  \n●インターネットで聴く：　※全国どこでもインターネットでラジオが聴けるページです。 \n  \n■サイマルラジオで聴く \n中国地区の「COME ON! FM」  or  「しゅうなんFM」　の　「LISTEN♪」　をクリックしてください♪ \n■COME ON! FMををインターネットで聴く \n■FMスマイルウエ～ブをインターネットで聴く \n■FMわっしょいをインターネットで聴く（土曜日 午前9:00～） \n  \n●リクエスト＆メッセージ🎵：　misuzufm.0407@gmail.com \nもしくは　FM-NANAKO／775@haginet.ne.jp　　FM AQUA／878@fmaqua.jp　　COME ON！FM／こちらから　　 \nしゅうなんFM／studio@fms784.co.jp　　　FMスマイルウエ～ブ／こちらから　　　FMわっしょい／こちらから \n  \n●各局website： \n□FM-NANAKO（萩市） \n□FM AQUA（長門市） \n□COME ON ! FM（下関市内及び山陽小野田市、北九州市門司区・小倉北区の各一部） \n□しゅうなんFM（周南市・下松市、光市の一部） \n□FMスマイルウエ～ブ（山陽小野田市、宇部市・美祢市・下関市の一部地域） ※水曜日 午後1：00～ \n□FMわっしょい（防府市） ※土曜日 午前9：00～ \n 
URL:https://chihirosound.com/event/12486
CATEGORIES:オススメ,ラジオ
END:VEVENT
BEGIN:VEVENT
DTSTART;TZID=Asia/Tokyo:20220313T140000
DTEND;TZID=Asia/Tokyo:20220313T143000
DTSTAMP:20260424T074333
CREATED:20220225T080411Z
LAST-MODIFIED:20220225T080411Z
UID:12511-1647180000-1647181800@chihirosound.com
SUMMARY:KRYラジオ「ちひろDEブレイク」
DESCRIPTION:♠♣♥♦毎週日曜日放送のちひろレギュラー番組♠♣♥♦\nコンサート会場での裏話、ＣＤアルバム制作秘話、名言コーナー、金子みすゞの詩をご紹介など、内容盛り沢山の30分です♪ \n  \n●毎週日曜日：　午後2：00～ \n●パーソナリティ：　ちひろ、瀬川 嘉 \n  \n●ちひろDEブレイク：　Official Website・ブログ・みすゞ心のメッセージ \n●周波数一覧 -KRY山口放送-：　こちら（AM・FMで聴く） \n●パソコン・スマホでKRYラジオが聴ける：　radiko.jp \n  \n●ご意見・ご感想はこちら \nメール：break@kry.co.jp\nＦＡＸ：0834-32-9000\nハガキ：〒745-8686　山口放送「ちひろDEブレイク」係 \nメッセージフォームはこちらから
URL:https://chihirosound.com/event/12511
CATEGORIES:オススメ,ラジオ
END:VEVENT
BEGIN:VEVENT
DTSTART;TZID=Asia/Tokyo:20220309T110000
DTEND;TZID=Asia/Tokyo:20220309T113000
DTSTAMP:20260424T074333
CREATED:20220225T073411Z
LAST-MODIFIED:20220225T073411Z
UID:12484-1646823600-1646825400@chihirosound.com
SUMMARY:６局Radio「みすゞさんと明るいほうへ」
DESCRIPTION:💐６局Radio放送・ちひろレギュラー番組💐\n金子みすゞの詩の朗読・ご紹介など、みすゞさんについてたっぷりお届け ❤ 30分番組です♪ \n  \n●番組詳細：　『みすゞさんと明るいほうへ』（FM-NANAKO） \n●パーソナリティ：　ちひろ \n  \n●レギュラー放送時間：　 \n毎週水曜日 午前11：00～／FM-NANAKO、FM AQUA、COME ON！FM、しゅうなんFM \n毎週水曜日 午後1：00～／FMスマイルウエ～ブ \n毎週土曜日 午前9：00～／FMわっしょい \n  \n●再放送：　FM-NANAKO／毎週土曜日 午後3：00～　　FM AQUA／毎週日曜日午前11：00～ \n  \n●周波数：　 \nFM-NANAKO／77.5MHz　　FM AQUA／87.8MHz　　COME ON！FM／76.4MHz \nしゅうなんFM／78.4MH　　FMスマイルウエ～ブ／89.7MHz　　FMわっしょい／77.3MHz \n  \n●インターネットで聴く：　※全国どこでもインターネットでラジオが聴けるページです。 \n  \n■サイマルラジオで聴く \n中国地区の「COME ON! FM」  or  「しゅうなんFM」　の　「LISTEN♪」　をクリックしてください♪ \n■COME ON! FMををインターネットで聴く \n■FMスマイルウエ～ブをインターネットで聴く \n■FMわっしょいをインターネットで聴く（土曜日 午前9:00～） \n  \n●リクエスト＆メッセージ🎵：　misuzufm.0407@gmail.com \nもしくは　FM-NANAKO／775@haginet.ne.jp　　FM AQUA／878@fmaqua.jp　　COME ON！FM／こちらから　　 \nしゅうなんFM／studio@fms784.co.jp　　　FMスマイルウエ～ブ／こちらから　　　FMわっしょい／こちらから \n  \n●各局website： \n□FM-NANAKO（萩市） \n□FM AQUA（長門市） \n□COME ON ! FM（下関市内及び山陽小野田市、北九州市門司区・小倉北区の各一部） \n□しゅうなんFM（周南市・下松市、光市の一部） \n□FMスマイルウエ～ブ（山陽小野田市、宇部市・美祢市・下関市の一部地域） ※水曜日 午後1：00～ \n□FMわっしょい（防府市） ※土曜日 午前9：00～ \n 
URL:https://chihirosound.com/event/12484
CATEGORIES:オススメ,ラジオ
END:VEVENT
BEGIN:VEVENT
DTSTART;TZID=Asia/Tokyo:20220307T130000
DTEND;TZID=Asia/Tokyo:20220307T140000
DTSTAMP:20260424T074333
CREATED:20220119T074822Z
LAST-MODIFIED:20220304T062329Z
UID:12216-1646658000-1646661600@chihirosound.com
SUMMARY:Radio〔山口県〕
DESCRIPTION:【Title】FMスマイルウエ～ブにスタジオゲスト出演！\n  \n●と　き：　3月7日（月） \n●時　間：　午後1：00～2：00 \n  \n●ラジオ局：　FMスマイルウエ～ブ \n●番　組：　『おひるドキ☆ＤＸ』 \n●パーソナリティ：　メガネ山口。さん、岡本 照美さん \n●周波数：　89.7MHz \n●放送エリア：　山陽小野田市、周辺受信エリア \n  \n●インターネットで聴く：　※全国どこでもインターネットでラジオが聴けるページです。 \n■スマホやパソコンで聴く♪ \n●リクエスト＆メッセージ：　こちらから \n 
URL:https://chihirosound.com/event/12216
CATEGORIES:オススメ,ラジオ
ORGANIZER;CN="FM%E3%82%B9%E3%83%9E%E3%82%A4%E3%83%AB%E3%82%A6%E3%82%A7%EF%BD%9E%E3%83%96":MAILTO:fm@sw897.jp
END:VEVENT
BEGIN:VEVENT
DTSTART;TZID=Asia/Tokyo:20220306T140000
DTEND;TZID=Asia/Tokyo:20220306T143000
DTSTAMP:20260424T074333
CREATED:20220225T080254Z
LAST-MODIFIED:20220225T080254Z
UID:12509-1646575200-1646577000@chihirosound.com
SUMMARY:KRYラジオ「ちひろDEブレイク」
DESCRIPTION:♠♣♥♦毎週日曜日放送のちひろレギュラー番組♠♣♥♦\nコンサート会場での裏話、ＣＤアルバム制作秘話、名言コーナー、金子みすゞの詩をご紹介など、内容盛り沢山の30分です♪ \n  \n●毎週日曜日：　午後2：00～ \n●パーソナリティ：　ちひろ、瀬川 嘉 \n  \n●ちひろDEブレイク：　Official Website・ブログ・みすゞ心のメッセージ \n●周波数一覧 -KRY山口放送-：　こちら（AM・FMで聴く） \n●パソコン・スマホでKRYラジオが聴ける：　radiko.jp \n  \n●ご意見・ご感想はこちら \nメール：break@kry.co.jp\nＦＡＸ：0834-32-9000\nハガキ：〒745-8686　山口放送「ちひろDEブレイク」係 \nメッセージフォームはこちらから
URL:https://chihirosound.com/event/12509
CATEGORIES:オススメ,ラジオ
END:VEVENT
BEGIN:VEVENT
DTSTART;TZID=Asia/Tokyo:20220305T183000
DTEND;TZID=Asia/Tokyo:20220305T220000
DTSTAMP:20260424T074333
CREATED:20220225T092448Z
LAST-MODIFIED:20220225T093154Z
UID:12521-1646505000-1646517600@chihirosound.com
SUMMARY:音信川うたあかり2022
DESCRIPTION:【Title】「音信川うたあかり2022」　\n開催期間中、ちひろの朗読「私と小鳥と鈴と」が会場に流れます ☆彡\n（朗読が会場で繰り返し流れています）\n  \n童謡詩人「金子みすゞ」さんの詩をテーマにした灯りイベント「音信川うたあかり」 \n  \n●と　き：　3月5日（土）～4月7日（木）　 \n●ところ：　長門湯本温泉 温信川沿い（山口県長門市深川湯本2265） \n※会場の地図はこちら \n●時　間：　日没 ～ 夜10：00迄 \n●入場料：　無し \n  \n●主　催：　長門湯本温泉まち株式会社 \n●共　催：　長門市、長門湯本オソト活用協議会 \n●協　力：　観光庁、LEM空間工房 \nイベントホームページはこちら \n  \nPDFはこちら \n \n \n \n 
URL:https://chihirosound.com/event/12521
LOCATION:長門湯本温泉\, 山口県長門市深川湯本２２６５\, 長門市\, 山口県\, 759-4103\, 日本
CATEGORIES:オススメ,その他
ATTACH;FMTTYPE=image/jpeg:https://chihirosound.com/wp-content/uploads/2022/02/2022utaakari-flyer-new_period_page-0001.jpg
END:VEVENT
BEGIN:VEVENT
DTSTART;TZID=Asia/Tokyo:20220302T110000
DTEND;TZID=Asia/Tokyo:20220302T113000
DTSTAMP:20260424T074333
CREATED:20220225T073300Z
LAST-MODIFIED:20220225T073300Z
UID:12481-1646218800-1646220600@chihirosound.com
SUMMARY:６局Radio「みすゞさんと明るいほうへ」
DESCRIPTION:💐６局Radio放送・ちひろレギュラー番組💐\n金子みすゞの詩の朗読・ご紹介など、みすゞさんについてたっぷりお届け ❤ 30分番組です♪ \n  \n●番組詳細：　『みすゞさんと明るいほうへ』（FM-NANAKO） \n●パーソナリティ：　ちひろ \n  \n●レギュラー放送時間：　 \n毎週水曜日 午前11：00～／FM-NANAKO、FM AQUA、COME ON！FM、しゅうなんFM \n毎週水曜日 午後1：00～／FMスマイルウエ～ブ \n毎週土曜日 午前9：00～／FMわっしょい \n  \n●再放送：　FM-NANAKO／毎週土曜日 午後3：00～　　FM AQUA／毎週日曜日午前11：00～ \n  \n●周波数：　 \nFM-NANAKO／77.5MHz　　FM AQUA／87.8MHz　　COME ON！FM／76.4MHz \nしゅうなんFM／78.4MH　　FMスマイルウエ～ブ／89.7MHz　　FMわっしょい／77.3MHz \n  \n●インターネットで聴く：　※全国どこでもインターネットでラジオが聴けるページです。 \n  \n■サイマルラジオで聴く \n中国地区の「COME ON! FM」  or  「しゅうなんFM」　の　「LISTEN♪」　をクリックしてください♪ \n■COME ON! FMををインターネットで聴く \n■FMスマイルウエ～ブをインターネットで聴く \n■FMわっしょいをインターネットで聴く（土曜日 午前9:00～） \n  \n●リクエスト＆メッセージ🎵：　misuzufm.0407@gmail.com \nもしくは　FM-NANAKO／775@haginet.ne.jp　　FM AQUA／878@fmaqua.jp　　COME ON！FM／こちらから　　 \nしゅうなんFM／studio@fms784.co.jp　　　FMスマイルウエ～ブ／こちらから　　　FMわっしょい／こちらから \n  \n●各局website： \n□FM-NANAKO（萩市） \n□FM AQUA（長門市） \n□COME ON ! FM（下関市内及び山陽小野田市、北九州市門司区・小倉北区の各一部） \n□しゅうなんFM（周南市・下松市、光市の一部） \n□FMスマイルウエ～ブ（山陽小野田市、宇部市・美祢市・下関市の一部地域） ※水曜日 午後1：00～ \n□FMわっしょい（防府市） ※土曜日 午前9：00～ \n 
URL:https://chihirosound.com/event/12481
CATEGORIES:オススメ,ラジオ
END:VEVENT
BEGIN:VEVENT
DTSTART;TZID=Asia/Tokyo:20220227T163000
DTEND;TZID=Asia/Tokyo:20220227T170000
DTSTAMP:20260424T074333
CREATED:20220122T175106Z
LAST-MODIFIED:20220227T052540Z
UID:12290-1645979400-1645981200@chihirosound.com
SUMMARY:KRYラジオ「ちひろDEブレイク」
DESCRIPTION:本日は、特別番組「決定！第31回KRYラジオCM大賞」放送の為、\n「ちひろDEブレイク」の放送時間が午後4：30～に変更となります。何卒ご了承くださいませ。\n  \n♠♣♥♦毎週日曜日放送のちひろレギュラー番組♠♣♥♦\nコンサート会場での裏話、ＣＤアルバム制作秘話、名言コーナー、金子みすゞの詩をご紹介など、内容盛り沢山の30分です♪ \n  \n●本日のみ：　午後4：30～ \n●パーソナリティ：　ちひろ、瀬川 嘉 \n  \n●ちひろDEブレイク：　Official Website・ブログ・みすゞ心のメッセージ \n●周波数一覧 -KRY山口放送-：　こちら（AM・FMで聴く） \n●パソコン・スマホでKRYラジオが聴ける：　radiko.jp \n  \n●ご意見・ご感想はこちら \nメール：break@kry.co.jp\nＦＡＸ：0834-32-9000\nハガキ：〒745-8686　山口放送「ちひろDEブレイク」係 \nメッセージフォームはこちらから
URL:https://chihirosound.com/event/12290
CATEGORIES:オススメ,ラジオ
END:VEVENT
BEGIN:VEVENT
DTSTART;TZID=Asia/Tokyo:20220223T110000
DTEND;TZID=Asia/Tokyo:20220223T113000
DTSTAMP:20260424T074333
CREATED:20220122T174545Z
LAST-MODIFIED:20220122T174545Z
UID:12282-1645614000-1645615800@chihirosound.com
SUMMARY:６局Radio「みすゞさんと明るいほうへ」
DESCRIPTION:💐６局Radio放送・ちひろレギュラー番組💐\n金子みすゞの詩の朗読・ご紹介など、みすゞさんについてたっぷりお届け ❤ 30分番組です♪ \n  \n●番組詳細：　『みすゞさんと明るいほうへ』（FM-NANAKO） \n●パーソナリティ：　ちひろ \n  \n●レギュラー放送時間：　 \n毎週水曜日 午前11：00～／FM-NANAKO、FM AQUA、COME ON！FM、しゅうなんFM \n毎週水曜日 午後1：00～／FMスマイルウエ～ブ \n毎週土曜日 午前9：00～／FMわっしょい \n  \n●再放送：　FM-NANAKO／毎週土曜日 午後3：00～　　FM AQUA／毎週日曜日午前11：00～ \n  \n●周波数：　 \nFM-NANAKO／77.5MHz　　FM AQUA／87.8MHz　　COME ON！FM／76.4MHz \nしゅうなんFM／78.4MH　　FMスマイルウエ～ブ／89.7MHz　　FMわっしょい／77.3MHz \n  \n●インターネットで聴く：　※全国どこでもインターネットでラジオが聴けるページです。 \n  \n■サイマルラジオで聴く \n中国地区の「COME ON! FM」  or  「しゅうなんFM」　の　「LISTEN♪」　をクリックしてください♪ \n■COME ON! FMををインターネットで聴く \n■FMスマイルウエ～ブをインターネットで聴く \n■FMわっしょいをインターネットで聴く（土曜日 午前9:00～） \n  \n●リクエスト＆メッセージ🎵：　misuzufm.0407@gmail.com \nもしくは　FM-NANAKO／775@haginet.ne.jp　　FM AQUA／878@fmaqua.jp　　COME ON！FM／こちらから　　 \nしゅうなんFM／studio@fms784.co.jp　　　FMスマイルウエ～ブ／こちらから　　　FMわっしょい／こちらから \n  \n●各局website： \n□FM-NANAKO（萩市） \n□FM AQUA（長門市） \n□COME ON ! FM（下関市内及び山陽小野田市、北九州市門司区・小倉北区の各一部） \n□しゅうなんFM（周南市・下松市、光市の一部） \n□FMスマイルウエ～ブ（山陽小野田市、宇部市・美祢市・下関市の一部地域） ※水曜日 午後1：00～ \n□FMわっしょい（防府市） ※土曜日 午前9：00～ \n 
URL:https://chihirosound.com/event/12282
CATEGORIES:オススメ,ラジオ
END:VEVENT
BEGIN:VEVENT
DTSTART;TZID=Asia/Tokyo:20220220T140000
DTEND;TZID=Asia/Tokyo:20220220T143000
DTSTAMP:20260424T074333
CREATED:20220122T175022Z
LAST-MODIFIED:20220122T175022Z
UID:12288-1645365600-1645367400@chihirosound.com
SUMMARY:KRYラジオ「ちひろDEブレイク」
DESCRIPTION:♠♣♥♦毎週日曜日放送のちひろレギュラー番組♠♣♥♦\nコンサート会場での裏話、ＣＤアルバム制作秘話、名言コーナー、金子みすゞの詩をご紹介など、内容盛り沢山の30分です♪ \n  \n●毎週日曜日：　午後2：00～ \n●パーソナリティ：　ちひろ、瀬川 嘉 \n  \n●ちひろDEブレイク：　Official Website・ブログ・みすゞ心のメッセージ \n●周波数一覧 -KRY山口放送-：　こちら（AM・FMで聴く） \n●パソコン・スマホでKRYラジオが聴ける：　radiko.jp \n  \n●ご意見・ご感想はこちら \nメール：break@kry.co.jp\nＦＡＸ：0834-32-9000\nハガキ：〒745-8686　山口放送「ちひろDEブレイク」係 \nメッセージフォームはこちらから
URL:https://chihirosound.com/event/12288
CATEGORIES:オススメ,ラジオ
END:VEVENT
END:VCALENDAR