BEGIN:VCALENDAR
VERSION:2.0
PRODID:-//ちひろ Official Website ～金子みすゞの心を歌う～  CHIHIRO Official Website - MISUZU KANEKO- - ECPv6.15.11//NONSGML v1.0//EN
CALSCALE:GREGORIAN
METHOD:PUBLISH
X-WR-CALNAME:ちひろ Official Website ～金子みすゞの心を歌う～  CHIHIRO Official Website - MISUZU KANEKO-
X-ORIGINAL-URL:https://chihirosound.com
X-WR-CALDESC:ちひろ Official Website ～金子みすゞの心を歌う～  CHIHIRO Official Website - MISUZU KANEKO- のイベント
REFRESH-INTERVAL;VALUE=DURATION:PT1H
X-Robots-Tag:noindex
X-PUBLISHED-TTL:PT1H
BEGIN:VTIMEZONE
TZID:Asia/Tokyo
BEGIN:STANDARD
TZOFFSETFROM:+0900
TZOFFSETTO:+0900
TZNAME:JST
DTSTART:20190101T000000
END:STANDARD
END:VTIMEZONE
BEGIN:VEVENT
DTSTART;TZID=Asia/Tokyo:20200812T163300
DTEND;TZID=Asia/Tokyo:20200812T164500
DTSTAMP:20260426T102833
CREATED:20200804T140339Z
LAST-MODIFIED:20200804T140339Z
UID:8368-1597249980-1597250700@chihirosound.com
SUMMARY:Radio〔北海道〕
DESCRIPTION:【Title】FMオホーツク「おほ～つくGarden」に電話ゲスト出演！\n廣瀬順子選手応援ソングCD『自分に出逢うために』についてお話いたします♪\n●と　き：　8月12日（水） \n●時　間：　午後4：33頃～ \n●ラジオ局：　FMオホーツク \n●番　組：　おほ～つくGarden \n●パーソナリティ：　服部 牧子 さん \n●メールやリクエスト：　827@fmok.jp　FAX：0157-69-0211 \n●放送受信エリア：　北海道北見市 \n●電話出演：　ちひろ
URL:https://chihirosound.com/event/8368
CATEGORIES:オススメ,ラジオ
ORGANIZER;CN="FM%E3%82%AA%E3%83%9B%E3%83%BC%E3%83%84%E3%82%AF":MAILTO:827@fmok.jp
END:VEVENT
BEGIN:VEVENT
DTSTART;TZID=Asia/Tokyo:20200806T103000
DTEND;TZID=Asia/Tokyo:20200806T105000
DTSTAMP:20260426T102833
CREATED:20200608T035438Z
LAST-MODIFIED:20200805T005310Z
UID:8019-1596709800-1596711000@chihirosound.com
SUMMARY:Radio〔山口県〕
DESCRIPTION:【Title】カモンFMに電話ゲスト出演！\n「明るいほうへ みんなで乗り越えよう！プロジェクト」動画についてお話しいたします！\n●と　き：　8月6日（木） \n●時　間：　午前10：30頃～ \n●ラジオ局：　カモンFM \n●番　組：　MUSIC PALET『Mahalo MIKA のLive aloha』 \n●パーソナリティ：　Mahalo MIKA さん \n●周波数：　76.4MHHz \n●放送エリア：　下関を中心とした関門エリア、周辺受信エリア \n●インターネットで聴く：　※全国どこでもインターネットでラジオが聴けるページです。 \n■オンタイム \n■サイマルラジオで聴く \n中国地区のCOME ON! FMの「LISTEN♪」をクリックしてください♪ \n●リクエスト＆メッセージ：　こちらから
URL:https://chihirosound.com/event/8019
CATEGORIES:オススメ,ラジオ
END:VEVENT
BEGIN:VEVENT
DTSTART;TZID=Asia/Tokyo:20200803T090000
DTEND;TZID=Asia/Tokyo:20200803T175000
DTSTAMP:20260426T102833
CREATED:20200728T104107Z
LAST-MODIFIED:20200728T104346Z
UID:8323-1596445200-1596477000@chihirosound.com
SUMMARY:Radio〔北海道〕
DESCRIPTION:【Title】FMオホーツクでちひろのコメントボイスがON AIR！　\n新曲『自分に出逢うために』\n●と　き：　8月3日（月）～28日（金）まで平日毎日 \n　　　　　＜月・水・木は1日2回、火・金は1日4回オンエア！＞ \n●月～金 \n「おはようサプリメント」朝9時00分　 \n「おほ～つくGarden」夕方5時45分 \n●火、金 \n「情報インフォメーション」午前11時30分　 \n「Afternoon Cafe」昼2時26分 \n●ラジオ局：　FMオホーツク \n●放送受信エリア：　北海道北見市 \n●メールやリクエスト：　827@fmok.jp　FAX：0157-69-0211
URL:https://chihirosound.com/event/8323
CATEGORIES:オススメ,ラジオ
ORGANIZER;CN="FM%E3%82%AA%E3%83%9B%E3%83%BC%E3%83%84%E3%82%AF":MAILTO:827@fmok.jp
END:VEVENT
BEGIN:VEVENT
DTSTART;TZID=Asia/Tokyo:20200718T210000
DTEND;TZID=Asia/Tokyo:20200718T215500
DTSTAMP:20260426T102833
CREATED:20200627T083945Z
LAST-MODIFIED:20200627T083945Z
UID:8176-1595106000-1595109300@chihirosound.com
SUMMARY:Radio〔全国のコミュニティFM〕
DESCRIPTION:【Title】「なべラジ～土曜日の隠れ家」に電話ゲスト出演！\n「明るいほうへ みんなで乗り越えよう！プロジェクト」動画についてお話しいたします！\n●と　き：　7月18日（土） \n●時　間：　夜9：00～ \n●ラジオ局：　全国のコミュニティFM \n●番　組：　「なべラジ～土曜日の隠れ家」の『もしもし？私なべちゃん』 \n●パーソナリティ：　わたなべ ヨシコ さん \n●放送エリア：　全国のコミュニティFM \n●インターネットで聴く：　※全国どこでもインターネットでラジオが聴けるページです。 \n■パソコン：「JCBAインターネットサイマルラジオ」 \nインターネットサイマル放送を実施している放送局を選択していただきお聞き下さい。 \n■スマートフォン＆タブレットの方はアプリで\n（例）TuneIn Radio \n・Androidの方はコチラ　・iPhone iPadの方はコチラ \n●リクエスト＆メッセージ：　こちらから \n■メール：nabe@musicbird.co.jp\n■FAX：03-3288-8902\n■お便り：〒102-8080　FMセンター4F ミュージックバード\n「なべラジ～土曜日の隠れ家」係
URL:https://chihirosound.com/event/8176
CATEGORIES:オススメ,ラジオ
END:VEVENT
BEGIN:VEVENT
DTSTART;TZID=Asia/Tokyo:20200709T181000
DTEND;TZID=Asia/Tokyo:20200709T185800
DTSTAMP:20260426T102833
CREATED:20200701T084328Z
LAST-MODIFIED:20200702T081456Z
UID:8209-1594318200-1594321080@chihirosound.com
SUMMARY:NHK TV〔山口県〕
DESCRIPTION:【Title】NHK山口放送局（テレビ）「情報維新！やまぐち」でちひろが紹介されます！\n●と　き：　7月9日（木） \n●時　間：　午後6時10分～6：58の番組内 \n●放送局：　NHK山口放送局 \n●番　組：　「情報維新！やまぐち」 \n●放送内容：　ちひろの活動「動画制作」「朗読」「イラスト」など、インタビューも交えて紹介されます♪
URL:https://chihirosound.com/event/8209
CATEGORIES:オススメ,テレビ
ORGANIZER;CN="NHK%E5%B1%B1%E5%8F%A3%E6%94%BE%E9%80%81%E5%B1%80":MAILTO:https://www.nhk.or.jp/yamaguchi/contact/form.html
END:VEVENT
BEGIN:VEVENT
DTSTART;TZID=Asia/Tokyo:20200702T130000
DTEND;TZID=Asia/Tokyo:20200702T134000
DTSTAMP:20260426T102833
CREATED:20200618T101533Z
LAST-MODIFIED:20200618T101533Z
UID:8147-1593694800-1593697200@chihirosound.com
SUMMARY:Radio〔山口県〕
DESCRIPTION:【Title】FM AQUAにゲスト出演！\n「明るいほうへ みんなで乗り越えよう！プロジェクト」動画についてお話しいたします！\n●と　き：　7月2日（木） \n●時　間：　午後1：00～ \n●ラジオ局：　FM AQUA \n●番　組：　『Sports Station』 \n●パーソナリティ：　naomin さん \n●周波数：　87.8MHHz \n●放送エリア：　長門市を中心としたエリア、周辺受信エリア \n●リクエスト＆メッセージ：　こちらから
URL:https://chihirosound.com/event/8147
CATEGORIES:オススメ,ラジオ
ORGANIZER;CN="FM AQUA":MAILTO:878@fmaqua.jp
END:VEVENT
BEGIN:VEVENT
DTSTART;TZID=Asia/Tokyo:20200630T200000
DTEND;TZID=Asia/Tokyo:20200630T205900
DTSTAMP:20260426T102833
CREATED:20200619T050623Z
LAST-MODIFIED:20200619T050623Z
UID:8156-1593547200-1593550740@chihirosound.com
SUMMARY:Radio〔山口県〕
DESCRIPTION:【Title】FMわっしょいにスタジオゲスト出演！\n●と　き：　6月30日（火） \n●時　間：　午後8：00～8：59 \n●ラジオ局：　FMわっしょい \n●番　組：　『歌う火曜日♪』 \n●パーソナリティ：　松田　民三 さん \n●周波数：　77.3MHz \n●放送エリア：　防府市、周辺受信エリア \n●インターネットで聴く：　※全国どこでもインターネットでラジオが聴けるページです。 \n■スマホやパソコンで聴く♪ \n●リクエスト＆メッセージ：　こちらから
URL:https://chihirosound.com/event/8156
CATEGORIES:オススメ,ラジオ
END:VEVENT
BEGIN:VEVENT
DTSTART;TZID=Asia/Tokyo:20200626T170500
DTEND;TZID=Asia/Tokyo:20200626T175500
DTSTAMP:20260426T102833
CREATED:20200409T154905Z
LAST-MODIFIED:20200618T100403Z
UID:7452-1593191100-1593194100@chihirosound.com
SUMMARY:Radio〔NHK〕
DESCRIPTION:【Title】NHK「中国！ちゅーもく！ラジオYAMAGUTIC」\nコロナに負けない！今伝えたいみすゞの言葉\n●と　き：　6月26日（金） \n●時　間：　午後5：05～5：55 \n●ラジオ局：　NHKラジオ第1 \n●番　組：　ラジオYAMAGUTIC \n●メールやご意見募集：　こちら \n●放送受信エリア：　中国地方5県（山口県、広島県、岡山県、島根県、鳥取県） \n●インターネットラジオ：　全国でお聴きいただけます！　　らじる★らじる \nパソコン・スマートフォン・タブレットなどで、全国どこでもお聴きいただけるサービスです。 \n【視聴方法】＜スマートフォン・タブレットの場合は、まずアプリ（無料）をダウンロードしてください＞ \n■らじる★らじる にアクセス　→　R1 をクリック　→　放送局を選択　→　広島 \n※詳しくはこちら \n●出　演：　松岡 孝行 アナウンサー、ちひろ \n●メインゲスト：　矢崎 節夫 さん（童謡詩人／金子みすゞ記念館館長）
URL:https://chihirosound.com/event/7452
CATEGORIES:オススメ,ラジオ
ORGANIZER;CN="NHK%E5%B1%B1%E5%8F%A3%E6%94%BE%E9%80%81%E5%B1%80":MAILTO:https://www.nhk.or.jp/yamaguchi/contact/form.html
END:VEVENT
BEGIN:VEVENT
DTSTART;TZID=Asia/Tokyo:20200625T170000
DTEND;TZID=Asia/Tokyo:20200625T175500
DTSTAMP:20260426T102833
CREATED:20200610T161315Z
LAST-MODIFIED:20200624T142346Z
UID:8041-1593104400-1593107700@chihirosound.com
SUMMARY:Radio〔山口県〕
DESCRIPTION:【Title】FMさんさんキララにスタジオゲスト出演！\n「明るいほうへ みんなで乗り越えよう！プロジェクト」動画についてお話しいたします！\n●と　き：　6月25日（木） \n●時　間：　午後5：00頃～ \n●ラジオ局：　FMさんさんキララ \n●番　組：　『ラジオスマイル交差点 ～ヒト・コト・モノそしてトキ～』 \n●パーソナリティ：　松原 淳子 さん \n●周波数：　89.7MHz \n●放送エリア：　山陽小野田市、周辺受信エリア \n●インターネットで聴く：　※全国どこでもインターネットでラジオが聴けるページです。 \n■スマホやパソコンで聴く♪ \n●リクエスト＆メッセージ：　こちらから
URL:https://chihirosound.com/event/8041
CATEGORIES:オススメ,ラジオ
ORGANIZER;CN="FM%E3%81%95%E3%82%93%E3%81%95%E3%82%93%E3%82%AD%E3%83%A9%E3%83%A9":MAILTO:fm@33kirara.jp
END:VEVENT
BEGIN:VEVENT
DTSTART;TZID=Asia/Tokyo:20200621T103000
DTEND;TZID=Asia/Tokyo:20200621T110000
DTSTAMP:20260426T102833
CREATED:20200619T050110Z
LAST-MODIFIED:20200619T050110Z
UID:8152-1592735400-1592737200@chihirosound.com
SUMMARY:Radio〔北海道〕
DESCRIPTION:【Title】FMもえるに電話ゲスト出演！ ＜6月18日分の再放送＞\n「明るいほうへ みんなで乗り越えよう！プロジェクト」動画についてお話しいたします！\n●と　き：　6月21日（日） \n●時　間：　午前10：30頃～ \n●ラジオ局：　FMもえる \n●番　組：　サンデーもえるセレクション『クロストーク７６９』 \n●パーソナリティ：　竹内 亨 さん \n●周波数：　76.9MHz \n●放送エリア：　留萌市、周辺受信エリア　※詳しくはこちら \n●インターネットで聴く：　※全国どこでもインターネットでラジオが聴けるページです。 \n■スマホやパソコンで聴く♪
URL:https://chihirosound.com/event/8152
CATEGORIES:オススメ,ラジオ
ORGANIZER;CN="FM%E3%82%82%E3%81%88%E3%82%8B":MAILTO:office@moeru.fm
END:VEVENT
BEGIN:VEVENT
DTSTART;TZID=Asia/Tokyo:20200618T113000
DTEND;TZID=Asia/Tokyo:20200618T115000
DTSTAMP:20260426T102833
CREATED:20200611T030734Z
LAST-MODIFIED:20200617T004335Z
UID:8064-1592479800-1592481000@chihirosound.com
SUMMARY:Radio〔北海道〕
DESCRIPTION:【Title】FMもえるに電話ゲスト出演！\n「明るいほうへ みんなで乗り越えよう！プロジェクト」動画についてお話しいたします！\n●と　き：　6月18日（木） \n●時　間：　午前11：30頃～ \n●ラジオ局：　FMもえる \n●番　組：　『クロストーク７６９』 \n●パーソナリティ：　竹内 亨 さん \n●周波数：　76.9MHz \n●放送エリア：　留萌市、周辺受信エリア　※詳しくはこちら \n●インターネットで聴く：　※全国どこでもインターネットでラジオが聴けるページです。 \n■スマホやパソコンで聴く♪ \n●リクエスト＆メッセージ：　e-mail ／ 769@moeru.fm      FAX ／ 0164-42-3856
URL:https://chihirosound.com/event/8064
CATEGORIES:オススメ,ラジオ
ORGANIZER;CN="FM%E3%82%82%E3%81%88%E3%82%8B":MAILTO:office@moeru.fm
END:VEVENT
BEGIN:VEVENT
DTSTART;TZID=Asia/Tokyo:20200617T190000
DTEND;TZID=Asia/Tokyo:20200619T140000
DTSTAMP:20260426T102833
CREATED:20200617T112340Z
LAST-MODIFIED:20200617T112340Z
UID:8133-1592420400-1592575200@chihirosound.com
SUMMARY:Cable-TV〔山口県〕
DESCRIPTION:【Title】山口ケーブルビジョン「まちかどNEWS」にちひろ登場！\n●と　き：　6月17日（水）午後7：00／初回放送　～19日（金）午後2：00まで計12回の再放送 \n●時　間：　①午後7：00～　②午後8：00～　③午後11：00～　④翌日午前9：00～　⑤午前11：00～　⑥午後2：00～ \n●放送局：　山口ケーブルビジョン \n●番　組：　「まちかどNEWS」 \n●キャスター：　佐藤 忠典さん \n●概　要：　取材の模様がON AIRされます！ \n●ご視聴方法：　対象エリアの加入者
URL:https://chihirosound.com/event/8133
CATEGORIES:オススメ,テレビ
ORGANIZER;CN="%E5%B1%B1%E5%8F%A3%E3%82%B1%E3%83%BC%E3%83%96%E3%83%AB%E3%83%93%E3%82%B8%E3%83%A7%E3%83%B3":MAILTO:news@c-able.co.jp
END:VEVENT
BEGIN:VEVENT
DTSTART;TZID=Asia/Tokyo:20200616T081000
DTEND;TZID=Asia/Tokyo:20200616T165000
DTSTAMP:20260426T102833
CREATED:20200613T061311Z
LAST-MODIFIED:20200613T062014Z
UID:8082-1592295000-1592326200@chihirosound.com
SUMMARY:Radio〔北海道〕
DESCRIPTION:【Title】FMオホーツクでちひろのコメントボイスがON AIR！\n●と　き：　6月16日（火）～30日（火）まで平日毎日 \n●月、水、木（一日計３回OA） \n「おはようサプリメント」朝８時10分　「ほっとタイムKitami」昼12時50分　「おほ～つくGarden」夕方4時50分 \n●火、金（一日計４回OA） \n「おはようサプリメント」朝８時10分　「情報インフォメーション」昼12時40分　 \n「Afternoon Cafe」昼2時00分　「おほ～つくGarden」夕方4時50分 \n●ラジオ局：　FMオホーツク \n●放送受信エリア：　北海道北見市 \n●メールやリクエスト：　827@fmok.jp　FAX：0157-69-0211
URL:https://chihirosound.com/event/8082
CATEGORIES:オススメ,ラジオ
ORGANIZER;CN="FM%E3%82%AA%E3%83%9B%E3%83%BC%E3%83%84%E3%82%AF":MAILTO:827@fmok.jp
END:VEVENT
BEGIN:VEVENT
DTSTART;TZID=Asia/Tokyo:20200615T104000
DTEND;TZID=Asia/Tokyo:20200615T105800
DTSTAMP:20260426T102833
CREATED:20200601T234046Z
LAST-MODIFIED:20200610T162106Z
UID:7976-1592217600-1592218680@chihirosound.com
SUMMARY:Radio〔福島県〕
DESCRIPTION:【Title】KOCOラジ（郡山コミュニティ放送）にて電話収録を放送！＜後半＞\n「明るいほうへ プロジェクト」動画についてお話させていただきます！\n〔再放送〕\n●と　き：　6月15日（月） \n●時　間：　午前10：40～10：58 \n●ラジオ局：　KOCOラジ（郡山コミュニティ放送） \n●番　組：　『こころおん』 \n●パーソナリティ：　ちば えみ  さん \n●周波数：　79.1MHz \n●放送エリア：　郡山駅から20kmの範囲 \n●インターネットで聴く：　サイマルラジオ
URL:https://chihirosound.com/event/7976
CATEGORIES:オススメ,ラジオ
ORGANIZER;CN="%E9%83%A1%E5%B1%B1%E3%82%B3%E3%83%9F%E3%83%A5%E3%83%8B%E3%83%86%E3%82%A3%E6%94%BE%E9%80%81":MAILTO:koco@kocofm.jp
END:VEVENT
BEGIN:VEVENT
DTSTART;TZID=Asia/Tokyo:20200613T111000
DTEND;TZID=Asia/Tokyo:20200613T113000
DTSTAMP:20260426T102833
CREATED:20200610T150728Z
LAST-MODIFIED:20200610T162048Z
UID:8034-1592046600-1592047800@chihirosound.com
SUMMARY:Radio〔山口県〕
DESCRIPTION:【Title】FMわっしょいに電話ゲスト出演！\n「明るいほうへ みんなで乗り越えよう！プロジェクト」動画についてお話しいたします！\n●と　き：　6月13日（土） \n●時　間：　午前11：10頃～ \n●ラジオ局：　FMわっしょい \n●番　組：　『サタなび！』 \n●パーソナリティ：　乾　則文 さん \n●周波数：　77.3MHz \n●放送エリア：　防府市、周辺受信エリア \n●インターネットで聴く：　※全国どこでもインターネットでラジオが聴けるページです。 \n■スマホやパソコンで聴く♪ \n●リクエスト＆メッセージ：　こちらから
URL:https://chihirosound.com/event/8034
CATEGORIES:オススメ,ラジオ
END:VEVENT
BEGIN:VEVENT
DTSTART;TZID=Asia/Tokyo:20200610T192000
DTEND;TZID=Asia/Tokyo:20200610T193800
DTSTAMP:20260426T102833
CREATED:20200601T233619Z
LAST-MODIFIED:20200610T161954Z
UID:7973-1591816800-1591817880@chihirosound.com
SUMMARY:Radio〔福島県〕
DESCRIPTION:【Title】KOCOラジ（郡山コミュニティ放送）にて電話収録を放送！＜後半＞\n「明るいほうへ プロジェクト」動画についてお話させていただきます！\n●と　き：　6月10日（水） \n●時　間：　午後7：20～7：38 \n●ラジオ局：　KOCOラジ（郡山コミュニティ放送） \n●番　組：　『こころおん』 \n●パーソナリティ：　ちば えみ  さん \n●周波数：　79.1MHz \n●放送エリア：　郡山駅から20kmの範囲 \n●インターネットで聴く：　サイマルラジオ \n※全国どこでもインターネットでラジオが聴けるページです。 \nページ途中の、郡山コミュニティ放送「放送を聴く」をクリックしてください♪
URL:https://chihirosound.com/event/7973
CATEGORIES:オススメ,ラジオ
ORGANIZER;CN="%E9%83%A1%E5%B1%B1%E3%82%B3%E3%83%9F%E3%83%A5%E3%83%8B%E3%83%86%E3%82%A3%E6%94%BE%E9%80%81":MAILTO:koco@kocofm.jp
END:VEVENT
BEGIN:VEVENT
DTSTART;TZID=Asia/Tokyo:20200609T181800
DTEND;TZID=Asia/Tokyo:20200609T183500
DTSTAMP:20260426T102833
CREATED:20200605T045524Z
LAST-MODIFIED:20200610T161933Z
UID:7997-1591726680-1591727700@chihirosound.com
SUMMARY:Radio〔福島県〕
DESCRIPTION:【Title】ULTRA FM（福島県須賀川市）に電話ゲスト出演！\n「明るいほうへ みんなで乗り越えよう！プロジェクト」動画についてお話いたします♪\n●と　き：　6月9日（火） \n●時　間：　夕方6：18頃～ \n●ラジオ局：　ULTRA FM \n●番　組：　『サンセットRADIO』 \n●パーソナリティ：　浅野 敦子 さん \n●周波数：　86.8MHz \n●放送エリア：　須賀川市及び周辺エリア \n●インターネットで聴く：　サイマルラジオ \n※全国どこでもインターネットでラジオが聴けるページです。 \n●リクエスト＆メッセージ：　メールはこちら　　F A X ＜0248-63-7003＞
URL:https://chihirosound.com/event/7997
CATEGORIES:オススメ,ラジオ
END:VEVENT
BEGIN:VEVENT
DTSTART;TZID=Asia/Tokyo:20200608T104000
DTEND;TZID=Asia/Tokyo:20200608T105800
DTSTAMP:20260426T102833
CREATED:20200601T234224Z
LAST-MODIFIED:20200610T161921Z
UID:7979-1591612800-1591613880@chihirosound.com
SUMMARY:Radio〔福島県〕
DESCRIPTION:【Title】KOCOラジ（郡山コミュニティ放送）にて電話収録を放送！＜前半＞\n「明るいほうへ プロジェクト」動画についてお話させていただきます！\n〔再放送〕\n●と　き：　6月8日（月） \n●時　間：　午前10：40～10：58 \n●ラジオ局：　KOCOラジ（郡山コミュニティ放送） \n●番　組：　『こころおん』 \n●パーソナリティ：　ちば えみ  さん \n●周波数：　79.1MHz \n●放送エリア：　郡山駅から20kmの範囲 \n●インターネットで聴く：　サイマルラジオ
URL:https://chihirosound.com/event/7979
CATEGORIES:オススメ,ラジオ
ORGANIZER;CN="%E9%83%A1%E5%B1%B1%E3%82%B3%E3%83%9F%E3%83%A5%E3%83%8B%E3%83%86%E3%82%A3%E6%94%BE%E9%80%81":MAILTO:koco@kocofm.jp
END:VEVENT
BEGIN:VEVENT
DTSTART;TZID=Asia/Tokyo:20200608T101000
DTEND;TZID=Asia/Tokyo:20200608T102500
DTSTAMP:20260426T102833
CREATED:20200605T062101Z
LAST-MODIFIED:20200610T161855Z
UID:8005-1591611000-1591611900@chihirosound.com
SUMMARY:Radio〔広島県〕
DESCRIPTION:【Title】FMはつかいち（広島県廿日市市）に電話ゲスト出演！\n「明るいほうへ みんなで乗り越えよう！プロジェクト」動画についてお話いたします♪\n●と　き：　6月8日（月） \n●時　間：　午前10：10〜10：25 \n●ラジオ局：　FMはつかいち \n●番　組：　『キラキラ☆アートBOX』 \n●パーソナリティ：　東園 恵 さん \n●周波数：　76.1MHz \n●放送エリア：　広島西部地区 \n●インターネットで聴く：　サイマルラジオ \n※全国どこでもインターネットでラジオが聴けるページです。 \n●リクエスト＆メッセージ：　こちら　
URL:https://chihirosound.com/event/8005
CATEGORIES:オススメ,ラジオ
ORGANIZER;CN="FM%E3%81%AF%E3%81%A4%E3%81%8B%E3%81%84%E3%81%A1":MAILTO:http://761.jp/request
END:VEVENT
BEGIN:VEVENT
DTSTART;TZID=Asia/Tokyo:20200605T180000
DTEND;TZID=Asia/Tokyo:20200606T160000
DTSTAMP:20260426T102833
CREATED:20200530T031612Z
LAST-MODIFIED:20200604T022016Z
UID:7881-1591380000-1591459200@chihirosound.com
SUMMARY:Cable-TV〔山口県〕
DESCRIPTION:【Title】長門市ケーブルテレビ ほっちゃテレビ\n「ほっちゃNEWSイブニング」にて「明るいほうへ プロジェクト」動画が紹介されます！\n●と　き：　6月5日（金）夕方6：00／初回放送　～6日（土）午後4：00まで計8回の再放送 \n●時　間：　①夕方6：00～　②午後8：00～　③午後10：00～　④午前0：00～　⑤午前8：00～　⑥午前10：00～　⑦午後2：00　⑧午後4：00 \n●放送局：　長門市ケーブルテレビ ほっちゃテレビ \n●番　組：　「ほっちゃNEWSイブニング」 \n●概　要：　「明るいほうへ みんなで乗り越えよう！プロジェクト」についてON AIRされます！ \n●ご視聴方法：　対象エリアの加入者
URL:https://chihirosound.com/event/7881
CATEGORIES:オススメ,テレビ
END:VEVENT
BEGIN:VEVENT
DTSTART;TZID=Asia/Tokyo:20200605T163200
DTEND;TZID=Asia/Tokyo:20200605T164500
DTSTAMP:20260426T102833
CREATED:20200529T144045Z
LAST-MODIFIED:20200602T052235Z
UID:7873-1591374720-1591375500@chihirosound.com
SUMMARY:Radio〔北海道〕
DESCRIPTION:【Title】FMオホーツク「おほ～つくGarden」に電話ゲスト出演！\n「明るいほうへ みんなで乗り越えよう！プロジェクト」動画についてお話いたします♪\n●と　き：　6月5日（金） \n●時　間：　午後4：32頃～ \n●ラジオ局：　FMオホーツク \n●番　組：　おほ～つくGarden \n●パーソナリティ：　伊藤 日和香 さん \n●メールやリクエスト：　827@fmok.jp　FAX：0157-69-0211 \n●放送受信エリア：　北海道北見市 \n●電話出演：　ちひろ
URL:https://chihirosound.com/event/7873
CATEGORIES:オススメ,ラジオ
ORGANIZER;CN="FM%E3%82%AA%E3%83%9B%E3%83%BC%E3%83%84%E3%82%AF":MAILTO:827@fmok.jp
END:VEVENT
BEGIN:VEVENT
DTSTART;TZID=Asia/Tokyo:20200603T192000
DTEND;TZID=Asia/Tokyo:20200603T193800
DTSTAMP:20260426T102833
CREATED:20200601T233500Z
LAST-MODIFIED:20200610T161822Z
UID:7971-1591212000-1591213080@chihirosound.com
SUMMARY:Radio〔福島県〕
DESCRIPTION:【Title】KOCOラジ（郡山コミュニティ放送）にて電話収録を放送！＜前半＞\n「明るいほうへ プロジェクト」動画についてお話させていただきます！\n●と　き：　6月3日（水） \n●時　間：　午後7：20～7：38 \n●ラジオ局：　KOCOラジ（郡山コミュニティ放送） \n●番　組：　『こころおん』 \n●パーソナリティ：　ちば えみ  さん \n●周波数：　79.1MHz \n●放送エリア：　郡山駅から20kmの範囲 \n●インターネットで聴く：　サイマルラジオ \n※全国どこでもインターネットでラジオが聴けるページです。 \nページ途中の、郡山コミュニティ放送「放送を聴く」をクリックしてください♪
URL:https://chihirosound.com/event/7971
CATEGORIES:オススメ,ラジオ
ORGANIZER;CN="%E9%83%A1%E5%B1%B1%E3%82%B3%E3%83%9F%E3%83%A5%E3%83%8B%E3%83%86%E3%82%A3%E6%94%BE%E9%80%81":MAILTO:koco@kocofm.jp
END:VEVENT
BEGIN:VEVENT
DTSTART;TZID=Asia/Tokyo:20200602T181000
DTEND;TZID=Asia/Tokyo:20200602T185800
DTSTAMP:20260426T102833
CREATED:20200520T114651Z
LAST-MODIFIED:20200520T114731Z
UID:7775-1591121400-1591124280@chihirosound.com
SUMMARY:NHK TV〔山口県〕
DESCRIPTION:【Title】NHK山口放送局（テレビ）「情報維新！やまぐち」でちひろが紹介されます！\n●と　き：　6月2日（火） \n●時　間：　午後6時10分～6：58の番組内 \n●放送局：　NHK山口放送局 \n●番　組：　「情報維新！やまぐち」 \n●放送内容：　ちひろが描いたイラストと歌の動画「金米糖の夢」「だんごむし」が紹介されます♪
URL:https://chihirosound.com/event/7775
CATEGORIES:オススメ,テレビ
ORGANIZER;CN="NHK%E5%B1%B1%E5%8F%A3%E6%94%BE%E9%80%81%E5%B1%80":MAILTO:https://www.nhk.or.jp/yamaguchi/contact/form.html
END:VEVENT
BEGIN:VEVENT
DTSTART;TZID=Asia/Tokyo:20200601T120000
DTEND;TZID=Asia/Tokyo:20200601T123000
DTSTAMP:20260426T102833
CREATED:20200601T054118Z
LAST-MODIFIED:20200601T055015Z
UID:7897-1591012800-1591014600@chihirosound.com
SUMMARY:Cable-TV〔山口県〕
DESCRIPTION:【Title】はあぶビジョン（萩市・阿武町のケーブルテレビ）\n新番組「沙織の部屋」にてちひろの活動や阿武町とのご縁等が紹介されます！\n●と　き：　6月1日（月）お昼12：00／初回放送　～30日（火）夕方6：30までの再放送 \n●時　間：　①月曜／お昼12：00～、夜11：30～　②火曜／夕方6：30～　③水曜／夜11：30～　④木曜／お昼12：00～、夕方6：30～　⑤金曜／夜11：30～　⑥土曜／夕方6：30～　⑦日曜／お昼12：00～ \n※変更される場合もございます \n●放送局：　はあぶビジョン（萩市・阿武町のケーブルテレビ） \n●番　組：　「沙織の部屋」 \n●概　要：　ちひろの活動や阿武町とのご縁等が紹介されます！ \n●ご視聴方法：　対象エリアの加入者
URL:https://chihirosound.com/event/7897
CATEGORIES:オススメ,テレビ
END:VEVENT
BEGIN:VEVENT
DTSTART;TZID=Asia/Tokyo:20200601T113000
DTEND;TZID=Asia/Tokyo:20200601T120000
DTSTAMP:20260426T102833
CREATED:20200520T115935Z
LAST-MODIFIED:20200520T120103Z
UID:7781-1591011000-1591012800@chihirosound.com
SUMMARY:NHK TV〔中国５県〕
DESCRIPTION:【Title】NHK 中国５県（テレビ）「ひるまえ直送便」でちひろが紹介されます！\n●と　き：　6月1日（月） \n●時　間：　午前11時30分～12:00の番組内 \n●放送局：　NHK広島放送局 \n●放送エリア：　中国５県＜鳥取県・島根県・岡山県・広島県・山口県＞ \n●番　組：　ひるまえ直送便 \n●放送内容：　ちひろが描いたイラストと歌の動画「金米糖の夢」「だんごむし」が紹介されます♪
URL:https://chihirosound.com/event/7781
CATEGORIES:オススメ,テレビ
END:VEVENT
BEGIN:VEVENT
DTSTART;TZID=Asia/Tokyo:20200529T083000
DTEND;TZID=Asia/Tokyo:20200529T083500
DTSTAMP:20260426T102833
CREATED:20200522T030107Z
LAST-MODIFIED:20200522T030249Z
UID:7790-1590741000-1590741300@chihirosound.com
SUMMARY:Radio〔山口県〕
DESCRIPTION:【Title】しゅうなんFM「Good Morning 周南」に電話ゲスト出演！\n「明るいほうへ みんなで乗り越えよう！プロジェクト」動画についてお話いたします♪\n●と　き：　5月29日（金） \n●時　間：　午前8：30頃～ \n●ラジオ局：　しゅうなんFM \n●番　組：　Good Morning 周南 \n●パーソナリティ：　谷 佐恵子 さん \n●メールやリクエスト：　studio@fms784.co.jp　FAX：0833-48-3031 \n●放送受信エリア：　周南市・下松市のほぼ全域、光市の一部 \n●インターネットラジオ：　サイマルラジオで聴く♪こちら \nパソコン・スマートフォン・タブレットなどで、全国どこでもお聴きいただけるサービスです。 \n●電話出演：　ちひろ
URL:https://chihirosound.com/event/7790
CATEGORIES:オススメ,ラジオ
ORGANIZER;CN="%E3%81%97%E3%82%85%E3%81%86%E3%81%AA%E3%82%93FM":MAILTO:info@fms784.co.jp
END:VEVENT
BEGIN:VEVENT
DTSTART;TZID=Asia/Tokyo:20200515T091300
DTEND;TZID=Asia/Tokyo:20200515T091800
DTSTAMP:20260426T102833
CREATED:20200512T062105Z
LAST-MODIFIED:20200512T062105Z
UID:7734-1589533980-1589534280@chihirosound.com
SUMMARY:Radio〔山口県〕
DESCRIPTION:【Title】エフエム山口【いまラジオにできること～いま、届ける金子みすゞのこころ～】\nちひろ電話インタビュー&朗読出演\n●と　き：　5月11日（月）～15日（金） \n●時　間：　午前9：13頃～ \n●ラジオ局：　エフエム山口 \n●番　組：　『PURE Morning』 \n●パーソナリティ：　新井 道子 さん（月・火）、小林 愛子 さん（水・木）、山田 香織 さん（金） \n●メッセージ：　こちら \n●メール：　pure@fmy.co.jp \n●周波数：　こちら \n●放送エリア：　山口県内 \n●インターネットで聴く：　radiko.jp \n※全国どこでもインターネットでラジオが聴けるページです。 \n山口県外の方は有料会員「ラジコプレミアム」でお聴きいただけます♪
URL:https://chihirosound.com/event/7734
CATEGORIES:オススメ,ラジオ
ORGANIZER;CN="%E3%82%A8%E3%83%95%E3%82%A8%E3%83%A0%E5%B1%B1%E5%8F%A3":MAILTO:http://www.fmy.co.jp/message.html
END:VEVENT
BEGIN:VEVENT
DTSTART;TZID=Asia/Tokyo:20200514T091300
DTEND;TZID=Asia/Tokyo:20200514T091800
DTSTAMP:20260426T102833
CREATED:20200512T062000Z
LAST-MODIFIED:20200512T062417Z
UID:7732-1589447580-1589447880@chihirosound.com
SUMMARY:Radio〔山口県〕
DESCRIPTION:【Title】エフエム山口【いまラジオにできること～いま、届ける金子みすゞのこころ～】\nちひろ電話インタビュー&朗読出演\n●と　き：　5月11日（月）～15日（金） \n●時　間：　午前9：13頃～ \n●ラジオ局：　エフエム山口 \n●番　組：　『PURE Morning』 \n●パーソナリティ：　新井 道子 さん（月・火）、小林 愛子 さん（水・木）、山田 香織 さん（金） \n●メッセージ：　こちら \n●メール：　pure@fmy.co.jp \n●周波数：　こちら \n●放送エリア：　山口県内 \n●インターネットで聴く：　radiko.jp \n※全国どこでもインターネットでラジオが聴けるページです。 \n山口県外の方は有料会員「ラジコプレミアム」でお聴きいただけます♪
URL:https://chihirosound.com/event/7732
CATEGORIES:オススメ,ラジオ
ORGANIZER;CN="%E3%82%A8%E3%83%95%E3%82%A8%E3%83%A0%E5%B1%B1%E5%8F%A3":MAILTO:http://www.fmy.co.jp/message.html
END:VEVENT
BEGIN:VEVENT
DTSTART;TZID=Asia/Tokyo:20200513T180000
DTEND;TZID=Asia/Tokyo:20200514T160000
DTSTAMP:20260426T102833
CREATED:20200508T151548Z
LAST-MODIFIED:20200508T151609Z
UID:7683-1589392800-1589472000@chihirosound.com
SUMMARY:Cable-TV〔山口県〕
DESCRIPTION:【Title】長門市ケーブルテレビ ほっちゃテレビ\n「ほっちゃNEWSイブニング」にて動画が紹介されます！\n●と　き：　5月13日（水）夕方6：00／初回放送　～14日（木）午後4：00まで計8回の再放送 \n●時　間：　①夕方6：00～　②午後8：00～　③午後10：00～　④午前0：00～　⑤午前8：00～　⑥午前10：00～　⑦午後2：00　⑧午後4：00 \n●放送局：　長門市ケーブルテレビ ほっちゃテレビ \n●番　組：　「ほっちゃNEWSイブニング」 \n●概　要：　イラスト付きの動画「だんごむし」「金米糖の夢」についてON AIRされます！ \n●ご視聴方法：　対象エリアの加入者
URL:https://chihirosound.com/event/7683
CATEGORIES:オススメ,テレビ
END:VEVENT
BEGIN:VEVENT
DTSTART;TZID=Asia/Tokyo:20200513T091300
DTEND;TZID=Asia/Tokyo:20200513T091800
DTSTAMP:20260426T102833
CREATED:20200512T061909Z
LAST-MODIFIED:20200512T062321Z
UID:7730-1589361180-1589361480@chihirosound.com
SUMMARY:Radio〔山口県〕
DESCRIPTION:【Title】エフエム山口【いまラジオにできること～いま、届ける金子みすゞのこころ～】\nちひろ電話インタビュー&朗読出演\n●と　き：　5月11日（月）～15日（金） \n●時　間：　午前9：13頃～ \n●ラジオ局：　エフエム山口 \n●番　組：　『PURE Morning』 \n●パーソナリティ：　新井 道子 さん（月・火）、小林 愛子 さん（水・木）、山田 香織 さん（金） \n●メッセージ：　こちら \n●メール：　pure@fmy.co.jp \n●周波数：　こちら \n●放送エリア：　山口県内 \n●インターネットで聴く：　radiko.jp \n※全国どこでもインターネットでラジオが聴けるページです。 \n山口県外の方は有料会員「ラジコプレミアム」でお聴きいただけます♪
URL:https://chihirosound.com/event/7730
CATEGORIES:オススメ,ラジオ
ORGANIZER;CN="%E3%82%A8%E3%83%95%E3%82%A8%E3%83%A0%E5%B1%B1%E5%8F%A3":MAILTO:http://www.fmy.co.jp/message.html
END:VEVENT
END:VCALENDAR