BEGIN:VCALENDAR
VERSION:2.0
PRODID:-//ちひろ Official Website ～金子みすゞの心を歌う～  CHIHIRO Official Website - MISUZU KANEKO- - ECPv6.15.11//NONSGML v1.0//EN
CALSCALE:GREGORIAN
METHOD:PUBLISH
X-WR-CALNAME:ちひろ Official Website ～金子みすゞの心を歌う～  CHIHIRO Official Website - MISUZU KANEKO-
X-ORIGINAL-URL:https://chihirosound.com
X-WR-CALDESC:ちひろ Official Website ～金子みすゞの心を歌う～  CHIHIRO Official Website - MISUZU KANEKO- のイベント
REFRESH-INTERVAL;VALUE=DURATION:PT1H
X-Robots-Tag:noindex
X-PUBLISHED-TTL:PT1H
BEGIN:VTIMEZONE
TZID:Asia/Tokyo
BEGIN:STANDARD
TZOFFSETFROM:+0900
TZOFFSETTO:+0900
TZNAME:JST
DTSTART:20190101T000000
END:STANDARD
END:VTIMEZONE
BEGIN:VEVENT
DTSTART;TZID=Asia/Tokyo:20210308T190000
DTEND;TZID=Asia/Tokyo:20210309T143000
DTSTAMP:20260426T071318
CREATED:20210223T060314Z
LAST-MODIFIED:20210309T160653Z
UID:9585-1615230000-1615300200@chihirosound.com
SUMMARY:Cable-TV〔山口県〕
DESCRIPTION:【Title】山口ケーブルビジョン「まちかどNEWS」にちひろスタジオ出演！\n東日本大震災から10年についてお話させていただきます\n●と　き：　■3月8日（月）午後7：00／初回放送　～ 9日（火）午後2：00まで計6回の再放送 \n●時　間：　①午後7：00～　②午後8：00～　③午後11：00～　④翌日午前9：00～　⑤午前11：00～　⑥午後2：00～ \n●放送局：　山口ケーブルビジョン \n●番　組：　「まちかどNEWS」 \n●キャスター：　佐藤 忠典さん \n●概　要：　スタジオ出演の模様がON AIRされます！ \n●ご視聴方法：　対象エリアの加入者
URL:https://chihirosound.com/event/9585
CATEGORIES:オススメ,テレビ
ORGANIZER;CN="%E5%B1%B1%E5%8F%A3%E3%82%B1%E3%83%BC%E3%83%96%E3%83%AB%E3%83%93%E3%82%B8%E3%83%A7%E3%83%B3":MAILTO:news@c-able.co.jp
END:VEVENT
BEGIN:VEVENT
DTSTART;TZID=Asia/Tokyo:20210308T183000
DTEND;TZID=Asia/Tokyo:20210308T185500
DTSTAMP:20260426T071318
CREATED:20210312T170044Z
LAST-MODIFIED:20210312T170044Z
UID:9801-1615228200-1615229700@chihirosound.com
SUMMARY:Cable-TV〔山口県〕
DESCRIPTION:【Title】はあぶビジョン（萩市・阿武町のケーブルテレビ）\n「はあぶEye」“北浦通信”\n●と　き：　3月8日（月） \n●時　間：　夕方6：00～ \n●放送局：　はあぶビジョン（萩市・阿武町のケーブルテレビ） \n●番　組：　「はあぶEye」“北浦通信” \n●概　要：　長門市ケーブルテレビ（ほっちゃテレビ）で放送された金子みすゞ記念館の企画展「東日本大震災から10年 よりそう心展」の様子が山口ケーブルビジョンでも放送されます。東日本復興応援コンサートを開催したちひろのコーナーも紹介されます。 \n●ご視聴方法：　対象エリアの加入者
URL:https://chihirosound.com/event/9801
CATEGORIES:オススメ,テレビ
END:VEVENT
BEGIN:VEVENT
DTSTART;TZID=Asia/Tokyo:20210304T082000
DTEND;TZID=Asia/Tokyo:20210304T083800
DTSTAMP:20260426T071318
CREATED:20210303T040158Z
LAST-MODIFIED:20210303T041205Z
UID:9678-1614846000-1614847080@chihirosound.com
SUMMARY:Radio〔福島県〕
DESCRIPTION:【Title】KOCOラジ（郡山コミュニティ放送）で ちひろのコメントボイスがON AIR！\n～3.11に向けたメッセージ「明るいほうへ 金子みすゞの心とともに」～\n●と　き：　3月4日（木） \n●時　間：　午前8：20～8：38 \n●ラジオ局：　KOCOラジ（郡山コミュニティ放送） \n●番　組：　『あさココ』 \n●パーソナリティ：　宗方 和子　さん \n●周波数：　79.1MHHz \n●放送エリア：　郡山駅から20kmの範囲 \n●インターネットで聴く：　サイマルラジオ \n※全国どこでもインターネットでラジオが聴けるページです。 \nページ途中の、郡山コミュニティ放送「放送を聴く」をクリックしてください♪ \n●リクエスト＆メッセージ：　Eメール＜koco@kocofm.jp＞　　F A X ＜024-953-6161＞
URL:https://chihirosound.com/event/9678
CATEGORIES:オススメ,ラジオ
ORGANIZER;CN="%E9%83%A1%E5%B1%B1%E3%82%B3%E3%83%9F%E3%83%A5%E3%83%8B%E3%83%86%E3%82%A3%E6%94%BE%E9%80%81":MAILTO:koco@kocofm.jp
END:VEVENT
BEGIN:VEVENT
DTSTART;TZID=Asia/Tokyo:20210228T110000
DTEND;TZID=Asia/Tokyo:20210228T234000
DTSTAMP:20260426T071318
CREATED:20210223T065144Z
LAST-MODIFIED:20210223T070821Z
UID:9602-1614510000-1614555600@chihirosound.com
SUMMARY:Cable-TV〔山口県〕
DESCRIPTION:【Title】長門市ケーブルテレビ ほっちゃテレビ 「ちょいまちCafe」\nちひろゲスト出演！　金子みすゞさん、3.11についてお話しいたします\n●と　き：　2月28日（日）～　約1カ月間放送されます \n●時　間：　①午前11：00～　②午後11：00～ \n※再放送は曜日によって放送時間が異なりますのでご注意ください \n  \n●放送局：　長門市ケーブルテレビ ほっちゃテレビ \n●番　組：　「ちょいまちCafe」 \n●ご視聴方法：　対象エリアの加入者
URL:https://chihirosound.com/event/9602
CATEGORIES:オススメ,テレビ
END:VEVENT
BEGIN:VEVENT
DTSTART;TZID=Asia/Tokyo:20210227T150000
DTEND;TZID=Asia/Tokyo:20210227T170000
DTSTAMP:20260426T071318
CREATED:20210209T064339Z
LAST-MODIFIED:20210211T134115Z
UID:9426-1614438000-1614445200@chihirosound.com
SUMMARY:講座〔山口県〕
DESCRIPTION:【Title】バックアップセミナー　しあわせを呼ぶことば\n●と　き：　2月27日（土） \n●ところ：　山口市働く婦人の家 カリエンテ山口・（一財）山口県婦人教育文化会館　3階  第4 研修室（山口市湯田温泉5丁目1-1） \n※会場の地図はこちら \n●時　間：　午後3：00～5：00 \n●講　師：　ちひろ \n  \n●受講料：　無料　 \n●教材費：　※資料代の一部として300円程度必要 \n●募集人数：　先着25名 \n  \n●応募方法：　往復ハガキか受付にて、住所、氏名、年齢、電話番号、職業の有無、託児の有無を記入のうえ下記までお申込下さい \n山口市働く婦人の家 カリエンテ山口、（一財）山口県婦人教育文化会館、山口市 \n〒753-0056 \n山口市湯田温泉5丁目1-1 \n電話／083-921-1929　　FAX／083-932-6417 \n  \n●託　児：　生後6ヶヶ月以上 １人300円必要 \n●申込締切：　令和3年2月25日 \n●主　催：　山口市働く婦人の家 カリエンテ山口、（一財）山口県婦人教育文化会館、山口市 \nPDFはこちら
URL:https://chihirosound.com/event/9426
LOCATION:山口市 働く婦人の家\, 山口県山口市湯田温泉５丁目１−１\, 山口市\, 山口県\, 753-0056\, Japan
CATEGORIES:オススメ,講演
ATTACH;FMTTYPE=image/jpeg:https://chihirosound.com/wp-content/uploads/2021/02/e155e887eaadb2276684357d69a197bb.jpg
END:VEVENT
BEGIN:VEVENT
DTSTART;TZID=Asia/Tokyo:20210226T180000
DTEND;TZID=Asia/Tokyo:20210226T180800
DTSTAMP:20260426T071318
CREATED:20210223T062422Z
LAST-MODIFIED:20210223T064443Z
UID:9594-1614362400-1614362880@chihirosound.com
SUMMARY:Radio〔福島県〕
DESCRIPTION:【Title】rfcラジオ福島でちひろのコメントボイス ON AIR！\n～3.11に向けたメッセージ「明るいほうへ 金子みすゞの心とともに」～\n●と　き：　2月26日（金） \n●時　間：　午後6：00～6：08 \n  \n●ラジオ局：　rfcラジオ福島 \n●番　組：　ORANGE TIME『オレンジ広場』 \n  \n●放送エリア：　福島県内 及び受信エリア \n●周波数：　　こちら \n  \n●リクエスト＆メッセージ：　E-mail：1600@rfc.jp \n●パソコン・スマホで聴ける：　こちら　※福島県外の方は radiko プレミアム でお聴きいただけます♪
URL:https://chihirosound.com/event/9594
CATEGORIES:オススメ,ラジオ
END:VEVENT
BEGIN:VEVENT
DTSTART;TZID=Asia/Tokyo:20210219T170500
DTEND;TZID=Asia/Tokyo:20210219T175500
DTSTAMP:20260426T071318
CREATED:20200409T155249Z
LAST-MODIFIED:20210219T040053Z
UID:7458-1613754300-1613757300@chihirosound.com
SUMMARY:Radio〔NHK〕
DESCRIPTION:【Title】NHK「中国！ちゅーもく！ラジオYAMAGUTIC」\n～温泉県やまぐち四方山話♨～\n●と　き：　2月19日（金） \n●時　間：　午後5：05～5：55 \n●ラジオ局：　NHKラジオ第1 \n●番　組：　ラジオYAMAGUTIC \n●メールやご意見募集：　こちら \n  \n●放送受信エリア：　中国地方5県（山口県、広島県、岡山県、島根県、鳥取県） \n●インターネットラジオ：　全国でお聴きいただけます！　　らじる★らじる \nパソコン・スマートフォン・タブレットなどで、全国どこでもお聴きいただけるサービスです。 \n【視聴方法】＜スマートフォン・タブレットの場合は、まずアプリ（無料）をダウンロードしてください＞ \n■らじる★らじる にアクセス　→　R1 をクリック　→　放送局を選択　→　広島 \n※詳しくはこちら \n  \n●出　演：　松岡 孝行 アナウンサー、ちひろ \n●メインゲスト：　温泉家・北出 恭子 さん \n●電話ゲスト：　道の駅「蛍街道西ノ市」福本 憲嗣（のりつぐ）さん
URL:https://chihirosound.com/event/7458
CATEGORIES:オススメ,ラジオ
ORGANIZER;CN="NHK%E5%B1%B1%E5%8F%A3%E6%94%BE%E9%80%81%E5%B1%80":MAILTO:https://www.nhk.or.jp/yamaguchi/contact/form.html
END:VEVENT
BEGIN:VEVENT
DTSTART;TZID=Asia/Tokyo:20201224T190000
DTEND;TZID=Asia/Tokyo:20201225T143000
DTSTAMP:20260426T071318
CREATED:20201222T142546Z
LAST-MODIFIED:20201223T082901Z
UID:9208-1608836400-1608906600@chihirosound.com
SUMMARY:Cable-TV〔山口県〕
DESCRIPTION:【Title】山口ケーブルビジョン「まちかどNEWS」で放送！\n●と　き：　■12月24日（木）午後7：00～／初回放送　　■25日（金）の午後2：00放送まで \n●時　間：　①午後7：00～　②午後8：00～　③午後11：00～　④午前9：00～　⑤午前11：00～　⑥午後2：00～ \n●放送局：　山口ケーブルビジョン \n●番　組：　「まちかどNEWS」 \n●キャスター：　佐藤 忠典さん \n●概　要：　長門市ケーブルテレビ（ほっちゃテレビ）で放送された長門市長表敬訪問の様子が山口ケーブルビジョンでも放送されます！ \n●ご視聴方法：　対象エリアの加入者
URL:https://chihirosound.com/event/9208
CATEGORIES:オススメ,テレビ
ORGANIZER;CN="%E5%B1%B1%E5%8F%A3%E3%82%B1%E3%83%BC%E3%83%96%E3%83%AB%E3%83%93%E3%82%B8%E3%83%A7%E3%83%B3":MAILTO:news@c-able.co.jp
END:VEVENT
BEGIN:VEVENT
DTSTART;TZID=Asia/Tokyo:20201221T165000
DTEND;TZID=Asia/Tokyo:20201221T175300
DTSTAMP:20260426T071318
CREATED:20201208T065054Z
LAST-MODIFIED:20201217T142510Z
UID:9043-1608569400-1608573180@chihirosound.com
SUMMARY:TV〔山口県〕
DESCRIPTION:【Title】KRY山口放送『熱血テレビ』で ちひろが紹介されます！\n●と　き：　12月21日（月） \n●時　間：　夕方4：50～5：53の中で \n●放送局：　KRY山口放送 \n●番　組：　『熱血テレビ』 \n●放送内容：　ちひろの活動や『明るいほうへ みんなで乗り越えよう！プロジェクト』ワールドバージョン動画など、インタビューも交えて紹介されます♪ \n●ご意見・メッセージ：　メール：nekketu@kry.co.jp　FAX：0834-32-7760　　ハガキ：〒745-8686　山口放送「熱血テレビ」係 \n●放送エリア：　山口県内と周辺受信エリア
URL:https://chihirosound.com/event/9043
CATEGORIES:オススメ,テレビ
END:VEVENT
BEGIN:VEVENT
DTSTART;TZID=Asia/Tokyo:20201216T182000
DTEND;TZID=Asia/Tokyo:20201216T183000
DTSTAMP:20260426T071318
CREATED:20201208T064831Z
LAST-MODIFIED:20201216T042407Z
UID:9041-1608142800-1608143400@chihirosound.com
SUMMARY:TV〔山口県〕
DESCRIPTION:【Title】tysテレビ山口「mix」ちひろスタジオゲスト出演 & 生歌披露！\n●と　き：　12月16日（水） \n●時　間：　夕方6：20頃～ \n●テレビ局：　tysテレビ山口 \n●番　組：　mix \n●ゲスト出演者：　ちひろ \n●放送内容：　ちひろの活動や『明るいほうへ みんなで乗り越えよう！プロジェクト』ワールドバージョン動画などが紹介されます。生歌も披露いたします♪ \n●ご意見・メッセージ：　FAX／083-923-8840　　Mail／mix@tys.co.jp \n●放送エリア：　山口県内と周辺受信エリア
URL:https://chihirosound.com/event/9041
CATEGORIES:オススメ,テレビ
ORGANIZER;CN="tys%E3%83%86%E3%83%AC%E3%83%93%E5%B1%B1%E5%8F%A3":MAILTO:mix@tys.co.jp
END:VEVENT
BEGIN:VEVENT
DTSTART;TZID=Asia/Tokyo:20201214T180000
DTEND;TZID=Asia/Tokyo:20201215T163000
DTSTAMP:20260426T071318
CREATED:20201213T044805Z
LAST-MODIFIED:20201213T044805Z
UID:9101-1607968800-1608049800@chihirosound.com
SUMMARY:Cable-TV〔山口県〕
DESCRIPTION:【Title】長門市ケーブルテレビ ほっちゃテレビ\n「ほっちゃNEWSイブニング」にて長門市長・副市長への表敬訪問の様子が紹介されます！\n●と　き：　12月14日（月）夕方6：00／初回放送　～15日（火）午後4：00まで計8回の再放送 \n●時　間：　①夕方6：00～　②午後8：00～　③午後10：00～　④午前0：00～　⑤午前8：00～　⑥午前10：00～　⑦午後2：00　⑧午後4：00 \n●放送局：　長門市ケーブルテレビ ほっちゃテレビ \n●番　組：　「ほっちゃNEWSイブニング」 \n●概　要：　「明るいほうへ みんなで乗り越えよう！プロジェクト」ワールドバージョン動画 完成報告についてON AIRされます！ \n●ご視聴方法：　対象エリアの加入者
URL:https://chihirosound.com/event/9101
CATEGORIES:オススメ,テレビ
END:VEVENT
BEGIN:VEVENT
DTSTART;TZID=Asia/Tokyo:20201210T170000
DTEND;TZID=Asia/Tokyo:20201210T180000
DTSTAMP:20260426T071318
CREATED:20201205T162848Z
LAST-MODIFIED:20201205T162848Z
UID:9029-1607619600-1607623200@chihirosound.com
SUMMARY:Radio〔山口県〕
DESCRIPTION:【Title】FM AQUAにゲスト出演！\n「明るいほうへ みんなで乗り越えよう！プロジェクト」ワールドバージョン動画についてお話しいたします！\n●と　き：　12月10日（木） \n●時　間：　夕方5：00～ \n●ラジオ局：　FM AQUA \n●番　組：　『ビビットラジオ』 \n●パーソナリティ：　五嶋 高子 さん \n●周波数：　87.8MHHz \n●放送エリア：　長門市を中心としたエリア、周辺受信エリア \n●リクエスト＆メッセージ：　こちらから
URL:https://chihirosound.com/event/9029
CATEGORIES:オススメ,ラジオ
ORGANIZER;CN="FM AQUA":MAILTO:878@fmaqua.jp
END:VEVENT
BEGIN:VEVENT
DTSTART;TZID=Asia/Tokyo:20201210T165000
DTEND;TZID=Asia/Tokyo:20201210T185800
DTSTAMP:20260426T071318
CREATED:20201210T045218Z
LAST-MODIFIED:20201210T045218Z
UID:9052-1607619000-1607626680@chihirosound.com
SUMMARY:TV〔山口県〕
DESCRIPTION:【Title】tysテレビ山口「mix」番組内ニュースでちひろが紹介されます！\n●と　き：　12月10日（木） \n●時　間：　午後4時50分～6：58の番組内 \n●放送局：　tysテレビ山口 \n●番　組：　「mix」 \n●放送内容：　「明るいほうへ」ワールドバージョン動画を長門市長、副市長に完成報告！
URL:https://chihirosound.com/event/9052
CATEGORIES:オススメ,テレビ
ORGANIZER;CN="tys%E3%83%86%E3%83%AC%E3%83%93%E5%B1%B1%E5%8F%A3":MAILTO:mix@tys.co.jp
END:VEVENT
BEGIN:VEVENT
DTSTART;TZID=Asia/Tokyo:20201201T181000
DTEND;TZID=Asia/Tokyo:20201201T183500
DTSTAMP:20260426T071318
CREATED:20201125T145935Z
LAST-MODIFIED:20201201T060254Z
UID:8938-1606846200-1606847700@chihirosound.com
SUMMARY:Radio〔福島県〕
DESCRIPTION:【Title】ULTRA FM（福島県須賀川市）に電話ゲスト出演！\n「明るいほうへ みんなで乗り越えよう！プロジェクト」ワールドバージョン動画についてお話いたします♪\n●と　き：　12月1日（火） \n●時　間：　夕方6：10頃～ \n●ラジオ局：　ULTRA FM \n●番　組：　『サンセットRADIO』 \n●パーソナリティ：　浅野 敦子 さん \n●周波数：　86.8MHz \n●放送エリア：　須賀川市及び周辺エリア \n●インターネットで聴く：　サイマルラジオ \n※全国どこでもインターネットでラジオが聴けるページです。 \n●リクエスト＆メッセージ：　メールはこちら　　F A X ＜0248-63-7003＞
URL:https://chihirosound.com/event/8938
CATEGORIES:オススメ,ラジオ
END:VEVENT
BEGIN:VEVENT
DTSTART;TZID=Asia/Tokyo:20201127T190000
DTEND;TZID=Asia/Tokyo:20201130T142500
DTSTAMP:20260426T071318
CREATED:20201127T072304Z
LAST-MODIFIED:20201127T072304Z
UID:8973-1606503600-1606746300@chihirosound.com
SUMMARY:Cable-TV〔山口県〕
DESCRIPTION:【Title】山口ケーブルビジョン「まちかどNEWS」にちひろスタジオ出演！\n●と　き：　■11月27日（金）午後7：00～／初回放送　　■土・日／週間ダイジェスト　　■30日（月）の午後2：00放送まで \n●時　間：　①午後7：00～　②午後8：00～　③午後11：00～　④午前9：00～　⑤午前11：00～　⑥午後2：00～ \n●放送局：　山口ケーブルビジョン \n●番　組：　「まちかどNEWS」 \n●キャスター：　佐藤 忠典さん \n●概　要：　スタジオ出演の模様がON AIRされます！ \n●ご視聴方法：　対象エリアの加入者
URL:https://chihirosound.com/event/8973
CATEGORIES:オススメ,テレビ
ORGANIZER;CN="%E5%B1%B1%E5%8F%A3%E3%82%B1%E3%83%BC%E3%83%96%E3%83%AB%E3%83%93%E3%82%B8%E3%83%A7%E3%83%B3":MAILTO:news@c-able.co.jp
END:VEVENT
BEGIN:VEVENT
DTSTART;TZID=Asia/Tokyo:20201108T130000
DTEND;TZID=Asia/Tokyo:20201108T141500
DTSTAMP:20260426T071318
CREATED:20201002T132802Z
LAST-MODIFIED:20201002T132802Z
UID:8585-1604840400-1604844900@chihirosound.com
SUMMARY:Concert〔大阪府〕
DESCRIPTION:【Title】－町制施行70周年記念プレ事業－  男女共同参画講演会\nちひろコンサート　明るいほうへ 明るいほうへ  金子みすゞの心とともに\n●と　き：　11月8日（日） \n●ところ：　熊取図書館 2階ホール（大阪府泉南郡熊取町野田4丁目2714-1） \n※会場の地図はこちら \n●時　間：　受付／12：30～　開演／13：00～　終演／14：15 \n  \n●対　象：　30名（熊取町内在住の方）　※応募者多数の場合は抽選をおこないます。 \n●申　込：　電話 または FAX、町ホームページ応募専用フォーム にて受付 \n・電話申込／熊取町 人権・男女活躍推進課（072-452-1004） \n・FAX申込／チラシ裏面の「参加申込書（FAX用）」をご使用ください（072-452-7103） \n※詳しくは「熊取町ホームページ ちひろコンサート」ページにて \n  \n●申込期間：　10月１日（木）から10月23日（金）まで \n※１人につき１回（最大４人）のみ。代表者を変更しての応募など同一人を重複しての応募はできません。\n※抽選は、応募されたグループ単位でおこないますので、たとえば落選の場合は、グループ全員が落選となります。\n※抽選結果は、10月30日（金）までに、当選者（代表者）の方のみに通知いたします。 \n●入場料：　無料 \n●手話通訳：　有り \n●一時保育：　５人まで（２か月～未就学児）　※申込の際に、あわせてお伝えください。 \n  \n●主　催：　熊取町・熊取町教育委員会・熊取町人権協会・大阪体育大学 社会貢献センター \n●お問合せ：　熊取町　人権・女性活躍推進課　電話：072-452-1004　FAX：072-452-7103 \n  \n新型コロナウイルス感染拡大防止に関するご案内\n・当日、体調が悪い方、体温が37.5度以上ある方はご参加いただけません。\n・参加の際には、必ずマスクをご着用ください。\n・定員を削減し、座席間隔を空けております。また、混雑緩和のため全席指定といたします。\n・受付時に検温と手指消毒にご協力ください。\n・換気のため、適宜講演会の途中に定期的に窓や扉を開放する予定ですので、温度調整ができる服装でお越しください。\n・当事業において、感染が疑われる方が発生した場合、お預かりした個人情報を保健所等の公共機関へ提供する場合があります。 \n  \n※今後の感染状況などによっては、開催を中止する場合があります。最新の情報は、当ホームページにて随時ご案内いたします。 \n  \nチラシはこちら（PDF） \n  \n \n \n 
URL:https://chihirosound.com/event/8585
LOCATION:熊取図書館 2階ホール\, 大阪府泉南郡熊取町野田４丁目２７１４−１\, 熊取町\, 大阪府\, 590-0451\, Japan
CATEGORIES:オススメ,コンサート
ATTACH;FMTTYPE=image/jpeg:https://chihirosound.com/wp-content/uploads/2020/10/27776bd6f6b2a176e76a11b87540f2b8.jpg
END:VEVENT
BEGIN:VEVENT
DTSTART;TZID=Asia/Tokyo:20201101T100000
DTEND;TZID=Asia/Tokyo:20201101T160000
DTSTAMP:20260426T071318
CREATED:20200824T074243Z
LAST-MODIFIED:20201031T073717Z
UID:8415-1604224800-1604246400@chihirosound.com
SUMMARY:Stage〔山口県〕
DESCRIPTION:【Title】「ユダ・カーニバル ～化かされにおいでん祭～」\nちひろステージ  with  湯田桶ストラ72～そこんとこよろしく！～\n●と　き：　11月1日（日） \n●ところ：　 \n①井上公園 特設会場（山口県山口市湯田温泉2丁目5）　※会場の地図はこちら　 \n※ちひろステージはこちらの井上公園会場です \n②湯田自動車学校 特設会場（山口県山口市葵2丁目4-55）　※会場の地図はこちら \n  \n●時　間：　午前10時～午後4時 \n※ちひろステージは10時～と午後2時～ \n●対　象：　どなたでもOK \n●入場料：　無料野外イベントです \n※イベント詳細はこちら \n●主　催：　湯田温泉旅館協同組合 \n●後　援：　山口市 \n●お問合せ：　湯田温泉旅館協同組合（083-920-3000）
URL:https://chihirosound.com/event/8415
LOCATION:井上公園\, 山口県山口市湯田温泉２丁目５\, 山口市\, 山口県\, 753-0056\, Japan
CATEGORIES:オススメ,コンサート
END:VEVENT
BEGIN:VEVENT
DTSTART;TZID=Asia/Tokyo:20201023T170500
DTEND;TZID=Asia/Tokyo:20201023T175500
DTSTAMP:20260426T071318
CREATED:20200409T155012Z
LAST-MODIFIED:20201023T074452Z
UID:7454-1603472700-1603475700@chihirosound.com
SUMMARY:Radio〔NHK〕
DESCRIPTION:【Title】NHK「中国！ちゅーもく！ラジオYAMAGUTIC」\n～コロナに負けない！長門湯本温泉の挑戦～\n●と　き：　10月23日（金） \n●時　間：　午後5：05～5：55 \n●ラジオ局：　NHKラジオ第1 \n●番　組：　ラジオYAMAGUTIC \n●メールやご意見募集：　こちら \n●放送受信エリア：　中国地方5県（山口県、広島県、岡山県、島根県、鳥取県） \n●インターネットラジオ：　全国でお聴きいただけます！　　らじる★らじる \nパソコン・スマートフォン・タブレットなどで、全国どこでもお聴きいただけるサービスです。 \n【視聴方法】＜スマートフォン・タブレットの場合は、まずアプリ（無料）をダウンロードしてください＞ \n■らじる★らじる にアクセス　→　R1 をクリック　→　放送局を選択　→　広島 \n※詳しくはこちら \n●出　演：　島田 莉生アナウンサー、ちひろ \n●メインゲスト：　山口県湯本温泉大谷山荘　代表取締役社長　大谷 和宏さん \n●教えて道の駅！：　センザキッチン（長門市）
URL:https://chihirosound.com/event/7454
CATEGORIES:オススメ,ラジオ
ORGANIZER;CN="NHK%E5%B1%B1%E5%8F%A3%E6%94%BE%E9%80%81%E5%B1%80":MAILTO:https://www.nhk.or.jp/yamaguchi/contact/form.html
END:VEVENT
BEGIN:VEVENT
DTSTART;TZID=Asia/Tokyo:20201022T180000
DTEND;TZID=Asia/Tokyo:20201022T200000
DTSTAMP:20260426T071318
CREATED:20200629T020030Z
LAST-MODIFIED:20200925T063946Z
UID:8189-1603389600-1603396800@chihirosound.com
SUMMARY:講座〔山口県〕
DESCRIPTION:締切を過ぎても募集人員に達するまで引き続き募集をいたします♪\n  \n【Title】「リラクゼーション講座」\n音でからだとこころを癒す ～音楽で体感！金子みすゞの心～\n●と　き：　10月22日（木） \n●ところ：　山口市働く婦人の家 カリエンテ山口・（一財）山口県婦人教育文化会館（山口市湯田温泉5丁目1-1） \n※会場の地図はこちら \n●時　間：　午後6：00～8：00 \n●受講料：　3\,850円（※講座1回のみの参加は1\,000円（税別）で受講できます。 ） \n●教材費：　2\,000円程度 \n＜※1講座のみの受講も可能ですので、お問合せ下さいませ＞ \n●詳細ページ：　こちら \n●募集人数：　20 人＜締切＞ \n●応募方法： \n往復はがきに住所･氏名･年齢･電話番号･職業の有無・講座名を\n記入の上、下記までお申し込み下さい。\nまたは受付にてお申し込み下さい、（1講座のみの受講もできます。）　　　　　　　　　　　　　　　　　　　　　　　　　 \n山口市働く婦人の家・（一財）山口県婦人教育文化会館 \n〒753-0056　山口市湯田温泉5丁目1-1 \n　　　　　 　 　　　　　\n（TEL） 083-921-1929／083-922-2792　（FAX）083-932-6417 \n●主　催：　山口市働く婦人の家 \nPDFはこちら
URL:https://chihirosound.com/event/8189
LOCATION:山口市 働く婦人の家\, 山口県山口市湯田温泉５丁目１−１\, 山口市\, 山口県\, 753-0056\, Japan
CATEGORIES:オススメ,その他,講演
ATTACH;FMTTYPE=image/jpeg:https://chihirosound.com/wp-content/uploads/2020/06/cad642aad414470c2d8c39fb3e48099d.jpg
END:VEVENT
BEGIN:VEVENT
DTSTART;TZID=Asia/Tokyo:20200911T132000
DTEND;TZID=Asia/Tokyo:20200911T133800
DTSTAMP:20260426T071318
CREATED:20200831T014547Z
LAST-MODIFIED:20200831T014653Z
UID:8451-1599830400-1599831480@chihirosound.com
SUMMARY:Radio〔福島県〕
DESCRIPTION:【Title】KOCOラジ（郡山コミュニティ放送）に電話ゲスト出演！\n「明るいほうへ みんなで乗り越えよう！プロジェクト」動画についてお話しいたします！\n●と　き：　9月11日（金） \n●時　間：　午後1：20～1：38 \n●ラジオ局：　KOCOラジ（郡山コミュニティ放送） \n●番　組：　『ひるココ』 \n●パーソナリティ：　宗方 和子　さん \n●周波数：　79.1MHHz \n●放送エリア：　郡山駅から20kmの範囲 \n●インターネットで聴く：　サイマルラジオ \n※全国どこでもインターネットでラジオが聴けるページです。 \nページ途中の、郡山コミュニティ放送「放送を聴く」をクリックしてください♪ \n●リクエスト＆メッセージ：　Eメール＜koco@kocofm.jp＞　　F A X ＜024-953-6161＞
URL:https://chihirosound.com/event/8451
CATEGORIES:オススメ,ラジオ
ORGANIZER;CN="%E9%83%A1%E5%B1%B1%E3%82%B3%E3%83%9F%E3%83%A5%E3%83%8B%E3%83%86%E3%82%A3%E6%94%BE%E9%80%81":MAILTO:koco@kocofm.jp
END:VEVENT
BEGIN:VEVENT
DTSTART;TZID=Asia/Tokyo:20200812T163300
DTEND;TZID=Asia/Tokyo:20200812T164500
DTSTAMP:20260426T071318
CREATED:20200804T140339Z
LAST-MODIFIED:20200804T140339Z
UID:8368-1597249980-1597250700@chihirosound.com
SUMMARY:Radio〔北海道〕
DESCRIPTION:【Title】FMオホーツク「おほ～つくGarden」に電話ゲスト出演！\n廣瀬順子選手応援ソングCD『自分に出逢うために』についてお話いたします♪\n●と　き：　8月12日（水） \n●時　間：　午後4：33頃～ \n●ラジオ局：　FMオホーツク \n●番　組：　おほ～つくGarden \n●パーソナリティ：　服部 牧子 さん \n●メールやリクエスト：　827@fmok.jp　FAX：0157-69-0211 \n●放送受信エリア：　北海道北見市 \n●電話出演：　ちひろ
URL:https://chihirosound.com/event/8368
CATEGORIES:オススメ,ラジオ
ORGANIZER;CN="FM%E3%82%AA%E3%83%9B%E3%83%BC%E3%83%84%E3%82%AF":MAILTO:827@fmok.jp
END:VEVENT
BEGIN:VEVENT
DTSTART;TZID=Asia/Tokyo:20200806T103000
DTEND;TZID=Asia/Tokyo:20200806T105000
DTSTAMP:20260426T071318
CREATED:20200608T035438Z
LAST-MODIFIED:20200805T005310Z
UID:8019-1596709800-1596711000@chihirosound.com
SUMMARY:Radio〔山口県〕
DESCRIPTION:【Title】カモンFMに電話ゲスト出演！\n「明るいほうへ みんなで乗り越えよう！プロジェクト」動画についてお話しいたします！\n●と　き：　8月6日（木） \n●時　間：　午前10：30頃～ \n●ラジオ局：　カモンFM \n●番　組：　MUSIC PALET『Mahalo MIKA のLive aloha』 \n●パーソナリティ：　Mahalo MIKA さん \n●周波数：　76.4MHHz \n●放送エリア：　下関を中心とした関門エリア、周辺受信エリア \n●インターネットで聴く：　※全国どこでもインターネットでラジオが聴けるページです。 \n■オンタイム \n■サイマルラジオで聴く \n中国地区のCOME ON! FMの「LISTEN♪」をクリックしてください♪ \n●リクエスト＆メッセージ：　こちらから
URL:https://chihirosound.com/event/8019
CATEGORIES:オススメ,ラジオ
END:VEVENT
BEGIN:VEVENT
DTSTART;TZID=Asia/Tokyo:20200803T090000
DTEND;TZID=Asia/Tokyo:20200803T175000
DTSTAMP:20260426T071318
CREATED:20200728T104107Z
LAST-MODIFIED:20200728T104346Z
UID:8323-1596445200-1596477000@chihirosound.com
SUMMARY:Radio〔北海道〕
DESCRIPTION:【Title】FMオホーツクでちひろのコメントボイスがON AIR！　\n新曲『自分に出逢うために』\n●と　き：　8月3日（月）～28日（金）まで平日毎日 \n　　　　　＜月・水・木は1日2回、火・金は1日4回オンエア！＞ \n●月～金 \n「おはようサプリメント」朝9時00分　 \n「おほ～つくGarden」夕方5時45分 \n●火、金 \n「情報インフォメーション」午前11時30分　 \n「Afternoon Cafe」昼2時26分 \n●ラジオ局：　FMオホーツク \n●放送受信エリア：　北海道北見市 \n●メールやリクエスト：　827@fmok.jp　FAX：0157-69-0211
URL:https://chihirosound.com/event/8323
CATEGORIES:オススメ,ラジオ
ORGANIZER;CN="FM%E3%82%AA%E3%83%9B%E3%83%BC%E3%83%84%E3%82%AF":MAILTO:827@fmok.jp
END:VEVENT
BEGIN:VEVENT
DTSTART;TZID=Asia/Tokyo:20200718T210000
DTEND;TZID=Asia/Tokyo:20200718T215500
DTSTAMP:20260426T071318
CREATED:20200627T083945Z
LAST-MODIFIED:20200627T083945Z
UID:8176-1595106000-1595109300@chihirosound.com
SUMMARY:Radio〔全国のコミュニティFM〕
DESCRIPTION:【Title】「なべラジ～土曜日の隠れ家」に電話ゲスト出演！\n「明るいほうへ みんなで乗り越えよう！プロジェクト」動画についてお話しいたします！\n●と　き：　7月18日（土） \n●時　間：　夜9：00～ \n●ラジオ局：　全国のコミュニティFM \n●番　組：　「なべラジ～土曜日の隠れ家」の『もしもし？私なべちゃん』 \n●パーソナリティ：　わたなべ ヨシコ さん \n●放送エリア：　全国のコミュニティFM \n●インターネットで聴く：　※全国どこでもインターネットでラジオが聴けるページです。 \n■パソコン：「JCBAインターネットサイマルラジオ」 \nインターネットサイマル放送を実施している放送局を選択していただきお聞き下さい。 \n■スマートフォン＆タブレットの方はアプリで\n（例）TuneIn Radio \n・Androidの方はコチラ　・iPhone iPadの方はコチラ \n●リクエスト＆メッセージ：　こちらから \n■メール：nabe@musicbird.co.jp\n■FAX：03-3288-8902\n■お便り：〒102-8080　FMセンター4F ミュージックバード\n「なべラジ～土曜日の隠れ家」係
URL:https://chihirosound.com/event/8176
CATEGORIES:オススメ,ラジオ
END:VEVENT
BEGIN:VEVENT
DTSTART;TZID=Asia/Tokyo:20200709T181000
DTEND;TZID=Asia/Tokyo:20200709T185800
DTSTAMP:20260426T071318
CREATED:20200701T084328Z
LAST-MODIFIED:20200702T081456Z
UID:8209-1594318200-1594321080@chihirosound.com
SUMMARY:NHK TV〔山口県〕
DESCRIPTION:【Title】NHK山口放送局（テレビ）「情報維新！やまぐち」でちひろが紹介されます！\n●と　き：　7月9日（木） \n●時　間：　午後6時10分～6：58の番組内 \n●放送局：　NHK山口放送局 \n●番　組：　「情報維新！やまぐち」 \n●放送内容：　ちひろの活動「動画制作」「朗読」「イラスト」など、インタビューも交えて紹介されます♪
URL:https://chihirosound.com/event/8209
CATEGORIES:オススメ,テレビ
ORGANIZER;CN="NHK%E5%B1%B1%E5%8F%A3%E6%94%BE%E9%80%81%E5%B1%80":MAILTO:https://www.nhk.or.jp/yamaguchi/contact/form.html
END:VEVENT
BEGIN:VEVENT
DTSTART;TZID=Asia/Tokyo:20200702T130000
DTEND;TZID=Asia/Tokyo:20200702T134000
DTSTAMP:20260426T071318
CREATED:20200618T101533Z
LAST-MODIFIED:20200618T101533Z
UID:8147-1593694800-1593697200@chihirosound.com
SUMMARY:Radio〔山口県〕
DESCRIPTION:【Title】FM AQUAにゲスト出演！\n「明るいほうへ みんなで乗り越えよう！プロジェクト」動画についてお話しいたします！\n●と　き：　7月2日（木） \n●時　間：　午後1：00～ \n●ラジオ局：　FM AQUA \n●番　組：　『Sports Station』 \n●パーソナリティ：　naomin さん \n●周波数：　87.8MHHz \n●放送エリア：　長門市を中心としたエリア、周辺受信エリア \n●リクエスト＆メッセージ：　こちらから
URL:https://chihirosound.com/event/8147
CATEGORIES:オススメ,ラジオ
ORGANIZER;CN="FM AQUA":MAILTO:878@fmaqua.jp
END:VEVENT
BEGIN:VEVENT
DTSTART;TZID=Asia/Tokyo:20200630T200000
DTEND;TZID=Asia/Tokyo:20200630T205900
DTSTAMP:20260426T071318
CREATED:20200619T050623Z
LAST-MODIFIED:20200619T050623Z
UID:8156-1593547200-1593550740@chihirosound.com
SUMMARY:Radio〔山口県〕
DESCRIPTION:【Title】FMわっしょいにスタジオゲスト出演！\n●と　き：　6月30日（火） \n●時　間：　午後8：00～8：59 \n●ラジオ局：　FMわっしょい \n●番　組：　『歌う火曜日♪』 \n●パーソナリティ：　松田　民三 さん \n●周波数：　77.3MHz \n●放送エリア：　防府市、周辺受信エリア \n●インターネットで聴く：　※全国どこでもインターネットでラジオが聴けるページです。 \n■スマホやパソコンで聴く♪ \n●リクエスト＆メッセージ：　こちらから
URL:https://chihirosound.com/event/8156
CATEGORIES:オススメ,ラジオ
END:VEVENT
BEGIN:VEVENT
DTSTART;TZID=Asia/Tokyo:20200626T170500
DTEND;TZID=Asia/Tokyo:20200626T175500
DTSTAMP:20260426T071318
CREATED:20200409T154905Z
LAST-MODIFIED:20200618T100403Z
UID:7452-1593191100-1593194100@chihirosound.com
SUMMARY:Radio〔NHK〕
DESCRIPTION:【Title】NHK「中国！ちゅーもく！ラジオYAMAGUTIC」\nコロナに負けない！今伝えたいみすゞの言葉\n●と　き：　6月26日（金） \n●時　間：　午後5：05～5：55 \n●ラジオ局：　NHKラジオ第1 \n●番　組：　ラジオYAMAGUTIC \n●メールやご意見募集：　こちら \n●放送受信エリア：　中国地方5県（山口県、広島県、岡山県、島根県、鳥取県） \n●インターネットラジオ：　全国でお聴きいただけます！　　らじる★らじる \nパソコン・スマートフォン・タブレットなどで、全国どこでもお聴きいただけるサービスです。 \n【視聴方法】＜スマートフォン・タブレットの場合は、まずアプリ（無料）をダウンロードしてください＞ \n■らじる★らじる にアクセス　→　R1 をクリック　→　放送局を選択　→　広島 \n※詳しくはこちら \n●出　演：　松岡 孝行 アナウンサー、ちひろ \n●メインゲスト：　矢崎 節夫 さん（童謡詩人／金子みすゞ記念館館長）
URL:https://chihirosound.com/event/7452
CATEGORIES:オススメ,ラジオ
ORGANIZER;CN="NHK%E5%B1%B1%E5%8F%A3%E6%94%BE%E9%80%81%E5%B1%80":MAILTO:https://www.nhk.or.jp/yamaguchi/contact/form.html
END:VEVENT
BEGIN:VEVENT
DTSTART;TZID=Asia/Tokyo:20200625T170000
DTEND;TZID=Asia/Tokyo:20200625T175500
DTSTAMP:20260426T071318
CREATED:20200610T161315Z
LAST-MODIFIED:20200624T142346Z
UID:8041-1593104400-1593107700@chihirosound.com
SUMMARY:Radio〔山口県〕
DESCRIPTION:【Title】FMさんさんキララにスタジオゲスト出演！\n「明るいほうへ みんなで乗り越えよう！プロジェクト」動画についてお話しいたします！\n●と　き：　6月25日（木） \n●時　間：　午後5：00頃～ \n●ラジオ局：　FMさんさんキララ \n●番　組：　『ラジオスマイル交差点 ～ヒト・コト・モノそしてトキ～』 \n●パーソナリティ：　松原 淳子 さん \n●周波数：　89.7MHz \n●放送エリア：　山陽小野田市、周辺受信エリア \n●インターネットで聴く：　※全国どこでもインターネットでラジオが聴けるページです。 \n■スマホやパソコンで聴く♪ \n●リクエスト＆メッセージ：　こちらから
URL:https://chihirosound.com/event/8041
CATEGORIES:オススメ,ラジオ
ORGANIZER;CN="FM%E3%81%95%E3%82%93%E3%81%95%E3%82%93%E3%82%AD%E3%83%A9%E3%83%A9":MAILTO:fm@33kirara.jp
END:VEVENT
BEGIN:VEVENT
DTSTART;TZID=Asia/Tokyo:20200621T103000
DTEND;TZID=Asia/Tokyo:20200621T110000
DTSTAMP:20260426T071318
CREATED:20200619T050110Z
LAST-MODIFIED:20200619T050110Z
UID:8152-1592735400-1592737200@chihirosound.com
SUMMARY:Radio〔北海道〕
DESCRIPTION:【Title】FMもえるに電話ゲスト出演！ ＜6月18日分の再放送＞\n「明るいほうへ みんなで乗り越えよう！プロジェクト」動画についてお話しいたします！\n●と　き：　6月21日（日） \n●時　間：　午前10：30頃～ \n●ラジオ局：　FMもえる \n●番　組：　サンデーもえるセレクション『クロストーク７６９』 \n●パーソナリティ：　竹内 亨 さん \n●周波数：　76.9MHz \n●放送エリア：　留萌市、周辺受信エリア　※詳しくはこちら \n●インターネットで聴く：　※全国どこでもインターネットでラジオが聴けるページです。 \n■スマホやパソコンで聴く♪
URL:https://chihirosound.com/event/8152
CATEGORIES:オススメ,ラジオ
ORGANIZER;CN="FM%E3%82%82%E3%81%88%E3%82%8B":MAILTO:office@moeru.fm
END:VEVENT
END:VCALENDAR