BEGIN:VCALENDAR
VERSION:2.0
PRODID:-//ちひろ Official Website ～金子みすゞの心を歌う～  CHIHIRO Official Website - MISUZU KANEKO- - ECPv6.15.11//NONSGML v1.0//EN
CALSCALE:GREGORIAN
METHOD:PUBLISH
X-WR-CALNAME:ちひろ Official Website ～金子みすゞの心を歌う～  CHIHIRO Official Website - MISUZU KANEKO-
X-ORIGINAL-URL:https://chihirosound.com
X-WR-CALDESC:ちひろ Official Website ～金子みすゞの心を歌う～  CHIHIRO Official Website - MISUZU KANEKO- のイベント
REFRESH-INTERVAL;VALUE=DURATION:PT1H
X-Robots-Tag:noindex
X-PUBLISHED-TTL:PT1H
BEGIN:VTIMEZONE
TZID:Asia/Tokyo
BEGIN:STANDARD
TZOFFSETFROM:+0900
TZOFFSETTO:+0900
TZNAME:JST
DTSTART:20190101T000000
END:STANDARD
END:VTIMEZONE
BEGIN:VEVENT
DTSTART;TZID=Asia/Tokyo:20210411T140000
DTEND;TZID=Asia/Tokyo:20210411T143000
DTSTAMP:20260426T005329
CREATED:20210223T053659Z
LAST-MODIFIED:20210402T154115Z
UID:9559-1618149600-1618151400@chihirosound.com
SUMMARY:KRYラジオ「ちひろDEブレイク」
DESCRIPTION:♠♣♥♦毎週日曜日放送のちひろレギュラー番組♠♣♥♦\nコンサート会場での裏話、ＣＤアルバム制作秘話、名言コーナー、金子みすゞの詩をご紹介など、内容盛り沢山の30分です♪ \n  \n●毎週日曜日：　午後2：00～ \n●パーソナリティ：　ちひろ、瀬川嘉 \n  \n●ちひろDEブレイク：　Official Website・ブログ・みすゞ心のメッセージ \n●周波数一覧 -KRY山口放送-：　こちら（AM・FMで聴く） \n●パソコン・スマホでKRYラジオが聴ける：　radiko.jp \n  \n●ご意見・ご感想はこちら \nメール：break@kry.co.jp\nＦＡＸ：0834-32-9000\nハガキ：〒745-8686　山口放送「ちひろDEブレイク」係 \nメッセージフォームはこちらから
URL:https://chihirosound.com/event/9559
CATEGORIES:オススメ,ラジオ
END:VEVENT
BEGIN:VEVENT
DTSTART;TZID=Asia/Tokyo:20210409T180000
DTEND;TZID=Asia/Tokyo:20210409T183000
DTSTAMP:20260426T005329
CREATED:20210408T083754Z
LAST-MODIFIED:20210408T083754Z
UID:10069-1617991200-1617993000@chihirosound.com
SUMMARY:Cable-TV〔山口県〕
DESCRIPTION:【Title】長門市ケーブルテレビ ほっちゃテレビ 「ほっちゃNEWSイブニング」\n「明るいほうへ」長門市バージョン 参加者募集 & ちひろインタビューが紹介されます♪\n●と　き：　4月9日（金） \n●時　間：　夕方6：00～ \n  \n●放送局：　長門市ケーブルテレビ ほっちゃテレビ \n●番　組：　「ほっちゃNEWSイブニング」 \n●ご視聴方法：　対象エリアの加入者
URL:https://chihirosound.com/event/10069
CATEGORIES:オススメ,テレビ
END:VEVENT
BEGIN:VEVENT
DTSTART;TZID=Asia/Tokyo:20210407T110000
DTEND;TZID=Asia/Tokyo:20210407T113000
DTSTAMP:20260426T005329
CREATED:20210402T153749Z
LAST-MODIFIED:20210407T004512Z
UID:9987-1617793200-1617795000@chihirosound.com
SUMMARY:３局Radio「みすゞさんと明るいほうへ」
DESCRIPTION:㊗本日より新番組「みすゞさんと明るいほうへ」スタートです㊗\n💐３局同時放送・毎週水曜日放送のちひろレギュラー番組💐\n金子みすゞの詩の朗読・ご紹介など、みすゞさんについてたっぷりお届け ❤ 30分番組です♪ \n  \n●と　き：　4月7日（水） \n●時　間：　午前11：00～ \n●ラジオ局：　３局同時放送　FM-NANAKO（萩市）、FM AQUA（長門市）、COME ON ! FM（下関市） \n  \n●番組詳細：　『みすゞさんと明るいほうへ』（FM-NANAKO） \n●パーソナリティ：　ちひろ \n  \n●周波数：　FM-NANAKO／77.5MHz　　FM AQUA／87.8MHz　　COME ON！FM／76.4MHz \n●放送エリア：　各３市を中心としたエリア、周辺受信エリア \n  \n●インターネットで聴く：　※全国どこでもインターネットでラジオが聴けるページです。 \n■オンタイム \n■サイマルラジオで聴く \n中国地区のCOME ON! FMの「LISTEN♪」をクリックしてください♪ \n  \n●リクエスト＆メッセージ🎵：　misuzufm.0407@gmail.com \nもしくは　FM-NANAKO／775@haginet.ne.jp　　FM AQUA／878@fmaqua.jp　　COME ON！FM／こちらから \n  \n●再放送：　FM-NANAKO（萩市）のみ 毎週土曜日 午後3：00～ \n 
URL:https://chihirosound.com/event/9987
CATEGORIES:オススメ,ラジオ
ORGANIZER;CN="FM-NANAKO":MAILTO:775@haginet.ne.jp
END:VEVENT
BEGIN:VEVENT
DTSTART;TZID=Asia/Tokyo:20210404T140000
DTEND;TZID=Asia/Tokyo:20210404T143000
DTSTAMP:20260426T005329
CREATED:20210223T053302Z
LAST-MODIFIED:20210402T153830Z
UID:9552-1617544800-1617546600@chihirosound.com
SUMMARY:KRYラジオ「ちひろDEブレイク」
DESCRIPTION:♠♣♥♦毎週日曜日放送のちひろレギュラー番組♠♣♥♦\nコンサート会場での裏話、ＣＤアルバム制作秘話、名言コーナー、金子みすゞの詩をご紹介など、内容盛り沢山の30分です♪ \n  \n●毎週日曜日：　午後2：00～ \n●パーソナリティ：　ちひろ、瀬川嘉 \n  \n●ちひろDEブレイク：　Official Website・ブログ・みすゞ心のメッセージ \n●周波数一覧 -KRY山口放送-：　こちら（AM・FMで聴く） \n●パソコン・スマホでKRYラジオが聴ける：　radiko.jp \n  \n●ご意見・ご感想はこちら \nメール：break@kry.co.jp\nＦＡＸ：0834-32-9000\nハガキ：〒745-8686　山口放送「ちひろDEブレイク」係 \nメッセージフォームはこちらから
URL:https://chihirosound.com/event/9552
CATEGORIES:オススメ,ラジオ
END:VEVENT
BEGIN:VEVENT
DTSTART;TZID=Asia/Tokyo:20210404T133000
DTEND;TZID=Asia/Tokyo:20210404T153000
DTSTAMP:20260426T005329
CREATED:20201208T065715Z
LAST-MODIFIED:20210326T060931Z
UID:9050-1617543000-1617550200@chihirosound.com
SUMMARY:Stage〔山口県〕
DESCRIPTION:【Title】2021「湯田温泉白狐まつり」ちひろステージ\n●と　き：　4月4日（日）　 \nお祭りは3日（土）もございます！ちひろステージ・総踊りは4日（日）に開催です♪ \n●ところ：　井上公園 （山口県山口市湯田温泉2丁目5） \n※会場の地図はこちら \n  \n●時　間：　13：30～／1回目のステージ　　14：00頃／総踊り　　15：10／2回目のステージ \n※総踊りで『湯田温泉にKON来ん？』（作詞作曲/ちひろ）をみんなで踊ります♪ \n●対　象：　どなたでもOK \n●主　催：　湯田温泉白狐まつり実行委員会 \n●お問合せ：　湯田温泉白狐まつり実行委員会（083-941-5379） \nPDFはこちら
URL:https://chihirosound.com/event/9050
LOCATION:井上公園\, 山口県山口市湯田温泉２丁目５\, 山口市\, 山口県\, 753-0056\, Japan
CATEGORIES:オススメ,コンサート
ATTACH;FMTTYPE=image/jpeg:https://chihirosound.com/wp-content/uploads/2021/03/023c8d4fdc1564696826938801e54954.jpg
END:VEVENT
BEGIN:VEVENT
DTSTART;TZID=Asia/Tokyo:20210403T133000
DTEND;TZID=Asia/Tokyo:20210403T153000
DTSTAMP:20260426T005329
CREATED:20201208T065538Z
LAST-MODIFIED:20210312T155224Z
UID:9048-1617456600-1617463800@chihirosound.com
SUMMARY:Concert〔山口県〕
DESCRIPTION:【Title】「花まつり」ちひろコンサート ～金子みすゞを語り、歌う～\n●と　き：　4月3日（土） \n●ところ：　西福寺 本堂（山口県岩国市岩国2丁目6-32） \n※会場の地図はこちら \n●時　間：　13：30／おつとめ　14：00～／コンサート \n●対　象：　門信徒、関係者、どなたでもご参加OK \n●入場料：　無料（※整理券が必要です） \n●お問合せ：　西福寺（電話／0827-41-0534） \n \n 
URL:https://chihirosound.com/event/9048
LOCATION:西福寺\, 山口県岩国市岩国２丁目６−３２\, 岩国市\, 山口県\, 741-0062\, Japan
CATEGORIES:オススメ,コンサート
ATTACH;FMTTYPE=image/jpeg:https://chihirosound.com/wp-content/uploads/2021/03/159607297_489116882104755_4078128787956190649_n.jpg
END:VEVENT
BEGIN:VEVENT
DTSTART;TZID=Asia/Tokyo:20210401T210000
DTEND;TZID=Asia/Tokyo:20210401T213000
DTSTAMP:20260426T005329
CREATED:20210401T051132Z
LAST-MODIFIED:20210401T051132Z
UID:9956-1617310800-1617312600@chihirosound.com
SUMMARY:Cable-TV〔山口県〕
DESCRIPTION:【Title】はあぶビジョン（萩市・阿武町のケーブルテレビ）で\nFM-NANAKO（エフエム萩）の模様が放送されます！［再放送］\n●と　き：　4月1日（木） \n●時　間：　午後9：00～ \n●放送局：　はあぶビジョン（萩市・阿武町のケーブルテレビ） \n●番　組：　「アフタヌーン775」 \n●ご視聴方法：　対象エリアの加入者・121 ch
URL:https://chihirosound.com/event/9956
CATEGORIES:オススメ,テレビ
END:VEVENT
BEGIN:VEVENT
DTSTART;TZID=Asia/Tokyo:20210401T140000
DTEND;TZID=Asia/Tokyo:20210401T150000
DTSTAMP:20260426T005329
CREATED:20210223T060701Z
LAST-MODIFIED:20210401T053658Z
UID:9589-1617285600-1617289200@chihirosound.com
SUMMARY:Radio & 同時Cable-TV〔山口県〕
DESCRIPTION:【Title】FM-NANAKO ＜エフエム萩＞ にスタジオゲスト出演！\nはあぶビジョン（萩市・阿武町のケーブルテレビ）同時放送\n●と　き：　4月1日（木） \n●時　間：　ラジオ／午後2：00～3：00　※ケーブルテレビ／午後2：00～2：30 です \n  \n●ラジオ局：　FM-NANAKO \n●番　組：　『エフエム萩　アフタヌーン775』 \n●パーソナリティ：　下田 洋香（しもだひろか）　さん \n  \n●周波数：　77.5 MHz \n●放送エリア：　山口県萩市一円　※詳しくはこちら \n  \n●リクエスト＆メッセージ：　 \n★★★ゲストの方への質問、メッセージもお待ちしております♪★★★\nFacebook：エフエム萩\ntwitter：@FMnanako\nMail： 775@haginet.ne.jp
URL:https://chihirosound.com/event/9589
CATEGORIES:オススメ,ラジオ
ORGANIZER;CN="FM-NANAKO":MAILTO:775@haginet.ne.jp
END:VEVENT
BEGIN:VEVENT
DTSTART;TZID=Asia/Tokyo:20210401T110000
DTEND;TZID=Asia/Tokyo:20210401T120000
DTSTAMP:20260426T005329
CREATED:20210326T143014Z
LAST-MODIFIED:20210326T143014Z
UID:9906-1617274800-1617278400@chihirosound.com
SUMMARY:Radio〔山口県〕
DESCRIPTION:【Title】FM AQUAにスタジオゲスト出演！\n●と　き：　4月1日（木） \n●時　間：　午前11：00～ \n  \n●ラジオ局：　FM AQUA \n●番　組：　『Flower Winds』 \n●パーソナリティ：　 \n  \n●周波数：　87.8MHHz \n●放送エリア：　長門市を中心としたエリア、周辺受信エリア \n●リクエスト＆メッセージ：　こちらから　　or  　 878@fmaqua.jp
URL:https://chihirosound.com/event/9906
CATEGORIES:オススメ,ラジオ
ORGANIZER;CN="FM AQUA":MAILTO:878@fmaqua.jp
END:VEVENT
BEGIN:VEVENT
DTSTART;TZID=Asia/Tokyo:20210331T133000
DTEND;TZID=Asia/Tokyo:20210331T140000
DTSTAMP:20260426T005329
CREATED:20210326T142243Z
LAST-MODIFIED:20210326T142346Z
UID:9899-1617197400-1617199200@chihirosound.com
SUMMARY:Radio〔山口県〕
DESCRIPTION:【Title】COME ON ! FMにスタジオゲスト出演！\n●と　き：　3月31日（水） \n●時　間：　午後1：30～ \n●ラジオ局：　COME ON ! FM \n●番　組：　『カモンヒルズ764』 \n●パーソナリティ：　渡辺かえ さん、大越則子 さん \n  \n●周波数：　76.4MHHz \n●放送エリア：　下関を中心とした関門エリア、周辺受信エリア \n●インターネットで聴く：　※全国どこでもインターネットでラジオが聴けるページです。 \n■オンタイム \n■サイマルラジオで聴く \n中国地区のCOME ON! FMの「LISTEN♪」をクリックしてください♪ \n●リクエスト＆メッセージ：　こちらから
URL:https://chihirosound.com/event/9899
CATEGORIES:オススメ,ラジオ
END:VEVENT
BEGIN:VEVENT
DTSTART;TZID=Asia/Tokyo:20210314T180000
DTEND;TZID=Asia/Tokyo:20210314T182500
DTSTAMP:20260426T005329
CREATED:20210312T165427Z
LAST-MODIFIED:20210312T165427Z
UID:9794-1615744800-1615746300@chihirosound.com
SUMMARY:Cable-TV〔山口県〕
DESCRIPTION:【Title】はあぶビジョン（萩市・阿武町のケーブルテレビ）\n「はあぶEye」“北浦通信”　　［再放送］\n●と　き：　3月14日（日） \n●時　間：　夕方6：00～ \n●放送局：　はあぶビジョン（萩市・阿武町のケーブルテレビ） \n●番　組：　「はあぶEye」“北浦通信” \n●概　要：　長門市ケーブルテレビ（ほっちゃテレビ）で放送された金子みすゞ記念館の企画展「東日本大震災から10年 よりそう心展」の様子が山口ケーブルビジョンでも放送されます。東日本復興応援コンサートを開催したちひろのコーナーも紹介されます。 \n●ご視聴方法：　対象エリアの加入者
URL:https://chihirosound.com/event/9794
CATEGORIES:オススメ,テレビ
END:VEVENT
BEGIN:VEVENT
DTSTART;TZID=Asia/Tokyo:20210314T140000
DTEND;TZID=Asia/Tokyo:20210314T160000
DTSTAMP:20260426T005329
CREATED:20201208T065338Z
LAST-MODIFIED:20210220T051345Z
UID:9046-1615730400-1615737600@chihirosound.com
SUMMARY:Stage〔山口県〕
DESCRIPTION:【Title】令和2年度 下関市市民活動支援補助金 事業\n詩と歌と朗読で蘇る下関の詩人と歌手と女優たち\n～金子みすゞ　上山雅輔　小暮実千代　林 伊佐緒～\n●と　き：　3月14日（日） \n●ところ：　下関市民会館（中ホール）＜山口県下関市竹崎町4丁目5-1＞ \n※会場の地図はこちら \n●時　間：　13：30／開場　　14：00／開演 \n●対　象：　整理券が必要ですので、事前にお申込・お問合せをお願い致します \n●お問合せ：　小暮実千代の会　電話/080-6311-1383（担当：石原さん） \n  \n●主　催：　小暮実千代の会、金子みすゞ・雅輔の会、林伊佐緒 偲ぶ会 \n●後　援：　下関市、下関市教育委員会 \n●新型コロナ対策：　マスクと検温をされてからご入場をお願い致します。人数制限もございますのでご注意くださいませ。 \nPDFはこちら
URL:https://chihirosound.com/event/9046
LOCATION:下関市民会館\, 山口県下関市竹崎町４丁目５−１\, 下関市\, 山口県\, 750-0025\, Japan
CATEGORIES:オススメ,コンサート
ATTACH;FMTTYPE=image/jpeg:https://chihirosound.com/wp-content/uploads/2021/02/tirashi_page-0001.jpg
END:VEVENT
BEGIN:VEVENT
DTSTART;TZID=Asia/Tokyo:20210312T132000
DTEND;TZID=Asia/Tokyo:20210312T133800
DTSTAMP:20260426T005329
CREATED:20210223T060013Z
LAST-MODIFIED:20210223T060021Z
UID:9583-1615555200-1615556280@chihirosound.com
SUMMARY:Radio〔福島県〕
DESCRIPTION:【Title】KOCOラジ（郡山コミュニティ放送）に電話ゲスト出演！\n●と　き：　3月12日（金） \n●時　間：　午後1：20～1：38 \n●ラジオ局：　KOCOラジ（郡山コミュニティ放送） \n●番　組：　『ひるココ』 \n●パーソナリティ：　宗方 和子　さん \n●周波数：　79.1MHHz \n●放送エリア：　郡山駅から20kmの範囲 \n●インターネットで聴く：　サイマルラジオ \n※全国どこでもインターネットでラジオが聴けるページです。 \nページ途中の、郡山コミュニティ放送「放送を聴く」をクリックしてください♪ \n●リクエスト＆メッセージ：　Eメール＜koco@kocofm.jp＞　　F A X ＜024-953-6161＞
URL:https://chihirosound.com/event/9583
CATEGORIES:オススメ,ラジオ
ORGANIZER;CN="%E9%83%A1%E5%B1%B1%E3%82%B3%E3%83%9F%E3%83%A5%E3%83%8B%E3%83%86%E3%82%A3%E6%94%BE%E9%80%81":MAILTO:koco@kocofm.jp
END:VEVENT
BEGIN:VEVENT
DTSTART;TZID=Asia/Tokyo:20210311T190000
DTEND;TZID=Asia/Tokyo:20210312T143000
DTSTAMP:20260426T005329
CREATED:20210310T150644Z
LAST-MODIFIED:20210310T150644Z
UID:9750-1615489200-1615559400@chihirosound.com
SUMMARY:Cable-TV〔山口県〕
DESCRIPTION:【Title】山口ケーブルビジョン「まちかどNEWS」で放送！\n●と　き：　■3月11日（木）午後7：00～／初回放送　　■12日（金）の午後2：00放送まで \n●時　間：　①午後7：00～　②午後8：00～　③午後11：00～　④午前9：00～　⑤午前11：00～　⑥午後2：00～ \n●放送局：　山口ケーブルビジョン \n●番　組：　「まちかどNEWS」 \n●キャスター：　佐藤 忠典さん \n●概　要：　長門市ケーブルテレビ（ほっちゃテレビ）で放送された金子みすゞ記念館の企画展「東日本大震災から10年 よりそう心展」の様子が山口ケーブルビジョンでも放送されます。東日本復興応援コンサートを開催したちひろのコーナーも紹介されます。 \n●ご視聴方法：　対象エリアの加入者
URL:https://chihirosound.com/event/9750
CATEGORIES:オススメ,テレビ
ORGANIZER;CN="%E5%B1%B1%E5%8F%A3%E3%82%B1%E3%83%BC%E3%83%96%E3%83%AB%E3%83%93%E3%82%B8%E3%83%A7%E3%83%B3":MAILTO:news@c-able.co.jp
END:VEVENT
BEGIN:VEVENT
DTSTART;TZID=Asia/Tokyo:20210311T181500
DTEND;TZID=Asia/Tokyo:20210311T190000
DTSTAMP:20260426T005329
CREATED:20210308T142955Z
LAST-MODIFIED:20210308T143239Z
UID:9721-1615486500-1615489200@chihirosound.com
SUMMARY:TV〔山口県〕
DESCRIPTION:【Title】KRY山口放送『KRYニュースライブ』で ちひろが紹介されます\n●と　き：　3月11日（木） \n●時　間：　夕方6：15～7：00の中で \n●放送局：　KRY山口放送 \n●番　組：　『KRYニュースライブ』 \n●放送内容：　東日本大震災から10年「東日本復興応援ちひろコンサート」 について、インタビューや『明るいほうへ』動画も交えて紹介されます \n●放送エリア：　山口県内と周辺受信エリア
URL:https://chihirosound.com/event/9721
CATEGORIES:オススメ,テレビ
END:VEVENT
BEGIN:VEVENT
DTSTART;TZID=Asia/Tokyo:20210311T130000
DTEND;TZID=Asia/Tokyo:20210311T140000
DTSTAMP:20260426T005329
CREATED:20210109T153054Z
LAST-MODIFIED:20210308T142533Z
UID:9270-1615467600-1615471200@chihirosound.com
SUMMARY:Concert〔山口県〕
DESCRIPTION:【Title】ちひろコンサート　明るいほうへ～金子みすゞの心とともに～\n●と　き：　3月11日（木） \n●ところ：　本能寺 本堂（山口県岩国市岩国1丁目13-12） \n※会場の地図はこちら \n●時　間：　午後1：00～ \n●対　象：　どなたでもOK \n●主　催：　本能寺仏教婦人会「れんげかい」
URL:https://chihirosound.com/event/9270
LOCATION:本能寺\, 山口県岩国市岩国１丁目１３−１２\, 岩国市\, 山口県\, 741-0062\, Japan
CATEGORIES:オススメ,コンサート
END:VEVENT
BEGIN:VEVENT
DTSTART;TZID=Asia/Tokyo:20210309T103500
DTEND;TZID=Asia/Tokyo:20210309T110000
DTSTAMP:20260426T005329
CREATED:20210305T013619Z
LAST-MODIFIED:20210305T013619Z
UID:9689-1615286100-1615287600@chihirosound.com
SUMMARY:Radio〔山口県〕
DESCRIPTION:【Title】エフエム山口に ちひろスタジオ生出演　\n東日本大震災から10年について\n●と　き：　3月9日（火） \n●時　間：　午前10：35頃～ \n●ラジオ局：　エフエム山口 \n●番　組：　『PURE Morning』 \n●パーソナリティ：　新井 道子 さん \n●メッセージ：　こちら \n●メール：　pure@fmy.co.jp \n●周波数：　こちら \n●放送エリア：　山口県内 \n●インターネットで聴く：　radiko.jp \n※全国どこでもインターネットでラジオが聴けるページです。 \n山口県外の方は有料会員「ラジコプレミアム」でお聴きいただけます♪
URL:https://chihirosound.com/event/9689
CATEGORIES:オススメ,ラジオ
ORGANIZER;CN="%E3%82%A8%E3%83%95%E3%82%A8%E3%83%A0%E5%B1%B1%E5%8F%A3":MAILTO:http://www.fmy.co.jp/message.html
END:VEVENT
BEGIN:VEVENT
DTSTART;TZID=Asia/Tokyo:20210308T190000
DTEND;TZID=Asia/Tokyo:20210309T143000
DTSTAMP:20260426T005329
CREATED:20210223T060314Z
LAST-MODIFIED:20210309T160653Z
UID:9585-1615230000-1615300200@chihirosound.com
SUMMARY:Cable-TV〔山口県〕
DESCRIPTION:【Title】山口ケーブルビジョン「まちかどNEWS」にちひろスタジオ出演！\n東日本大震災から10年についてお話させていただきます\n●と　き：　■3月8日（月）午後7：00／初回放送　～ 9日（火）午後2：00まで計6回の再放送 \n●時　間：　①午後7：00～　②午後8：00～　③午後11：00～　④翌日午前9：00～　⑤午前11：00～　⑥午後2：00～ \n●放送局：　山口ケーブルビジョン \n●番　組：　「まちかどNEWS」 \n●キャスター：　佐藤 忠典さん \n●概　要：　スタジオ出演の模様がON AIRされます！ \n●ご視聴方法：　対象エリアの加入者
URL:https://chihirosound.com/event/9585
CATEGORIES:オススメ,テレビ
ORGANIZER;CN="%E5%B1%B1%E5%8F%A3%E3%82%B1%E3%83%BC%E3%83%96%E3%83%AB%E3%83%93%E3%82%B8%E3%83%A7%E3%83%B3":MAILTO:news@c-able.co.jp
END:VEVENT
BEGIN:VEVENT
DTSTART;TZID=Asia/Tokyo:20210308T183000
DTEND;TZID=Asia/Tokyo:20210308T185500
DTSTAMP:20260426T005329
CREATED:20210312T170044Z
LAST-MODIFIED:20210312T170044Z
UID:9801-1615228200-1615229700@chihirosound.com
SUMMARY:Cable-TV〔山口県〕
DESCRIPTION:【Title】はあぶビジョン（萩市・阿武町のケーブルテレビ）\n「はあぶEye」“北浦通信”\n●と　き：　3月8日（月） \n●時　間：　夕方6：00～ \n●放送局：　はあぶビジョン（萩市・阿武町のケーブルテレビ） \n●番　組：　「はあぶEye」“北浦通信” \n●概　要：　長門市ケーブルテレビ（ほっちゃテレビ）で放送された金子みすゞ記念館の企画展「東日本大震災から10年 よりそう心展」の様子が山口ケーブルビジョンでも放送されます。東日本復興応援コンサートを開催したちひろのコーナーも紹介されます。 \n●ご視聴方法：　対象エリアの加入者
URL:https://chihirosound.com/event/9801
CATEGORIES:オススメ,テレビ
END:VEVENT
BEGIN:VEVENT
DTSTART;TZID=Asia/Tokyo:20210304T082000
DTEND;TZID=Asia/Tokyo:20210304T083800
DTSTAMP:20260426T005329
CREATED:20210303T040158Z
LAST-MODIFIED:20210303T041205Z
UID:9678-1614846000-1614847080@chihirosound.com
SUMMARY:Radio〔福島県〕
DESCRIPTION:【Title】KOCOラジ（郡山コミュニティ放送）で ちひろのコメントボイスがON AIR！\n～3.11に向けたメッセージ「明るいほうへ 金子みすゞの心とともに」～\n●と　き：　3月4日（木） \n●時　間：　午前8：20～8：38 \n●ラジオ局：　KOCOラジ（郡山コミュニティ放送） \n●番　組：　『あさココ』 \n●パーソナリティ：　宗方 和子　さん \n●周波数：　79.1MHHz \n●放送エリア：　郡山駅から20kmの範囲 \n●インターネットで聴く：　サイマルラジオ \n※全国どこでもインターネットでラジオが聴けるページです。 \nページ途中の、郡山コミュニティ放送「放送を聴く」をクリックしてください♪ \n●リクエスト＆メッセージ：　Eメール＜koco@kocofm.jp＞　　F A X ＜024-953-6161＞
URL:https://chihirosound.com/event/9678
CATEGORIES:オススメ,ラジオ
ORGANIZER;CN="%E9%83%A1%E5%B1%B1%E3%82%B3%E3%83%9F%E3%83%A5%E3%83%8B%E3%83%86%E3%82%A3%E6%94%BE%E9%80%81":MAILTO:koco@kocofm.jp
END:VEVENT
BEGIN:VEVENT
DTSTART;TZID=Asia/Tokyo:20210228T110000
DTEND;TZID=Asia/Tokyo:20210228T234000
DTSTAMP:20260426T005329
CREATED:20210223T065144Z
LAST-MODIFIED:20210223T070821Z
UID:9602-1614510000-1614555600@chihirosound.com
SUMMARY:Cable-TV〔山口県〕
DESCRIPTION:【Title】長門市ケーブルテレビ ほっちゃテレビ 「ちょいまちCafe」\nちひろゲスト出演！　金子みすゞさん、3.11についてお話しいたします\n●と　き：　2月28日（日）～　約1カ月間放送されます \n●時　間：　①午前11：00～　②午後11：00～ \n※再放送は曜日によって放送時間が異なりますのでご注意ください \n  \n●放送局：　長門市ケーブルテレビ ほっちゃテレビ \n●番　組：　「ちょいまちCafe」 \n●ご視聴方法：　対象エリアの加入者
URL:https://chihirosound.com/event/9602
CATEGORIES:オススメ,テレビ
END:VEVENT
BEGIN:VEVENT
DTSTART;TZID=Asia/Tokyo:20210227T150000
DTEND;TZID=Asia/Tokyo:20210227T170000
DTSTAMP:20260426T005329
CREATED:20210209T064339Z
LAST-MODIFIED:20210211T134115Z
UID:9426-1614438000-1614445200@chihirosound.com
SUMMARY:講座〔山口県〕
DESCRIPTION:【Title】バックアップセミナー　しあわせを呼ぶことば\n●と　き：　2月27日（土） \n●ところ：　山口市働く婦人の家 カリエンテ山口・（一財）山口県婦人教育文化会館　3階  第4 研修室（山口市湯田温泉5丁目1-1） \n※会場の地図はこちら \n●時　間：　午後3：00～5：00 \n●講　師：　ちひろ \n  \n●受講料：　無料　 \n●教材費：　※資料代の一部として300円程度必要 \n●募集人数：　先着25名 \n  \n●応募方法：　往復ハガキか受付にて、住所、氏名、年齢、電話番号、職業の有無、託児の有無を記入のうえ下記までお申込下さい \n山口市働く婦人の家 カリエンテ山口、（一財）山口県婦人教育文化会館、山口市 \n〒753-0056 \n山口市湯田温泉5丁目1-1 \n電話／083-921-1929　　FAX／083-932-6417 \n  \n●託　児：　生後6ヶヶ月以上 １人300円必要 \n●申込締切：　令和3年2月25日 \n●主　催：　山口市働く婦人の家 カリエンテ山口、（一財）山口県婦人教育文化会館、山口市 \nPDFはこちら
URL:https://chihirosound.com/event/9426
LOCATION:山口市 働く婦人の家\, 山口県山口市湯田温泉５丁目１−１\, 山口市\, 山口県\, 753-0056\, Japan
CATEGORIES:オススメ,講演
ATTACH;FMTTYPE=image/jpeg:https://chihirosound.com/wp-content/uploads/2021/02/e155e887eaadb2276684357d69a197bb.jpg
END:VEVENT
BEGIN:VEVENT
DTSTART;TZID=Asia/Tokyo:20210226T180000
DTEND;TZID=Asia/Tokyo:20210226T180800
DTSTAMP:20260426T005329
CREATED:20210223T062422Z
LAST-MODIFIED:20210223T064443Z
UID:9594-1614362400-1614362880@chihirosound.com
SUMMARY:Radio〔福島県〕
DESCRIPTION:【Title】rfcラジオ福島でちひろのコメントボイス ON AIR！\n～3.11に向けたメッセージ「明るいほうへ 金子みすゞの心とともに」～\n●と　き：　2月26日（金） \n●時　間：　午後6：00～6：08 \n  \n●ラジオ局：　rfcラジオ福島 \n●番　組：　ORANGE TIME『オレンジ広場』 \n  \n●放送エリア：　福島県内 及び受信エリア \n●周波数：　　こちら \n  \n●リクエスト＆メッセージ：　E-mail：1600@rfc.jp \n●パソコン・スマホで聴ける：　こちら　※福島県外の方は radiko プレミアム でお聴きいただけます♪
URL:https://chihirosound.com/event/9594
CATEGORIES:オススメ,ラジオ
END:VEVENT
BEGIN:VEVENT
DTSTART;TZID=Asia/Tokyo:20210219T170500
DTEND;TZID=Asia/Tokyo:20210219T175500
DTSTAMP:20260426T005329
CREATED:20200409T155249Z
LAST-MODIFIED:20210219T040053Z
UID:7458-1613754300-1613757300@chihirosound.com
SUMMARY:Radio〔NHK〕
DESCRIPTION:【Title】NHK「中国！ちゅーもく！ラジオYAMAGUTIC」\n～温泉県やまぐち四方山話♨～\n●と　き：　2月19日（金） \n●時　間：　午後5：05～5：55 \n●ラジオ局：　NHKラジオ第1 \n●番　組：　ラジオYAMAGUTIC \n●メールやご意見募集：　こちら \n  \n●放送受信エリア：　中国地方5県（山口県、広島県、岡山県、島根県、鳥取県） \n●インターネットラジオ：　全国でお聴きいただけます！　　らじる★らじる \nパソコン・スマートフォン・タブレットなどで、全国どこでもお聴きいただけるサービスです。 \n【視聴方法】＜スマートフォン・タブレットの場合は、まずアプリ（無料）をダウンロードしてください＞ \n■らじる★らじる にアクセス　→　R1 をクリック　→　放送局を選択　→　広島 \n※詳しくはこちら \n  \n●出　演：　松岡 孝行 アナウンサー、ちひろ \n●メインゲスト：　温泉家・北出 恭子 さん \n●電話ゲスト：　道の駅「蛍街道西ノ市」福本 憲嗣（のりつぐ）さん
URL:https://chihirosound.com/event/7458
CATEGORIES:オススメ,ラジオ
ORGANIZER;CN="NHK%E5%B1%B1%E5%8F%A3%E6%94%BE%E9%80%81%E5%B1%80":MAILTO:https://www.nhk.or.jp/yamaguchi/contact/form.html
END:VEVENT
BEGIN:VEVENT
DTSTART;TZID=Asia/Tokyo:20201224T190000
DTEND;TZID=Asia/Tokyo:20201225T143000
DTSTAMP:20260426T005329
CREATED:20201222T142546Z
LAST-MODIFIED:20201223T082901Z
UID:9208-1608836400-1608906600@chihirosound.com
SUMMARY:Cable-TV〔山口県〕
DESCRIPTION:【Title】山口ケーブルビジョン「まちかどNEWS」で放送！\n●と　き：　■12月24日（木）午後7：00～／初回放送　　■25日（金）の午後2：00放送まで \n●時　間：　①午後7：00～　②午後8：00～　③午後11：00～　④午前9：00～　⑤午前11：00～　⑥午後2：00～ \n●放送局：　山口ケーブルビジョン \n●番　組：　「まちかどNEWS」 \n●キャスター：　佐藤 忠典さん \n●概　要：　長門市ケーブルテレビ（ほっちゃテレビ）で放送された長門市長表敬訪問の様子が山口ケーブルビジョンでも放送されます！ \n●ご視聴方法：　対象エリアの加入者
URL:https://chihirosound.com/event/9208
CATEGORIES:オススメ,テレビ
ORGANIZER;CN="%E5%B1%B1%E5%8F%A3%E3%82%B1%E3%83%BC%E3%83%96%E3%83%AB%E3%83%93%E3%82%B8%E3%83%A7%E3%83%B3":MAILTO:news@c-able.co.jp
END:VEVENT
BEGIN:VEVENT
DTSTART;TZID=Asia/Tokyo:20201221T165000
DTEND;TZID=Asia/Tokyo:20201221T175300
DTSTAMP:20260426T005329
CREATED:20201208T065054Z
LAST-MODIFIED:20201217T142510Z
UID:9043-1608569400-1608573180@chihirosound.com
SUMMARY:TV〔山口県〕
DESCRIPTION:【Title】KRY山口放送『熱血テレビ』で ちひろが紹介されます！\n●と　き：　12月21日（月） \n●時　間：　夕方4：50～5：53の中で \n●放送局：　KRY山口放送 \n●番　組：　『熱血テレビ』 \n●放送内容：　ちひろの活動や『明るいほうへ みんなで乗り越えよう！プロジェクト』ワールドバージョン動画など、インタビューも交えて紹介されます♪ \n●ご意見・メッセージ：　メール：nekketu@kry.co.jp　FAX：0834-32-7760　　ハガキ：〒745-8686　山口放送「熱血テレビ」係 \n●放送エリア：　山口県内と周辺受信エリア
URL:https://chihirosound.com/event/9043
CATEGORIES:オススメ,テレビ
END:VEVENT
BEGIN:VEVENT
DTSTART;TZID=Asia/Tokyo:20201216T182000
DTEND;TZID=Asia/Tokyo:20201216T183000
DTSTAMP:20260426T005329
CREATED:20201208T064831Z
LAST-MODIFIED:20201216T042407Z
UID:9041-1608142800-1608143400@chihirosound.com
SUMMARY:TV〔山口県〕
DESCRIPTION:【Title】tysテレビ山口「mix」ちひろスタジオゲスト出演 & 生歌披露！\n●と　き：　12月16日（水） \n●時　間：　夕方6：20頃～ \n●テレビ局：　tysテレビ山口 \n●番　組：　mix \n●ゲスト出演者：　ちひろ \n●放送内容：　ちひろの活動や『明るいほうへ みんなで乗り越えよう！プロジェクト』ワールドバージョン動画などが紹介されます。生歌も披露いたします♪ \n●ご意見・メッセージ：　FAX／083-923-8840　　Mail／mix@tys.co.jp \n●放送エリア：　山口県内と周辺受信エリア
URL:https://chihirosound.com/event/9041
CATEGORIES:オススメ,テレビ
ORGANIZER;CN="tys%E3%83%86%E3%83%AC%E3%83%93%E5%B1%B1%E5%8F%A3":MAILTO:mix@tys.co.jp
END:VEVENT
BEGIN:VEVENT
DTSTART;TZID=Asia/Tokyo:20201214T180000
DTEND;TZID=Asia/Tokyo:20201215T163000
DTSTAMP:20260426T005329
CREATED:20201213T044805Z
LAST-MODIFIED:20201213T044805Z
UID:9101-1607968800-1608049800@chihirosound.com
SUMMARY:Cable-TV〔山口県〕
DESCRIPTION:【Title】長門市ケーブルテレビ ほっちゃテレビ\n「ほっちゃNEWSイブニング」にて長門市長・副市長への表敬訪問の様子が紹介されます！\n●と　き：　12月14日（月）夕方6：00／初回放送　～15日（火）午後4：00まで計8回の再放送 \n●時　間：　①夕方6：00～　②午後8：00～　③午後10：00～　④午前0：00～　⑤午前8：00～　⑥午前10：00～　⑦午後2：00　⑧午後4：00 \n●放送局：　長門市ケーブルテレビ ほっちゃテレビ \n●番　組：　「ほっちゃNEWSイブニング」 \n●概　要：　「明るいほうへ みんなで乗り越えよう！プロジェクト」ワールドバージョン動画 完成報告についてON AIRされます！ \n●ご視聴方法：　対象エリアの加入者
URL:https://chihirosound.com/event/9101
CATEGORIES:オススメ,テレビ
END:VEVENT
BEGIN:VEVENT
DTSTART;TZID=Asia/Tokyo:20201210T170000
DTEND;TZID=Asia/Tokyo:20201210T180000
DTSTAMP:20260426T005329
CREATED:20201205T162848Z
LAST-MODIFIED:20201205T162848Z
UID:9029-1607619600-1607623200@chihirosound.com
SUMMARY:Radio〔山口県〕
DESCRIPTION:【Title】FM AQUAにゲスト出演！\n「明るいほうへ みんなで乗り越えよう！プロジェクト」ワールドバージョン動画についてお話しいたします！\n●と　き：　12月10日（木） \n●時　間：　夕方5：00～ \n●ラジオ局：　FM AQUA \n●番　組：　『ビビットラジオ』 \n●パーソナリティ：　五嶋 高子 さん \n●周波数：　87.8MHHz \n●放送エリア：　長門市を中心としたエリア、周辺受信エリア \n●リクエスト＆メッセージ：　こちらから
URL:https://chihirosound.com/event/9029
CATEGORIES:オススメ,ラジオ
ORGANIZER;CN="FM AQUA":MAILTO:878@fmaqua.jp
END:VEVENT
BEGIN:VEVENT
DTSTART;TZID=Asia/Tokyo:20201210T165000
DTEND;TZID=Asia/Tokyo:20201210T185800
DTSTAMP:20260426T005329
CREATED:20201210T045218Z
LAST-MODIFIED:20201210T045218Z
UID:9052-1607619000-1607626680@chihirosound.com
SUMMARY:TV〔山口県〕
DESCRIPTION:【Title】tysテレビ山口「mix」番組内ニュースでちひろが紹介されます！\n●と　き：　12月10日（木） \n●時　間：　午後4時50分～6：58の番組内 \n●放送局：　tysテレビ山口 \n●番　組：　「mix」 \n●放送内容：　「明るいほうへ」ワールドバージョン動画を長門市長、副市長に完成報告！
URL:https://chihirosound.com/event/9052
CATEGORIES:オススメ,テレビ
ORGANIZER;CN="tys%E3%83%86%E3%83%AC%E3%83%93%E5%B1%B1%E5%8F%A3":MAILTO:mix@tys.co.jp
END:VEVENT
END:VCALENDAR