BEGIN:VCALENDAR
VERSION:2.0
PRODID:-//ちひろ Official Website ～金子みすゞの心を歌う～  CHIHIRO Official Website - MISUZU KANEKO- - ECPv6.15.11//NONSGML v1.0//EN
CALSCALE:GREGORIAN
METHOD:PUBLISH
X-WR-CALNAME:ちひろ Official Website ～金子みすゞの心を歌う～  CHIHIRO Official Website - MISUZU KANEKO-
X-ORIGINAL-URL:https://chihirosound.com
X-WR-CALDESC:ちひろ Official Website ～金子みすゞの心を歌う～  CHIHIRO Official Website - MISUZU KANEKO- のイベント
REFRESH-INTERVAL;VALUE=DURATION:PT1H
X-Robots-Tag:noindex
X-PUBLISHED-TTL:PT1H
BEGIN:VTIMEZONE
TZID:Asia/Tokyo
BEGIN:STANDARD
TZOFFSETFROM:+0900
TZOFFSETTO:+0900
TZNAME:JST
DTSTART:20240101T000000
END:STANDARD
END:VTIMEZONE
BEGIN:VEVENT
DTSTART;TZID=Asia/Tokyo:20250330T052500
DTEND;TZID=Asia/Tokyo:20250330T055500
DTSTAMP:20260420T121357
CREATED:20240903T011804Z
LAST-MODIFIED:20240903T011804Z
UID:20319-1743312300-1743314100@chihirosound.com
SUMMARY:全国放送Radio「みすゞさんと明るいほうへ」
DESCRIPTION:💐Radio・ちひろレギュラー全国放送番組💐\n金子みすゞの詩の朗読・みすゞヒストリー・放送各地のおススメの〇〇・リスナーメッセージ等 \nちひろがお届けする ❤ 30分番組です♪ \n  \n●番組名：　『みすゞさんと明るいほうへ』　　番組ホームページはこちら \n●パーソナリティ：　ちひろ \n  \n●レギュラー放送時間：　 \n☆毎週水曜日 11：00～／FM-NANAKO、FM AQUA、COME ON！FM、しゅうなんFM \n　　　　　　 11：30～／FMはつかいち　　13：00～／FMスマイルウエ～ブ \n☆毎週土曜日 朝9：00～／FMわっしょい \n★毎週日曜日 朝5：25～／全国放送（全国のコミュニティFM） \n☆毎週月曜日 20：30～／ULTRA FM \n　　　　　　 21：30～／KOCOラジ＜郡山コミュニティ放送＞　 \n  \n●再放送：　FM-NANAKO／毎週土曜日 15：00～　　FM AQUA／毎週日曜日 11：00～ \n  \n●周波数：　JCBA（全国のコミュニティFM） \n●インターネットで聴く：　※全国どこでもインターネットでラジオが聴けるページです。 \n■JCBAインターネットサイマルラジオで聴く \n  \n中国地区の「COME ON! FM」  or  「しゅうなんFM」　の　「LISTEN♪」　をクリックしてください♪ \n■COME ON! FMをインターネットで聴く \n■FMはつかいちをインターネットで聴く \n■FMスマイルウエ～ブをインターネットで聴く \n■FMわっしょいをインターネットで聴く \n■ULTRA FMをインターネットで聴く \n  \n■サイマルラジオで聴く \n東北地区の「郡山コミュニティ放送」　の　「放送を聴く」　をクリックしてください♪ \n■KOCOラジ＜郡山コミュニティ放送＞をインターネットで聴く \n  \n●リクエスト＆メッセージ🎵：　番組フォーマット　or　misuzufm.0407@gmail.com \n 
URL:https://chihirosound.com/event/20319
LOCATION:山口県
CATEGORIES:オススメ,ラジオ
END:VEVENT
BEGIN:VEVENT
DTSTART;TZID=Asia/Tokyo:20250329T193000
DTEND;TZID=Asia/Tokyo:20250329T200000
DTSTAMP:20260420T121357
CREATED:20250311T013333Z
LAST-MODIFIED:20250321T094218Z
UID:22252-1743276600-1743278400@chihirosound.com
SUMMARY:Radio〔神奈川県 他〕
DESCRIPTION:【Title】Fm yokohamaに ちひろ番組出演＜第２週＞\n●と　き：　3月29日（土） \n●時　間：　19：30～20：00 \n●ラジオ局：　Fm yokohama \n●番　組：　『Sound Art Wave』 \n●パーソナリティ：　鈴木 聖奈 さん \n●メッセージ：　こちら \n●周波数：　こちら \n●放送エリア：　神奈川県及び東京都・千葉県全域・埼玉県・茨城県・静岡県・栃木県・群馬県・山梨県一部 \n●インターネットで聴く：　radiko.jp \n※全国どこでもインターネットでラジオが聴けるページです。 \n受信エリア外の方は有料会員「ラジコプレミアム」でお聴きいただけます♪
URL:https://chihirosound.com/event/22252
LOCATION:山口県
CATEGORIES:オススメ,ラジオ
END:VEVENT
BEGIN:VEVENT
DTSTART;TZID=Asia/Tokyo:20250326T155500
DTEND;TZID=Asia/Tokyo:20250326T164800
DTSTAMP:20260420T121357
CREATED:20250321T093226Z
LAST-MODIFIED:20250712T132036Z
UID:22309-1743004500-1743007680@chihirosound.com
SUMMARY:TV〔山口県〕
DESCRIPTION:【Title】yab山口朝日放送「YOU!どきっ」でちひろが紹介されます！\n  \n●と　き：　3月26日（水） \n●時　間：　15：55～ \n●テレビ局：　yab山口朝日放送 \n●番　組：　「YOU!どきっ」 \n●概　要：　作詞家「大津あきら」の詩『心めぐり』への作曲について特集！ \n  \n 
URL:https://chihirosound.com/event/22309
LOCATION:山口県
CATEGORIES:オススメ,テレビ
END:VEVENT
BEGIN:VEVENT
DTSTART;TZID=Asia/Tokyo:20250326T110000
DTEND;TZID=Asia/Tokyo:20250326T113000
DTSTAMP:20260420T121357
CREATED:20240903T014544Z
LAST-MODIFIED:20240903T014544Z
UID:20361-1742986800-1742988600@chihirosound.com
SUMMARY:Radio「みすゞさんと明るいほうへ」
DESCRIPTION:💐Radio・ちひろレギュラー全国放送番組💐\n金子みすゞの詩の朗読・みすゞヒストリー・放送各地のおススメの〇〇・リスナーメッセージ等 \nちひろがお届けする ❤ 30分番組です♪ \n  \n●番組名：　『みすゞさんと明るいほうへ』　　番組ホームページはこちら \n●パーソナリティ：　ちひろ \n  \n●レギュラー放送時間：　 \n☆毎週水曜日 11：00～／FM-NANAKO、FM AQUA、COME ON！FM、しゅうなんFM \n　　　　　　 11：30～／FMはつかいち　　13：00～／FMスマイルウエ～ブ \n☆毎週土曜日 朝9：00～／FMわっしょい \n★毎週日曜日 朝5：25～／全国放送（全国のコミュニティFM） \n☆毎週月曜日 20：30～／ULTRA FM \n　　　　　　 21：30～／KOCOラジ＜郡山コミュニティ放送＞　 \n  \n●再放送：　FM-NANAKO／毎週土曜日 15：00～　　FM AQUA／毎週日曜日 11：00～ \n  \n●周波数：　JCBA（全国のコミュニティFM） \n●インターネットで聴く：　※全国どこでもインターネットでラジオが聴けるページです。 \n■JCBAインターネットサイマルラジオで聴く \n  \n中国地区の「COME ON! FM」  or  「しゅうなんFM」　の　「LISTEN♪」　をクリックしてください♪ \n■COME ON! FMをインターネットで聴く \n■FMはつかいちをインターネットで聴く \n■FMスマイルウエ～ブをインターネットで聴く \n■FMわっしょいをインターネットで聴く \n■ULTRA FMをインターネットで聴く \n  \n■サイマルラジオで聴く \n東北地区の「郡山コミュニティ放送」　の　「放送を聴く」　をクリックしてください♪ \n■KOCOラジ＜郡山コミュニティ放送＞をインターネットで聴く \n  \n●リクエスト＆メッセージ🎵：　番組フォーマット　or　misuzufm.0407@gmail.com \n 
URL:https://chihirosound.com/event/20361
LOCATION:山口県
CATEGORIES:オススメ,ラジオ
END:VEVENT
BEGIN:VEVENT
DTSTART;TZID=Asia/Tokyo:20250323T143000
DTEND;TZID=Asia/Tokyo:20250323T150000
DTSTAMP:20260420T121357
CREATED:20240828T060000Z
LAST-MODIFIED:20241205T020743Z
UID:20253-1742740200-1742742000@chihirosound.com
SUMMARY:KRYラジオ「ちひろとみすゞTime」
DESCRIPTION:♠♣♥♦毎週日曜日放送のちひろレギュラー番組♠♣♥♦\n金子みすゞの詩・名言コーナー・コンサート情報など、内容盛り沢山の30分です♪ \n  \n●毎週日曜日：　14：30～ \n●パーソナリティ：　ちひろ \n  \n●ちひろとみすゞTime：　ホームページはこちら \n●周波数一覧 -KRY山口放送-：　こちら \n●パソコン・スマホでKRYラジオが聴ける：　radiko.jp \n  \n●ご意見・ご感想はこちら \nメール：cmt@kry.co.jp\nＦＡＸ：0834-32-9000\nハガキ：〒745-8686　山口放送「ちひろとみすゞTime」係 \nメッセージフォームはこちらから
URL:https://chihirosound.com/event/20253
LOCATION:山口県
CATEGORIES:オススメ,ラジオ
END:VEVENT
BEGIN:VEVENT
DTSTART;TZID=Asia/Tokyo:20250323T052500
DTEND;TZID=Asia/Tokyo:20250323T055500
DTSTAMP:20260420T121357
CREATED:20240903T011652Z
LAST-MODIFIED:20240903T011652Z
UID:20317-1742707500-1742709300@chihirosound.com
SUMMARY:全国放送Radio「みすゞさんと明るいほうへ」
DESCRIPTION:💐Radio・ちひろレギュラー全国放送番組💐\n金子みすゞの詩の朗読・みすゞヒストリー・放送各地のおススメの〇〇・リスナーメッセージ等 \nちひろがお届けする ❤ 30分番組です♪ \n  \n●番組名：　『みすゞさんと明るいほうへ』　　番組ホームページはこちら \n●パーソナリティ：　ちひろ \n  \n●レギュラー放送時間：　 \n☆毎週水曜日 11：00～／FM-NANAKO、FM AQUA、COME ON！FM、しゅうなんFM \n　　　　　　 11：30～／FMはつかいち　　13：00～／FMスマイルウエ～ブ \n☆毎週土曜日 朝9：00～／FMわっしょい \n★毎週日曜日 朝5：25～／全国放送（全国のコミュニティFM） \n☆毎週月曜日 20：30～／ULTRA FM \n　　　　　　 21：30～／KOCOラジ＜郡山コミュニティ放送＞　 \n  \n●再放送：　FM-NANAKO／毎週土曜日 15：00～　　FM AQUA／毎週日曜日 11：00～ \n  \n●周波数：　JCBA（全国のコミュニティFM） \n●インターネットで聴く：　※全国どこでもインターネットでラジオが聴けるページです。 \n■JCBAインターネットサイマルラジオで聴く \n  \n中国地区の「COME ON! FM」  or  「しゅうなんFM」　の　「LISTEN♪」　をクリックしてください♪ \n■COME ON! FMをインターネットで聴く \n■FMはつかいちをインターネットで聴く \n■FMスマイルウエ～ブをインターネットで聴く \n■FMわっしょいをインターネットで聴く \n■ULTRA FMをインターネットで聴く \n  \n■サイマルラジオで聴く \n東北地区の「郡山コミュニティ放送」　の　「放送を聴く」　をクリックしてください♪ \n■KOCOラジ＜郡山コミュニティ放送＞をインターネットで聴く \n  \n●リクエスト＆メッセージ🎵：　番組フォーマット　or　misuzufm.0407@gmail.com \n 
URL:https://chihirosound.com/event/20317
LOCATION:山口県
CATEGORIES:オススメ,ラジオ
END:VEVENT
BEGIN:VEVENT
DTSTART;TZID=Asia/Tokyo:20250322T193000
DTEND;TZID=Asia/Tokyo:20250322T200000
DTSTAMP:20260420T121357
CREATED:20250311T012914Z
LAST-MODIFIED:20250321T094257Z
UID:22243-1742671800-1742673600@chihirosound.com
SUMMARY:Radio〔神奈川県 他〕
DESCRIPTION:【Title】Fm yokohamaに ちひろ番組出演＜第１週＞\n●と　き：　3月22日（土） \n●時　間：　19：30～20：00 \n●ラジオ局：　Fm yokohama \n●番　組：　『Sound Art Wave』 \n●パーソナリティ：　鈴木 聖奈 さん \n●メッセージ：　こちら \n●周波数：　こちら \n●放送エリア：　神奈川県及び東京都・千葉県全域・埼玉県・茨城県・静岡県・栃木県・群馬県・山梨県一部 \n●インターネットで聴く：　radiko.jp \n※全国どこでもインターネットでラジオが聴けるページです。 \n受信エリア外の方は有料会員「ラジコプレミアム」でお聴きいただけます♪
URL:https://chihirosound.com/event/22243
LOCATION:山口県
CATEGORIES:オススメ,ラジオ
END:VEVENT
BEGIN:VEVENT
DTSTART;TZID=Asia/Tokyo:20250319T110000
DTEND;TZID=Asia/Tokyo:20250319T113000
DTSTAMP:20260420T121357
CREATED:20240903T014435Z
LAST-MODIFIED:20240903T014435Z
UID:20359-1742382000-1742383800@chihirosound.com
SUMMARY:Radio「みすゞさんと明るいほうへ」
DESCRIPTION:💐Radio・ちひろレギュラー全国放送番組💐\n金子みすゞの詩の朗読・みすゞヒストリー・放送各地のおススメの〇〇・リスナーメッセージ等 \nちひろがお届けする ❤ 30分番組です♪ \n  \n●番組名：　『みすゞさんと明るいほうへ』　　番組ホームページはこちら \n●パーソナリティ：　ちひろ \n  \n●レギュラー放送時間：　 \n☆毎週水曜日 11：00～／FM-NANAKO、FM AQUA、COME ON！FM、しゅうなんFM \n　　　　　　 11：30～／FMはつかいち　　13：00～／FMスマイルウエ～ブ \n☆毎週土曜日 朝9：00～／FMわっしょい \n★毎週日曜日 朝5：25～／全国放送（全国のコミュニティFM） \n☆毎週月曜日 20：30～／ULTRA FM \n　　　　　　 21：30～／KOCOラジ＜郡山コミュニティ放送＞　 \n  \n●再放送：　FM-NANAKO／毎週土曜日 15：00～　　FM AQUA／毎週日曜日 11：00～ \n  \n●周波数：　JCBA（全国のコミュニティFM） \n●インターネットで聴く：　※全国どこでもインターネットでラジオが聴けるページです。 \n■JCBAインターネットサイマルラジオで聴く \n  \n中国地区の「COME ON! FM」  or  「しゅうなんFM」　の　「LISTEN♪」　をクリックしてください♪ \n■COME ON! FMをインターネットで聴く \n■FMはつかいちをインターネットで聴く \n■FMスマイルウエ～ブをインターネットで聴く \n■FMわっしょいをインターネットで聴く \n■ULTRA FMをインターネットで聴く \n  \n■サイマルラジオで聴く \n東北地区の「郡山コミュニティ放送」　の　「放送を聴く」　をクリックしてください♪ \n■KOCOラジ＜郡山コミュニティ放送＞をインターネットで聴く \n  \n●リクエスト＆メッセージ🎵：　番組フォーマット　or　misuzufm.0407@gmail.com \n 
URL:https://chihirosound.com/event/20359
LOCATION:山口県
CATEGORIES:オススメ,ラジオ
END:VEVENT
BEGIN:VEVENT
DTSTART;TZID=Asia/Tokyo:20250316T133000
DTEND;TZID=Asia/Tokyo:20250316T140000
DTSTAMP:20260420T121357
CREATED:20240828T055854Z
LAST-MODIFIED:20250228T095332Z
UID:20251-1742131800-1742133600@chihirosound.com
SUMMARY:【時間変更】KRYラジオ「ちひろとみすゞTime」
DESCRIPTION:本日は、特別番組編成の為、\n「ちひろとみすゞTime」の放送時間が13：30～に変更となります。何卒ご了承くださいませ。\n♠♣♥♦毎週日曜日放送のちひろレギュラー番組♠♣♥♦\n金子みすゞの詩・名言コーナー・コンサート情報など、内容盛り沢山の30分です♪ \n  \n●本日のみ：　13：30～ \n●パーソナリティ：　ちひろ \n  \n●ちひろとみすゞTime：　ホームページはこちら \n●周波数一覧 -KRY山口放送-：　こちら \n●パソコン・スマホでKRYラジオが聴ける：　radiko.jp \n  \n●ご意見・ご感想はこちら \nメール：cmt@kry.co.jp\nＦＡＸ：0834-32-9000\nハガキ：〒745-8686　山口放送「ちひろとみすゞTime」係 \nメッセージフォームはこちらから
URL:https://chihirosound.com/event/20251
LOCATION:山口県
CATEGORIES:オススメ,ラジオ
END:VEVENT
BEGIN:VEVENT
DTSTART;TZID=Asia/Tokyo:20250316T052500
DTEND;TZID=Asia/Tokyo:20250316T055500
DTSTAMP:20260420T121357
CREATED:20240903T011521Z
LAST-MODIFIED:20240903T011521Z
UID:20315-1742102700-1742104500@chihirosound.com
SUMMARY:全国放送Radio「みすゞさんと明るいほうへ」
DESCRIPTION:💐Radio・ちひろレギュラー全国放送番組💐\n金子みすゞの詩の朗読・みすゞヒストリー・放送各地のおススメの〇〇・リスナーメッセージ等 \nちひろがお届けする ❤ 30分番組です♪ \n  \n●番組名：　『みすゞさんと明るいほうへ』　　番組ホームページはこちら \n●パーソナリティ：　ちひろ \n  \n●レギュラー放送時間：　 \n☆毎週水曜日 11：00～／FM-NANAKO、FM AQUA、COME ON！FM、しゅうなんFM \n　　　　　　 11：30～／FMはつかいち　　13：00～／FMスマイルウエ～ブ \n☆毎週土曜日 朝9：00～／FMわっしょい \n★毎週日曜日 朝5：25～／全国放送（全国のコミュニティFM） \n☆毎週月曜日 20：30～／ULTRA FM \n　　　　　　 21：30～／KOCOラジ＜郡山コミュニティ放送＞　 \n  \n●再放送：　FM-NANAKO／毎週土曜日 15：00～　　FM AQUA／毎週日曜日 11：00～ \n  \n●周波数：　JCBA（全国のコミュニティFM） \n●インターネットで聴く：　※全国どこでもインターネットでラジオが聴けるページです。 \n■JCBAインターネットサイマルラジオで聴く \n  \n中国地区の「COME ON! FM」  or  「しゅうなんFM」　の　「LISTEN♪」　をクリックしてください♪ \n■COME ON! FMをインターネットで聴く \n■FMはつかいちをインターネットで聴く \n■FMスマイルウエ～ブをインターネットで聴く \n■FMわっしょいをインターネットで聴く \n■ULTRA FMをインターネットで聴く \n  \n■サイマルラジオで聴く \n東北地区の「郡山コミュニティ放送」　の　「放送を聴く」　をクリックしてください♪ \n■KOCOラジ＜郡山コミュニティ放送＞をインターネットで聴く \n  \n●リクエスト＆メッセージ🎵：　番組フォーマット　or　misuzufm.0407@gmail.com \n 
URL:https://chihirosound.com/event/20315
LOCATION:山口県
CATEGORIES:オススメ,ラジオ
END:VEVENT
BEGIN:VEVENT
DTSTART;TZID=Asia/Tokyo:20250313T130000
DTEND;TZID=Asia/Tokyo:20250313T140000
DTSTAMP:20260420T121357
CREATED:20250213T055840Z
LAST-MODIFIED:20250213T055840Z
UID:21911-1741870800-1741874400@chihirosound.com
SUMMARY:Concert〔山口県〕
DESCRIPTION:【Title】ちひろコンサート　～ひとときを咲く～\n●と　き：　3月13日（木） \n●ところ：　本能寺 本堂（山口県岩国市岩国1丁目13-12） \n※会場の地図はこちら \n●時　間：　13：00～ \n●対　象：　お問合せください（電話／0827-41-0317） \n●主　催：　本能寺仏教婦人会「れんげかい」
URL:https://chihirosound.com/event/21911
LOCATION:本能寺\, 山口県岩国市岩国１丁目１３−１２\, 岩国市\, 山口県\, 741-0062\, Japan
CATEGORIES:オススメ,コンサート
END:VEVENT
BEGIN:VEVENT
DTSTART;TZID=Asia/Tokyo:20250312T110000
DTEND;TZID=Asia/Tokyo:20250312T113000
DTSTAMP:20260420T121357
CREATED:20240903T014342Z
LAST-MODIFIED:20240903T014342Z
UID:20357-1741777200-1741779000@chihirosound.com
SUMMARY:Radio「みすゞさんと明るいほうへ」
DESCRIPTION:💐Radio・ちひろレギュラー全国放送番組💐\n金子みすゞの詩の朗読・みすゞヒストリー・放送各地のおススメの〇〇・リスナーメッセージ等 \nちひろがお届けする ❤ 30分番組です♪ \n  \n●番組名：　『みすゞさんと明るいほうへ』　　番組ホームページはこちら \n●パーソナリティ：　ちひろ \n  \n●レギュラー放送時間：　 \n☆毎週水曜日 11：00～／FM-NANAKO、FM AQUA、COME ON！FM、しゅうなんFM \n　　　　　　 11：30～／FMはつかいち　　13：00～／FMスマイルウエ～ブ \n☆毎週土曜日 朝9：00～／FMわっしょい \n★毎週日曜日 朝5：25～／全国放送（全国のコミュニティFM） \n☆毎週月曜日 20：30～／ULTRA FM \n　　　　　　 21：30～／KOCOラジ＜郡山コミュニティ放送＞　 \n  \n●再放送：　FM-NANAKO／毎週土曜日 15：00～　　FM AQUA／毎週日曜日 11：00～ \n  \n●周波数：　JCBA（全国のコミュニティFM） \n●インターネットで聴く：　※全国どこでもインターネットでラジオが聴けるページです。 \n■JCBAインターネットサイマルラジオで聴く \n  \n中国地区の「COME ON! FM」  or  「しゅうなんFM」　の　「LISTEN♪」　をクリックしてください♪ \n■COME ON! FMをインターネットで聴く \n■FMはつかいちをインターネットで聴く \n■FMスマイルウエ～ブをインターネットで聴く \n■FMわっしょいをインターネットで聴く \n■ULTRA FMをインターネットで聴く \n  \n■サイマルラジオで聴く \n東北地区の「郡山コミュニティ放送」　の　「放送を聴く」　をクリックしてください♪ \n■KOCOラジ＜郡山コミュニティ放送＞をインターネットで聴く \n  \n●リクエスト＆メッセージ🎵：　番組フォーマット　or　misuzufm.0407@gmail.com \n 
URL:https://chihirosound.com/event/20357
LOCATION:山口県
CATEGORIES:オススメ,ラジオ
END:VEVENT
BEGIN:VEVENT
DTSTART;TZID=Asia/Tokyo:20250309T143000
DTEND;TZID=Asia/Tokyo:20250309T150000
DTSTAMP:20260420T121357
CREATED:20240828T055753Z
LAST-MODIFIED:20241205T020640Z
UID:20249-1741530600-1741532400@chihirosound.com
SUMMARY:KRYラジオ「ちひろとみすゞTime」
DESCRIPTION:♠♣♥♦毎週日曜日放送のちひろレギュラー番組♠♣♥♦\n金子みすゞの詩・名言コーナー・コンサート情報など、内容盛り沢山の30分です♪ \n  \n●毎週日曜日：　14：30～ \n●パーソナリティ：　ちひろ \n  \n●ちひろとみすゞTime：　ホームページはこちら \n●周波数一覧 -KRY山口放送-：　こちら \n●パソコン・スマホでKRYラジオが聴ける：　radiko.jp \n  \n●ご意見・ご感想はこちら \nメール：cmt@kry.co.jp\nＦＡＸ：0834-32-9000\nハガキ：〒745-8686　山口放送「ちひろとみすゞTime」係 \nメッセージフォームはこちらから
URL:https://chihirosound.com/event/20249
LOCATION:山口県
CATEGORIES:オススメ,ラジオ
END:VEVENT
BEGIN:VEVENT
DTSTART;TZID=Asia/Tokyo:20250309T052500
DTEND;TZID=Asia/Tokyo:20250309T055500
DTSTAMP:20260420T121357
CREATED:20240903T011416Z
LAST-MODIFIED:20240903T011416Z
UID:20313-1741497900-1741499700@chihirosound.com
SUMMARY:全国放送Radio「みすゞさんと明るいほうへ」
DESCRIPTION:💐Radio・ちひろレギュラー全国放送番組💐\n金子みすゞの詩の朗読・みすゞヒストリー・放送各地のおススメの〇〇・リスナーメッセージ等 \nちひろがお届けする ❤ 30分番組です♪ \n  \n●番組名：　『みすゞさんと明るいほうへ』　　番組ホームページはこちら \n●パーソナリティ：　ちひろ \n  \n●レギュラー放送時間：　 \n☆毎週水曜日 11：00～／FM-NANAKO、FM AQUA、COME ON！FM、しゅうなんFM \n　　　　　　 11：30～／FMはつかいち　　13：00～／FMスマイルウエ～ブ \n☆毎週土曜日 朝9：00～／FMわっしょい \n★毎週日曜日 朝5：25～／全国放送（全国のコミュニティFM） \n☆毎週月曜日 20：30～／ULTRA FM \n　　　　　　 21：30～／KOCOラジ＜郡山コミュニティ放送＞　 \n  \n●再放送：　FM-NANAKO／毎週土曜日 15：00～　　FM AQUA／毎週日曜日 11：00～ \n  \n●周波数：　JCBA（全国のコミュニティFM） \n●インターネットで聴く：　※全国どこでもインターネットでラジオが聴けるページです。 \n■JCBAインターネットサイマルラジオで聴く \n  \n中国地区の「COME ON! FM」  or  「しゅうなんFM」　の　「LISTEN♪」　をクリックしてください♪ \n■COME ON! FMをインターネットで聴く \n■FMはつかいちをインターネットで聴く \n■FMスマイルウエ～ブをインターネットで聴く \n■FMわっしょいをインターネットで聴く \n■ULTRA FMをインターネットで聴く \n  \n■サイマルラジオで聴く \n東北地区の「郡山コミュニティ放送」　の　「放送を聴く」　をクリックしてください♪ \n■KOCOラジ＜郡山コミュニティ放送＞をインターネットで聴く \n  \n●リクエスト＆メッセージ🎵：　番組フォーマット　or　misuzufm.0407@gmail.com \n 
URL:https://chihirosound.com/event/20313
LOCATION:山口県
CATEGORIES:オススメ,ラジオ
END:VEVENT
BEGIN:VEVENT
DTSTART;TZID=Asia/Tokyo:20250305T110000
DTEND;TZID=Asia/Tokyo:20250305T113000
DTSTAMP:20260420T121357
CREATED:20240903T014255Z
LAST-MODIFIED:20240903T014255Z
UID:20355-1741172400-1741174200@chihirosound.com
SUMMARY:Radio「みすゞさんと明るいほうへ」
DESCRIPTION:💐Radio・ちひろレギュラー全国放送番組💐\n金子みすゞの詩の朗読・みすゞヒストリー・放送各地のおススメの〇〇・リスナーメッセージ等 \nちひろがお届けする ❤ 30分番組です♪ \n  \n●番組名：　『みすゞさんと明るいほうへ』　　番組ホームページはこちら \n●パーソナリティ：　ちひろ \n  \n●レギュラー放送時間：　 \n☆毎週水曜日 11：00～／FM-NANAKO、FM AQUA、COME ON！FM、しゅうなんFM \n　　　　　　 11：30～／FMはつかいち　　13：00～／FMスマイルウエ～ブ \n☆毎週土曜日 朝9：00～／FMわっしょい \n★毎週日曜日 朝5：25～／全国放送（全国のコミュニティFM） \n☆毎週月曜日 20：30～／ULTRA FM \n　　　　　　 21：30～／KOCOラジ＜郡山コミュニティ放送＞　 \n  \n●再放送：　FM-NANAKO／毎週土曜日 15：00～　　FM AQUA／毎週日曜日 11：00～ \n  \n●周波数：　JCBA（全国のコミュニティFM） \n●インターネットで聴く：　※全国どこでもインターネットでラジオが聴けるページです。 \n■JCBAインターネットサイマルラジオで聴く \n  \n中国地区の「COME ON! FM」  or  「しゅうなんFM」　の　「LISTEN♪」　をクリックしてください♪ \n■COME ON! FMをインターネットで聴く \n■FMはつかいちをインターネットで聴く \n■FMスマイルウエ～ブをインターネットで聴く \n■FMわっしょいをインターネットで聴く \n■ULTRA FMをインターネットで聴く \n  \n■サイマルラジオで聴く \n東北地区の「郡山コミュニティ放送」　の　「放送を聴く」　をクリックしてください♪ \n■KOCOラジ＜郡山コミュニティ放送＞をインターネットで聴く \n  \n●リクエスト＆メッセージ🎵：　番組フォーマット　or　misuzufm.0407@gmail.com \n 
URL:https://chihirosound.com/event/20355
LOCATION:山口県
CATEGORIES:オススメ,ラジオ
END:VEVENT
BEGIN:VEVENT
DTSTART;TZID=Asia/Tokyo:20250303T190000
DTEND;TZID=Asia/Tokyo:20250304T140000
DTSTAMP:20260420T121357
CREATED:20250303T012413Z
LAST-MODIFIED:20250303T012413Z
UID:22063-1741028400-1741096800@chihirosound.com
SUMMARY:C-able TV〔山口県〕
DESCRIPTION:【Title】山口ケーブルビジョン「まちかどNEWS」にちひろスタジオ出演！\n  \n●と　き：　■3月3日（月）午後7：00／初回放送　～ 4日（火）午後2：00まで計6回の再放送 \n●時　間：　①午後7：00～　②午後8：00～　③午後11：00～　④翌日午前9：00～　⑤午前11：00～　⑥午後2：00～ \n  \n●放送局：　山口ケーブルビジョン \n●番　組：　「まちかどNEWS」 \n●キャスター：　 \n●概　要：　舞台「あゝ大津島 碧き海」東京公演についてお知らせいたします！ \n●ご視聴方法：　対象エリアの加入者（山口市・防府市・美祢市・宇部市）
URL:https://chihirosound.com/event/22063
LOCATION:山口県
CATEGORIES:オススメ,テレビ
ORGANIZER;CN="%E5%B1%B1%E5%8F%A3%E3%82%B1%E3%83%BC%E3%83%96%E3%83%AB%E3%83%93%E3%82%B8%E3%83%A7%E3%83%B3":MAILTO:news@c-able.co.jp
END:VEVENT
BEGIN:VEVENT
DTSTART;TZID=Asia/Tokyo:20250302T143000
DTEND;TZID=Asia/Tokyo:20250302T150000
DTSTAMP:20260420T121357
CREATED:20240828T055655Z
LAST-MODIFIED:20241205T020618Z
UID:20247-1740925800-1740927600@chihirosound.com
SUMMARY:KRYラジオ「ちひろとみすゞTime」
DESCRIPTION:♠♣♥♦毎週日曜日放送のちひろレギュラー番組♠♣♥♦\n金子みすゞの詩・名言コーナー・コンサート情報など、内容盛り沢山の30分です♪ \n  \n●毎週日曜日：　14：30～ \n●パーソナリティ：　ちひろ \n  \n●ちひろとみすゞTime：　ホームページはこちら \n●周波数一覧 -KRY山口放送-：　こちら \n●パソコン・スマホでKRYラジオが聴ける：　radiko.jp \n  \n●ご意見・ご感想はこちら \nメール：cmt@kry.co.jp\nＦＡＸ：0834-32-9000\nハガキ：〒745-8686　山口放送「ちひろとみすゞTime」係 \nメッセージフォームはこちらから
URL:https://chihirosound.com/event/20247
LOCATION:山口県
CATEGORIES:オススメ,ラジオ
END:VEVENT
BEGIN:VEVENT
DTSTART;TZID=Asia/Tokyo:20250302T052500
DTEND;TZID=Asia/Tokyo:20250302T055500
DTSTAMP:20260420T121357
CREATED:20240903T011243Z
LAST-MODIFIED:20240903T011243Z
UID:20311-1740893100-1740894900@chihirosound.com
SUMMARY:全国放送Radio「みすゞさんと明るいほうへ」
DESCRIPTION:💐Radio・ちひろレギュラー全国放送番組💐\n金子みすゞの詩の朗読・みすゞヒストリー・放送各地のおススメの〇〇・リスナーメッセージ等 \nちひろがお届けする ❤ 30分番組です♪ \n  \n●番組名：　『みすゞさんと明るいほうへ』　　番組ホームページはこちら \n●パーソナリティ：　ちひろ \n  \n●レギュラー放送時間：　 \n☆毎週水曜日 11：00～／FM-NANAKO、FM AQUA、COME ON！FM、しゅうなんFM \n　　　　　　 11：30～／FMはつかいち　　13：00～／FMスマイルウエ～ブ \n☆毎週土曜日 朝9：00～／FMわっしょい \n★毎週日曜日 朝5：25～／全国放送（全国のコミュニティFM） \n☆毎週月曜日 20：30～／ULTRA FM \n　　　　　　 21：30～／KOCOラジ＜郡山コミュニティ放送＞　 \n  \n●再放送：　FM-NANAKO／毎週土曜日 15：00～　　FM AQUA／毎週日曜日 11：00～ \n  \n●周波数：　JCBA（全国のコミュニティFM） \n●インターネットで聴く：　※全国どこでもインターネットでラジオが聴けるページです。 \n■JCBAインターネットサイマルラジオで聴く \n  \n中国地区の「COME ON! FM」  or  「しゅうなんFM」　の　「LISTEN♪」　をクリックしてください♪ \n■COME ON! FMをインターネットで聴く \n■FMはつかいちをインターネットで聴く \n■FMスマイルウエ～ブをインターネットで聴く \n■FMわっしょいをインターネットで聴く \n■ULTRA FMをインターネットで聴く \n  \n■サイマルラジオで聴く \n東北地区の「郡山コミュニティ放送」　の　「放送を聴く」　をクリックしてください♪ \n■KOCOラジ＜郡山コミュニティ放送＞をインターネットで聴く \n  \n●リクエスト＆メッセージ🎵：　番組フォーマット　or　misuzufm.0407@gmail.com \n 
URL:https://chihirosound.com/event/20311
LOCATION:山口県
CATEGORIES:オススメ,ラジオ
END:VEVENT
BEGIN:VEVENT
DTSTART;TZID=Asia/Tokyo:20250228T103000
DTEND;TZID=Asia/Tokyo:20250228T113000
DTSTAMP:20260420T121357
CREATED:20250225T021222Z
LAST-MODIFIED:20250225T152132Z
UID:21963-1740738600-1740742200@chihirosound.com
SUMMARY:TV〔山口県〕
DESCRIPTION:【Title】yab山口朝日放送「ふるさとの歌～仙崎が生んだ作詞家・大津あきら」\n  \n●と　き：　2月28日（金） \n●時　間：　あさ10：30～ \n●放送局：　yab山口朝日放送 \n●番　組：　ドキュメントｙ「ふるさとの歌　仙崎が生んだ作詞家・大津あきら」 \n●ナレーション：　ちひろ \n※高橋真梨子さんの「for you...」や徳永英明さんの「輝きながら」など数々の名曲を手掛けた、長門市仙崎出身の作詞家、大津あきらさん。私達にどんなメッセージを伝えようとしたのか。大津さんの詞の世界を読み解き、歌う。 \nそして番組ではテレビ初公開となる”ある曲”をちひろが熱唱する。 \n 
URL:https://chihirosound.com/event/21963
LOCATION:山口県
CATEGORIES:オススメ,テレビ
END:VEVENT
BEGIN:VEVENT
DTSTART;TZID=Asia/Tokyo:20250226T110000
DTEND;TZID=Asia/Tokyo:20250226T113000
DTSTAMP:20260420T121357
CREATED:20240903T014200Z
LAST-MODIFIED:20240903T014200Z
UID:20353-1740567600-1740569400@chihirosound.com
SUMMARY:Radio「みすゞさんと明るいほうへ」
DESCRIPTION:💐Radio・ちひろレギュラー全国放送番組💐\n金子みすゞの詩の朗読・みすゞヒストリー・放送各地のおススメの〇〇・リスナーメッセージ等 \nちひろがお届けする ❤ 30分番組です♪ \n  \n●番組名：　『みすゞさんと明るいほうへ』　　番組ホームページはこちら \n●パーソナリティ：　ちひろ \n  \n●レギュラー放送時間：　 \n☆毎週水曜日 11：00～／FM-NANAKO、FM AQUA、COME ON！FM、しゅうなんFM \n　　　　　　 11：30～／FMはつかいち　　13：00～／FMスマイルウエ～ブ \n☆毎週土曜日 朝9：00～／FMわっしょい \n★毎週日曜日 朝5：25～／全国放送（全国のコミュニティFM） \n☆毎週月曜日 20：30～／ULTRA FM \n　　　　　　 21：30～／KOCOラジ＜郡山コミュニティ放送＞　 \n  \n●再放送：　FM-NANAKO／毎週土曜日 15：00～　　FM AQUA／毎週日曜日 11：00～ \n  \n●周波数：　JCBA（全国のコミュニティFM） \n●インターネットで聴く：　※全国どこでもインターネットでラジオが聴けるページです。 \n■JCBAインターネットサイマルラジオで聴く \n  \n中国地区の「COME ON! FM」  or  「しゅうなんFM」　の　「LISTEN♪」　をクリックしてください♪ \n■COME ON! FMをインターネットで聴く \n■FMはつかいちをインターネットで聴く \n■FMスマイルウエ～ブをインターネットで聴く \n■FMわっしょいをインターネットで聴く \n■ULTRA FMをインターネットで聴く \n  \n■サイマルラジオで聴く \n東北地区の「郡山コミュニティ放送」　の　「放送を聴く」　をクリックしてください♪ \n■KOCOラジ＜郡山コミュニティ放送＞をインターネットで聴く \n  \n●リクエスト＆メッセージ🎵：　番組フォーマット　or　misuzufm.0407@gmail.com \n 
URL:https://chihirosound.com/event/20353
LOCATION:山口県
CATEGORIES:オススメ,ラジオ
END:VEVENT
BEGIN:VEVENT
DTSTART;TZID=Asia/Tokyo:20250224T140000
DTEND;TZID=Asia/Tokyo:20250224T143000
DTSTAMP:20260420T121357
CREATED:20250209T125456Z
LAST-MODIFIED:20250501T061953Z
UID:21843-1740405600-1740407400@chihirosound.com
SUMMARY:Stage〔東京都渋谷区〕
DESCRIPTION:【Title】SAKANA & JAPAN FESTIVAL2025 \n魚ジャパンフェス  in 代々木公園　 \n【同時開催】ふくしまスイーツフェスティバル\n  \n●と　き：　2月24日（月） \n●ところ：　代々木公園（東京都渋谷区代々木神園町2-1） \n※会場の地図はこちら \n●時　間：　10：00～18：00 ※雨天決行・荒天中止 \n　　　  　 　14：00～／ちひろステージ　　※詳しい出演スケジュールはこちら \n●対　象：　どなたでもOK \n●入場料：　無料 \n●主　催：　SAKANA&JAPAN FESTIVAL実行委員会 \nPDFはこちら \n \n  \n \n 
URL:https://chihirosound.com/event/21843
LOCATION:代々木公園\, 東京都渋谷区代々木神園町２−１\, 渋谷区\, 東京都\, 151-0052\, 日本
CATEGORIES:オススメ,コンサート
ATTACH;FMTTYPE=image/jpeg:https://chihirosound.com/wp-content/uploads/2025/02/745334b27d9dfe25fce93c90c11db093.jpg
END:VEVENT
BEGIN:VEVENT
DTSTART;TZID=Asia/Tokyo:20250223T143000
DTEND;TZID=Asia/Tokyo:20250223T150000
DTSTAMP:20260420T121357
CREATED:20240828T055534Z
LAST-MODIFIED:20241205T020545Z
UID:20245-1740321000-1740322800@chihirosound.com
SUMMARY:KRYラジオ「ちひろとみすゞTime」
DESCRIPTION:♠♣♥♦毎週日曜日放送のちひろレギュラー番組♠♣♥♦\n金子みすゞの詩・名言コーナー・コンサート情報など、内容盛り沢山の30分です♪ \n  \n●毎週日曜日：　14：30～ \n●パーソナリティ：　ちひろ \n  \n●ちひろとみすゞTime：　ホームページはこちら \n●周波数一覧 -KRY山口放送-：　こちら \n●パソコン・スマホでKRYラジオが聴ける：　radiko.jp \n  \n●ご意見・ご感想はこちら \nメール：cmt@kry.co.jp\nＦＡＸ：0834-32-9000\nハガキ：〒745-8686　山口放送「ちひろとみすゞTime」係 \nメッセージフォームはこちらから
URL:https://chihirosound.com/event/20245
LOCATION:山口県
CATEGORIES:オススメ,ラジオ
END:VEVENT
BEGIN:VEVENT
DTSTART;TZID=Asia/Tokyo:20250223T052500
DTEND;TZID=Asia/Tokyo:20250223T055500
DTSTAMP:20260420T121357
CREATED:20240903T011145Z
LAST-MODIFIED:20240903T011145Z
UID:20309-1740288300-1740290100@chihirosound.com
SUMMARY:全国放送Radio「みすゞさんと明るいほうへ」
DESCRIPTION:💐Radio・ちひろレギュラー全国放送番組💐\n金子みすゞの詩の朗読・みすゞヒストリー・放送各地のおススメの〇〇・リスナーメッセージ等 \nちひろがお届けする ❤ 30分番組です♪ \n  \n●番組名：　『みすゞさんと明るいほうへ』　　番組ホームページはこちら \n●パーソナリティ：　ちひろ \n  \n●レギュラー放送時間：　 \n☆毎週水曜日 11：00～／FM-NANAKO、FM AQUA、COME ON！FM、しゅうなんFM \n　　　　　　 11：30～／FMはつかいち　　13：00～／FMスマイルウエ～ブ \n☆毎週土曜日 朝9：00～／FMわっしょい \n★毎週日曜日 朝5：25～／全国放送（全国のコミュニティFM） \n☆毎週月曜日 20：30～／ULTRA FM \n　　　　　　 21：30～／KOCOラジ＜郡山コミュニティ放送＞　 \n  \n●再放送：　FM-NANAKO／毎週土曜日 15：00～　　FM AQUA／毎週日曜日 11：00～ \n  \n●周波数：　JCBA（全国のコミュニティFM） \n●インターネットで聴く：　※全国どこでもインターネットでラジオが聴けるページです。 \n■JCBAインターネットサイマルラジオで聴く \n  \n中国地区の「COME ON! FM」  or  「しゅうなんFM」　の　「LISTEN♪」　をクリックしてください♪ \n■COME ON! FMをインターネットで聴く \n■FMはつかいちをインターネットで聴く \n■FMスマイルウエ～ブをインターネットで聴く \n■FMわっしょいをインターネットで聴く \n■ULTRA FMをインターネットで聴く \n  \n■サイマルラジオで聴く \n東北地区の「郡山コミュニティ放送」　の　「放送を聴く」　をクリックしてください♪ \n■KOCOラジ＜郡山コミュニティ放送＞をインターネットで聴く \n  \n●リクエスト＆メッセージ🎵：　番組フォーマット　or　misuzufm.0407@gmail.com \n 
URL:https://chihirosound.com/event/20309
LOCATION:山口県
CATEGORIES:オススメ,ラジオ
END:VEVENT
BEGIN:VEVENT
DTSTART;TZID=Asia/Tokyo:20250221T103500
DTEND;TZID=Asia/Tokyo:20250221T112000
DTSTAMP:20260420T121357
CREATED:20250210T070121Z
LAST-MODIFIED:20250212T014259Z
UID:21865-1740134100-1740136800@chihirosound.com
SUMMARY:Concert〔山口県〕
DESCRIPTION:【Title】ちひろコンサート＆矢崎節夫先生とこだま集会\n●と　き：　2月21日（金） \n●ところ：　長門市立仙崎小学校　体育館（山口県長門市仙崎新屋敷町1237） \n※会場の地図はこちら \n●時　間：　10：35～11：20 \n●対　象：　児童・教職員・地域・関係者・一般　どなたでもOK \n　※一般ご来場者のお車はグラウンドにお停めください \n●主　催：　長門市立仙崎小学校
URL:https://chihirosound.com/event/21865
LOCATION:長門市立仙崎小学校\, 山口県長門市仙崎新屋敷町１２３７\, 長門市\, 山口県\, 7594106\, 日本
CATEGORIES:オススメ,コンサート
ATTACH;FMTTYPE=image/png:https://chihirosound.com/wp-content/uploads/2025/02/5d41b63b750c2d16f21a13ca7c1e5cfe.png
END:VEVENT
BEGIN:VEVENT
DTSTART;TZID=Asia/Tokyo:20250219T110000
DTEND;TZID=Asia/Tokyo:20250219T113000
DTSTAMP:20260420T121357
CREATED:20240903T014102Z
LAST-MODIFIED:20240903T014102Z
UID:20351-1739962800-1739964600@chihirosound.com
SUMMARY:Radio「みすゞさんと明るいほうへ」
DESCRIPTION:💐Radio・ちひろレギュラー全国放送番組💐\n金子みすゞの詩の朗読・みすゞヒストリー・放送各地のおススメの〇〇・リスナーメッセージ等 \nちひろがお届けする ❤ 30分番組です♪ \n  \n●番組名：　『みすゞさんと明るいほうへ』　　番組ホームページはこちら \n●パーソナリティ：　ちひろ \n  \n●レギュラー放送時間：　 \n☆毎週水曜日 11：00～／FM-NANAKO、FM AQUA、COME ON！FM、しゅうなんFM \n　　　　　　 11：30～／FMはつかいち　　13：00～／FMスマイルウエ～ブ \n☆毎週土曜日 朝9：00～／FMわっしょい \n★毎週日曜日 朝5：25～／全国放送（全国のコミュニティFM） \n☆毎週月曜日 20：30～／ULTRA FM \n　　　　　　 21：30～／KOCOラジ＜郡山コミュニティ放送＞　 \n  \n●再放送：　FM-NANAKO／毎週土曜日 15：00～　　FM AQUA／毎週日曜日 11：00～ \n  \n●周波数：　JCBA（全国のコミュニティFM） \n●インターネットで聴く：　※全国どこでもインターネットでラジオが聴けるページです。 \n■JCBAインターネットサイマルラジオで聴く \n  \n中国地区の「COME ON! FM」  or  「しゅうなんFM」　の　「LISTEN♪」　をクリックしてください♪ \n■COME ON! FMをインターネットで聴く \n■FMはつかいちをインターネットで聴く \n■FMスマイルウエ～ブをインターネットで聴く \n■FMわっしょいをインターネットで聴く \n■ULTRA FMをインターネットで聴く \n  \n■サイマルラジオで聴く \n東北地区の「郡山コミュニティ放送」　の　「放送を聴く」　をクリックしてください♪ \n■KOCOラジ＜郡山コミュニティ放送＞をインターネットで聴く \n  \n●リクエスト＆メッセージ🎵：　番組フォーマット　or　misuzufm.0407@gmail.com \n 
URL:https://chihirosound.com/event/20351
LOCATION:山口県
CATEGORIES:オススメ,ラジオ
END:VEVENT
BEGIN:VEVENT
DTSTART;TZID=Asia/Tokyo:20250216T143000
DTEND;TZID=Asia/Tokyo:20250216T150000
DTSTAMP:20260420T121357
CREATED:20240828T055432Z
LAST-MODIFIED:20241205T020437Z
UID:20243-1739716200-1739718000@chihirosound.com
SUMMARY:KRYラジオ「ちひろとみすゞTime」
DESCRIPTION:♠♣♥♦毎週日曜日放送のちひろレギュラー番組♠♣♥♦\n金子みすゞの詩・名言コーナー・コンサート情報など、内容盛り沢山の30分です♪ \n  \n●毎週日曜日：　14：30～ \n●パーソナリティ：　ちひろ \n  \n●ちひろとみすゞTime：　ホームページはこちら \n●周波数一覧 -KRY山口放送-：　こちら \n●パソコン・スマホでKRYラジオが聴ける：　radiko.jp \n  \n●ご意見・ご感想はこちら \nメール：cmt@kry.co.jp\nＦＡＸ：0834-32-9000\nハガキ：〒745-8686　山口放送「ちひろとみすゞTime」係 \nメッセージフォームはこちらから
URL:https://chihirosound.com/event/20243
LOCATION:山口県
CATEGORIES:オススメ,ラジオ
END:VEVENT
BEGIN:VEVENT
DTSTART;TZID=Asia/Tokyo:20250216T102000
DTEND;TZID=Asia/Tokyo:20250216T115500
DTSTAMP:20260420T121357
CREATED:20241018T024151Z
LAST-MODIFIED:20250120T071512Z
UID:20873-1739701200-1739706900@chihirosound.com
SUMMARY:Concert〔山口県〕
DESCRIPTION:【Title】「令和6年度　第47回小野地区人権教育推進大会」ちひろコンサート\nみんなちがって、みんないい生き方を ～金子みすゞの心とともに～\n●と　き：　2月16日（日） \n●ところ：　小野ふれあいセンター 2F 講堂（山口県宇部市小野8294−4） \n※会場の地図はこちら \n●時　間：　9：00／受付　　9：30／オープニング　　10：20～／ちひろコンサート \n●対　象：　地域・関係者・一般　どなたでもOK \n●主　催：　小野地区人権教育推進委員協議会 \n 
URL:https://chihirosound.com/event/20873
LOCATION:小野ふれあいセンター\, 山口県宇部市小野８２９４−４\, 宇部市\, 山口県\, 754-1311\, 日本
CATEGORIES:オススメ,コンサート
END:VEVENT
BEGIN:VEVENT
DTSTART;TZID=Asia/Tokyo:20250216T052500
DTEND;TZID=Asia/Tokyo:20250216T055500
DTSTAMP:20260420T121357
CREATED:20240903T011044Z
LAST-MODIFIED:20240903T011044Z
UID:20307-1739683500-1739685300@chihirosound.com
SUMMARY:全国放送Radio「みすゞさんと明るいほうへ」
DESCRIPTION:💐Radio・ちひろレギュラー全国放送番組💐\n金子みすゞの詩の朗読・みすゞヒストリー・放送各地のおススメの〇〇・リスナーメッセージ等 \nちひろがお届けする ❤ 30分番組です♪ \n  \n●番組名：　『みすゞさんと明るいほうへ』　　番組ホームページはこちら \n●パーソナリティ：　ちひろ \n  \n●レギュラー放送時間：　 \n☆毎週水曜日 11：00～／FM-NANAKO、FM AQUA、COME ON！FM、しゅうなんFM \n　　　　　　 11：30～／FMはつかいち　　13：00～／FMスマイルウエ～ブ \n☆毎週土曜日 朝9：00～／FMわっしょい \n★毎週日曜日 朝5：25～／全国放送（全国のコミュニティFM） \n☆毎週月曜日 20：30～／ULTRA FM \n　　　　　　 21：30～／KOCOラジ＜郡山コミュニティ放送＞　 \n  \n●再放送：　FM-NANAKO／毎週土曜日 15：00～　　FM AQUA／毎週日曜日 11：00～ \n  \n●周波数：　JCBA（全国のコミュニティFM） \n●インターネットで聴く：　※全国どこでもインターネットでラジオが聴けるページです。 \n■JCBAインターネットサイマルラジオで聴く \n  \n中国地区の「COME ON! FM」  or  「しゅうなんFM」　の　「LISTEN♪」　をクリックしてください♪ \n■COME ON! FMをインターネットで聴く \n■FMはつかいちをインターネットで聴く \n■FMスマイルウエ～ブをインターネットで聴く \n■FMわっしょいをインターネットで聴く \n■ULTRA FMをインターネットで聴く \n  \n■サイマルラジオで聴く \n東北地区の「郡山コミュニティ放送」　の　「放送を聴く」　をクリックしてください♪ \n■KOCOラジ＜郡山コミュニティ放送＞をインターネットで聴く \n  \n●リクエスト＆メッセージ🎵：　番組フォーマット　or　misuzufm.0407@gmail.com \n 
URL:https://chihirosound.com/event/20307
LOCATION:山口県
CATEGORIES:オススメ,ラジオ
END:VEVENT
BEGIN:VEVENT
DTSTART;TZID=Asia/Tokyo:20250212T110000
DTEND;TZID=Asia/Tokyo:20250212T113000
DTSTAMP:20260420T121357
CREATED:20240903T013951Z
LAST-MODIFIED:20240903T013951Z
UID:20349-1739358000-1739359800@chihirosound.com
SUMMARY:Radio「みすゞさんと明るいほうへ」
DESCRIPTION:💐Radio・ちひろレギュラー全国放送番組💐\n金子みすゞの詩の朗読・みすゞヒストリー・放送各地のおススメの〇〇・リスナーメッセージ等 \nちひろがお届けする ❤ 30分番組です♪ \n  \n●番組名：　『みすゞさんと明るいほうへ』　　番組ホームページはこちら \n●パーソナリティ：　ちひろ \n  \n●レギュラー放送時間：　 \n☆毎週水曜日 11：00～／FM-NANAKO、FM AQUA、COME ON！FM、しゅうなんFM \n　　　　　　 11：30～／FMはつかいち　　13：00～／FMスマイルウエ～ブ \n☆毎週土曜日 朝9：00～／FMわっしょい \n★毎週日曜日 朝5：25～／全国放送（全国のコミュニティFM） \n☆毎週月曜日 20：30～／ULTRA FM \n　　　　　　 21：30～／KOCOラジ＜郡山コミュニティ放送＞　 \n  \n●再放送：　FM-NANAKO／毎週土曜日 15：00～　　FM AQUA／毎週日曜日 11：00～ \n  \n●周波数：　JCBA（全国のコミュニティFM） \n●インターネットで聴く：　※全国どこでもインターネットでラジオが聴けるページです。 \n■JCBAインターネットサイマルラジオで聴く \n  \n中国地区の「COME ON! FM」  or  「しゅうなんFM」　の　「LISTEN♪」　をクリックしてください♪ \n■COME ON! FMをインターネットで聴く \n■FMはつかいちをインターネットで聴く \n■FMスマイルウエ～ブをインターネットで聴く \n■FMわっしょいをインターネットで聴く \n■ULTRA FMをインターネットで聴く \n  \n■サイマルラジオで聴く \n東北地区の「郡山コミュニティ放送」　の　「放送を聴く」　をクリックしてください♪ \n■KOCOラジ＜郡山コミュニティ放送＞をインターネットで聴く \n  \n●リクエスト＆メッセージ🎵：　番組フォーマット　or　misuzufm.0407@gmail.com \n 
URL:https://chihirosound.com/event/20349
LOCATION:山口県
CATEGORIES:オススメ,ラジオ
END:VEVENT
BEGIN:VEVENT
DTSTART;TZID=Asia/Tokyo:20250209T143000
DTEND;TZID=Asia/Tokyo:20250209T150000
DTSTAMP:20260420T121357
CREATED:20240828T055319Z
LAST-MODIFIED:20241205T020418Z
UID:20241-1739111400-1739113200@chihirosound.com
SUMMARY:KRYラジオ「ちひろとみすゞTime」
DESCRIPTION:♠♣♥♦毎週日曜日放送のちひろレギュラー番組♠♣♥♦\n金子みすゞの詩・名言コーナー・コンサート情報など、内容盛り沢山の30分です♪ \n  \n●毎週日曜日：　14：30～ \n●パーソナリティ：　ちひろ \n  \n●ちひろとみすゞTime：　ホームページはこちら \n●周波数一覧 -KRY山口放送-：　こちら \n●パソコン・スマホでKRYラジオが聴ける：　radiko.jp \n  \n●ご意見・ご感想はこちら \nメール：cmt@kry.co.jp\nＦＡＸ：0834-32-9000\nハガキ：〒745-8686　山口放送「ちひろとみすゞTime」係 \nメッセージフォームはこちらから
URL:https://chihirosound.com/event/20241
LOCATION:山口県
CATEGORIES:オススメ,ラジオ
END:VEVENT
END:VCALENDAR